| Back to Build/check report for BioC 3.13 experimental data | 
 | 
This page was generated on 2021-10-16 15:58:39 -0400 (Sat, 16 Oct 2021).
| To the developers/maintainers of the alpineData package: Make sure to use the following settings in order to reproduce any error or warning you see on this page. | 
| Package 13/406 | Hostname | OS / Arch | INSTALL | BUILD | CHECK | ||||||||
| alpineData 1.18.0  (landing page) Michael Love 
 | malbec2 | Linux (Ubuntu 20.04.2 LTS) / x86_64 | OK | OK | OK |  | |||||||
| Package: alpineData | 
| Version: 1.18.0 | 
| Command: /home/biocbuild/bbs-3.13-bioc/R/bin/R CMD INSTALL alpineData | 
| StartedAt: 2021-10-16 11:14:49 -0400 (Sat, 16 Oct 2021) | 
| EndedAt: 2021-10-16 11:15:13 -0400 (Sat, 16 Oct 2021) | 
| EllapsedTime: 24.7 seconds | 
| RetCode: 0 | 
| Status: OK | 
############################################################################## ############################################################################## ### ### Running command: ### ### /home/biocbuild/bbs-3.13-bioc/R/bin/R CMD INSTALL alpineData ### ############################################################################## ############################################################################## * installing to library ‘/home/biocbuild/bbs-3.13-bioc/R/library’ * installing *source* package ‘alpineData’ ... ** using staged installation ** R ** inst ** byte-compile and prepare package for lazy loading ** help *** installing help indices ** building package indices ** installing vignettes ** testing if installed package can be loaded from temporary location ** testing if installed package can be loaded from final location ** testing if installed package keeps a record of temporary installation path * DONE (alpineData)