| Back to Build/check report for BioC 3.13 experimental data | 
 | 
This page was generated on 2021-10-16 15:58:39 -0400 (Sat, 16 Oct 2021).
| To the developers/maintainers of the celarefData package: Make sure to use the following settings in order to reproduce any error or warning you see on this page. | 
| Package 51/406 | Hostname | OS / Arch | INSTALL | BUILD | CHECK | ||||||||
| celarefData 1.10.0  (landing page) Sarah Williams 
 | malbec2 | Linux (Ubuntu 20.04.2 LTS) / x86_64 | OK | OK | OK |  | |||||||
| Package: celarefData | 
| Version: 1.10.0 | 
| Command: /home/biocbuild/bbs-3.13-bioc/R/bin/R CMD INSTALL celarefData | 
| StartedAt: 2021-10-16 11:07:54 -0400 (Sat, 16 Oct 2021) | 
| EndedAt: 2021-10-16 11:07:56 -0400 (Sat, 16 Oct 2021) | 
| EllapsedTime: 2.0 seconds | 
| RetCode: 0 | 
| Status: OK | 
############################################################################## ############################################################################## ### ### Running command: ### ### /home/biocbuild/bbs-3.13-bioc/R/bin/R CMD INSTALL celarefData ### ############################################################################## ############################################################################## * installing to library ‘/home/biocbuild/bbs-3.13-bioc/R/library’ * installing *source* package ‘celarefData’ ... ** using staged installation ** inst ** help No man pages found in package ‘celarefData’ *** installing help indices ** building package indices ** installing vignettes ** testing if installed package can be loaded from temporary location ** testing if installed package can be loaded from final location ** testing if installed package keeps a record of temporary installation path * DONE (celarefData)