| Back to Build/check report for BioC 3.13 experimental data |
|
This page was generated on 2021-10-16 15:58:39 -0400 (Sat, 16 Oct 2021).
|
To the developers/maintainers of the ceu1kgv package: Make sure to use the following settings in order to reproduce any error or warning you see on this page. |
| Package 55/406 | Hostname | OS / Arch | INSTALL | BUILD | CHECK | ||||||||
VJ Carey
| malbec2 | Linux (Ubuntu 20.04.2 LTS) / x86_64 | ERROR | ERROR | skipped | ||||||||
| Package: ceu1kgv |
| Version: 0.34.0 |
| Command: /home/biocbuild/bbs-3.13-bioc/R/bin/R CMD build --keep-empty-dirs --no-resave-data ceu1kgv |
| StartedAt: 2021-10-16 11:35:23 -0400 (Sat, 16 Oct 2021) |
| EndedAt: 2021-10-16 11:35:26 -0400 (Sat, 16 Oct 2021) |
| EllapsedTime: 3.3 seconds |
| RetCode: 1 |
| Status: ERROR |
| PackageFile: None |
| PackageFileSize: NA |
##############################################################################
##############################################################################
###
### Running command:
###
### /home/biocbuild/bbs-3.13-bioc/R/bin/R CMD build --keep-empty-dirs --no-resave-data ceu1kgv
###
##############################################################################
##############################################################################
* checking for file ‘ceu1kgv/DESCRIPTION’ ... OK
* preparing ‘ceu1kgv’:
* checking DESCRIPTION meta-information ... OK
* installing the package to build vignettes
-----------------------------------
ERROR: dependency ‘GGBase’ is not available for package ‘ceu1kgv’
* removing ‘/tmp/RtmpaUnRgY/Rinst13d1350183bf8/ceu1kgv’
-----------------------------------
ERROR: package installation failed