| Back to Build/check report for BioC 3.13 experimental data |
|
This page was generated on 2021-10-16 15:58:39 -0400 (Sat, 16 Oct 2021).
|
To the developers/maintainers of the cgdv17 package: Make sure to use the following settings in order to reproduce any error or warning you see on this page. |
| Package 57/406 | Hostname | OS / Arch | INSTALL | BUILD | CHECK | ||||||||
VJ Carey
| malbec2 | Linux (Ubuntu 20.04.2 LTS) / x86_64 | OK | ERROR | skipped | ||||||||
| Package: cgdv17 |
| Version: 0.30.0 |
| Command: /home/biocbuild/bbs-3.13-bioc/R/bin/R CMD INSTALL cgdv17 |
| StartedAt: 2021-10-16 11:19:01 -0400 (Sat, 16 Oct 2021) |
| EndedAt: 2021-10-16 11:19:37 -0400 (Sat, 16 Oct 2021) |
| EllapsedTime: 35.9 seconds |
| RetCode: 0 |
| Status: OK |
############################################################################## ############################################################################## ### ### Running command: ### ### /home/biocbuild/bbs-3.13-bioc/R/bin/R CMD INSTALL cgdv17 ### ############################################################################## ############################################################################## * installing to library ‘/home/biocbuild/bbs-3.13-bioc/R/library’ * installing *source* package ‘cgdv17’ ... ** using staged installation ** R ** data ** inst ** byte-compile and prepare package for lazy loading ** help *** installing help indices ** building package indices ** installing vignettes ** testing if installed package can be loaded from temporary location Warning: Package 'cgdv17' is deprecated and will be removed from Bioconductor version 3.14 ** testing if installed package can be loaded from final location Warning: Package 'cgdv17' is deprecated and will be removed from Bioconductor version 3.14 ** testing if installed package keeps a record of temporary installation path * DONE (cgdv17)