| Back to Build/check report for BioC 3.13 experimental data |
|
This page was generated on 2021-10-16 15:58:40 -0400 (Sat, 16 Oct 2021).
|
To the developers/maintainers of the dsQTL package: Make sure to use the following settings in order to reproduce any error or warning you see on this page. |
| Package 107/406 | Hostname | OS / Arch | INSTALL | BUILD | CHECK | ||||||||
VJ Carey
| malbec2 | Linux (Ubuntu 20.04.2 LTS) / x86_64 | ERROR | ERROR | skipped | ||||||||
| Package: dsQTL |
| Version: 0.30.0 |
| Command: /home/biocbuild/bbs-3.13-bioc/R/bin/R CMD INSTALL dsQTL |
| StartedAt: 2021-10-16 11:26:58 -0400 (Sat, 16 Oct 2021) |
| EndedAt: 2021-10-16 11:26:58 -0400 (Sat, 16 Oct 2021) |
| EllapsedTime: 0.3 seconds |
| RetCode: 1 |
| Status: ERROR |
############################################################################## ############################################################################## ### ### Running command: ### ### /home/biocbuild/bbs-3.13-bioc/R/bin/R CMD INSTALL dsQTL ### ############################################################################## ############################################################################## * installing to library ‘/home/biocbuild/bbs-3.13-bioc/R/library’ ERROR: dependency ‘GGBase’ is not available for package ‘dsQTL’ * removing ‘/home/biocbuild/bbs-3.13-bioc/R/library/dsQTL’