| Back to Build/check report for BioC 3.13 experimental data | 
  | 
This page was generated on 2021-10-16 15:58:40 -0400 (Sat, 16 Oct 2021).
| 
To the developers/maintainers of the frmaExampleData package: Make sure to use the following settings in order to reproduce any error or warning you see on this page.  | 
| Package 138/406 | Hostname | OS / Arch | INSTALL | BUILD | CHECK | ||||||||
| frmaExampleData 1.28.0  (landing page) Matthew N. McCall 
  | malbec2 | Linux (Ubuntu 20.04.2 LTS) / x86_64 | OK | OK | WARNINGS | ||||||||
| Package: frmaExampleData | 
| Version: 1.28.0 | 
| Command: /home/biocbuild/bbs-3.13-bioc/R/bin/R CMD build --keep-empty-dirs --no-resave-data frmaExampleData | 
| StartedAt: 2021-10-16 12:00:47 -0400 (Sat, 16 Oct 2021) | 
| EndedAt: 2021-10-16 12:00:53 -0400 (Sat, 16 Oct 2021) | 
| EllapsedTime: 5.7 seconds | 
| RetCode: 0 | 
| Status: OK | 
| PackageFile: frmaExampleData_1.28.0.tar.gz | 
| PackageFileSize: 15.88 MiB | 
############################################################################## ############################################################################## ### ### Running command: ### ### /home/biocbuild/bbs-3.13-bioc/R/bin/R CMD build --keep-empty-dirs --no-resave-data frmaExampleData ### ############################################################################## ############################################################################## * checking for file ‘frmaExampleData/DESCRIPTION’ ... OK * preparing ‘frmaExampleData’: * checking DESCRIPTION meta-information ... OK * checking for LF line-endings in source and make files and shell scripts * checking for empty or unneeded directories * looking to see if a ‘data/datalist’ file should be added * building ‘frmaExampleData_1.28.0.tar.gz’