| Back to Build/check report for BioC 3.13 experimental data |
|
This page was generated on 2021-10-16 15:58:40 -0400 (Sat, 16 Oct 2021).
|
To the developers/maintainers of the harbChIP package: Make sure to use the following settings in order to reproduce any error or warning you see on this page. |
| Package 165/406 | Hostname | OS / Arch | INSTALL | BUILD | CHECK | ||||||||
| harbChIP 1.30.0 (landing page) VJ Carey
| malbec2 | Linux (Ubuntu 20.04.2 LTS) / x86_64 | OK | OK | OK | ||||||||
| Package: harbChIP |
| Version: 1.30.0 |
| Command: /home/biocbuild/bbs-3.13-bioc/R/bin/R CMD check --install=check:harbChIP.install-out.txt --library=/home/biocbuild/bbs-3.13-bioc/R/library --no-vignettes --timings harbChIP_1.30.0.tar.gz |
| StartedAt: 2021-10-16 13:18:12 -0400 (Sat, 16 Oct 2021) |
| EndedAt: 2021-10-16 13:19:30 -0400 (Sat, 16 Oct 2021) |
| EllapsedTime: 77.5 seconds |
| RetCode: 0 |
| Status: OK |
| CheckDir: harbChIP.Rcheck |
| Warnings: 0 |
##############################################################################
##############################################################################
###
### Running command:
###
### /home/biocbuild/bbs-3.13-bioc/R/bin/R CMD check --install=check:harbChIP.install-out.txt --library=/home/biocbuild/bbs-3.13-bioc/R/library --no-vignettes --timings harbChIP_1.30.0.tar.gz
###
##############################################################################
##############################################################################
* using log directory ‘/home/biocbuild/bbs-3.13-data-experiment/meat/harbChIP.Rcheck’
* using R version 4.1.1 (2021-08-10)
* using platform: x86_64-pc-linux-gnu (64-bit)
* using session charset: UTF-8
* using option ‘--no-vignettes’
* checking for file ‘harbChIP/DESCRIPTION’ ... OK
* this is package ‘harbChIP’ version ‘1.30.0’
* checking package namespace information ... OK
* checking package dependencies ... OK
* checking if this is a source package ... OK
* checking if there is a namespace ... OK
* checking for hidden files and directories ... NOTE
Found the following hidden files and directories:
.git_fetch_output.txt
.git_merge_output.txt
These were most likely included in error. See section ‘Package
structure’ in the ‘Writing R Extensions’ manual.
* checking for portable file names ... OK
* checking for sufficient/correct file permissions ... OK
* checking whether package ‘harbChIP’ can be installed ... OK
* checking installed package size ... NOTE
installed size is 7.4Mb
sub-directories of 1Mb or more:
data 7.1Mb
* checking package directory ... OK
* checking ‘build’ directory ... OK
* checking DESCRIPTION meta-information ... NOTE
Malformed Description field: should contain one or more complete sentences.
* checking top-level files ... OK
* checking for left-over files ... OK
* checking index information ... OK
* checking package subdirectories ... OK
* checking R files for non-ASCII characters ... OK
* checking R files for syntax errors ... OK
* checking whether the package can be loaded ... OK
* checking whether the package can be loaded with stated dependencies ... OK
* checking whether the package can be unloaded cleanly ... OK
* checking whether the namespace can be loaded with stated dependencies ... OK
* checking whether the namespace can be unloaded cleanly ... OK
* checking dependencies in R code ... NOTE
Packages in Depends field not imported from:
‘Biobase’ ‘Biostrings’ ‘IRanges’ ‘tools’
These packages need to be imported from (in the NAMESPACE file)
for when this namespace is loaded but not attached.
* checking S3 generic/method consistency ... OK
* checking replacement functions ... OK
* checking foreign function calls ... OK
* checking R code for possible problems ... NOTE
chkAllUS: no visible binding for global variable ‘sceUpstr’
chkAllUS : <anonymous>: no visible global function definition for
‘countPattern’
chkMotif4TF: no visible global function definition for ‘sampleNames’
chkMotif4TF: no visible global function definition for ‘exprs’
Nmers,numeric-character-upstreamSeqs: no visible global function
definition for ‘Views’
Undefined global functions or variables:
Views countPattern exprs sampleNames sceUpstr
* checking Rd files ... OK
* checking Rd metadata ... OK
* checking Rd cross-references ... OK
* checking for missing documentation entries ... OK
* checking for code/documentation mismatches ... OK
* checking Rd \usage sections ... OK
* checking Rd contents ... OK
* checking for unstated dependencies in examples ... OK
* checking contents of ‘data’ directory ... OK
* checking data for non-ASCII characters ... OK
* checking data for ASCII and uncompressed saves ... OK
* checking files in ‘vignettes’ ... OK
* checking examples ... OK
* checking for unstated dependencies in vignettes ... OK
* checking package vignettes in ‘inst/doc’ ... OK
* checking running R code from vignettes ... SKIPPED
* checking re-building of vignette outputs ... SKIPPED
* checking PDF version of manual ... OK
* DONE
Status: 5 NOTEs
See
‘/home/biocbuild/bbs-3.13-data-experiment/meat/harbChIP.Rcheck/00check.log’
for details.
harbChIP.Rcheck/00install.out
############################################################################## ############################################################################## ### ### Running command: ### ### /home/biocbuild/bbs-3.13-bioc/R/bin/R CMD INSTALL harbChIP ### ############################################################################## ############################################################################## * installing to library ‘/home/biocbuild/bbs-3.13-bioc/R/library’ * installing *source* package ‘harbChIP’ ... ** using staged installation ** R ** data ** byte-compile and prepare package for lazy loading ** help *** installing help indices ** building package indices ** installing vignettes ** testing if installed package can be loaded from temporary location ** testing if installed package can be loaded from final location ** testing if installed package keeps a record of temporary installation path * DONE (harbChIP)
harbChIP.Rcheck/harbChIP-Ex.timings
| name | user | system | elapsed | |
| allhex | 0.229 | 0.013 | 0.241 | |
| buildUpstreamSeqs2 | 0 | 0 | 0 | |
| chkMotif4TF | 0 | 0 | 0 | |
| harbChIP | 0.881 | 0.032 | 0.912 | |
| sceUpstream | 0.205 | 0.004 | 0.209 | |
| upstreamSeqs-class | 0.209 | 0.000 | 0.210 | |