| Back to Build/check report for BioC 3.13 experimental data | 
 | 
This page was generated on 2021-10-16 15:58:41 -0400 (Sat, 16 Oct 2021).
| To the developers/maintainers of the lydata package: Make sure to use the following settings in order to reproduce any error or warning you see on this page. | 
| Package 211/406 | Hostname | OS / Arch | INSTALL | BUILD | CHECK | ||||||||
| lydata 1.18.0  (landing page) Alex Pickering 
 | malbec2 | Linux (Ubuntu 20.04.2 LTS) / x86_64 | OK | OK | OK |  | |||||||
| Package: lydata | 
| Version: 1.18.0 | 
| Command: /home/biocbuild/bbs-3.13-bioc/R/bin/R CMD build --keep-empty-dirs --no-resave-data lydata | 
| StartedAt: 2021-10-16 12:17:19 -0400 (Sat, 16 Oct 2021) | 
| EndedAt: 2021-10-16 12:19:57 -0400 (Sat, 16 Oct 2021) | 
| EllapsedTime: 157.9 seconds | 
| RetCode: 0 | 
| Status: OK | 
| PackageFile: lydata_1.18.0.tar.gz | 
| PackageFileSize: 158.9 MiB | 
############################################################################## ############################################################################## ### ### Running command: ### ### /home/biocbuild/bbs-3.13-bioc/R/bin/R CMD build --keep-empty-dirs --no-resave-data lydata ### ############################################################################## ############################################################################## * checking for file ‘lydata/DESCRIPTION’ ... OK * preparing ‘lydata’: * checking DESCRIPTION meta-information ... OK * checking for LF line-endings in source and make files and shell scripts * checking for empty or unneeded directories Omitted ‘LazyData’ from DESCRIPTION * building ‘lydata_1.18.0.tar.gz’