| Back to Build/check report for BioC 3.13 experimental data |
|
This page was generated on 2021-10-16 15:58:42 -0400 (Sat, 16 Oct 2021).
|
To the developers/maintainers of the pepDat package: Make sure to use the following settings in order to reproduce any error or warning you see on this page. |
| Package 277/406 | Hostname | OS / Arch | INSTALL | BUILD | CHECK | ||||||||
| pepDat 1.12.0 (landing page) Renan Sauteraud
| malbec2 | Linux (Ubuntu 20.04.2 LTS) / x86_64 | OK | OK | OK | ||||||||
| Package: pepDat |
| Version: 1.12.0 |
| Command: /home/biocbuild/bbs-3.13-bioc/R/bin/R CMD INSTALL pepDat |
| StartedAt: 2021-10-16 11:08:20 -0400 (Sat, 16 Oct 2021) |
| EndedAt: 2021-10-16 11:08:35 -0400 (Sat, 16 Oct 2021) |
| EllapsedTime: 15.8 seconds |
| RetCode: 0 |
| Status: OK |
############################################################################## ############################################################################## ### ### Running command: ### ### /home/biocbuild/bbs-3.13-bioc/R/bin/R CMD INSTALL pepDat ### ############################################################################## ############################################################################## * installing to library ‘/home/biocbuild/bbs-3.13-bioc/R/library’ * installing *source* package ‘pepDat’ ... ** using staged installation ** R ** data ** inst ** byte-compile and prepare package for lazy loading ** help *** installing help indices ** building package indices ** installing vignettes ** testing if installed package can be loaded from temporary location ** testing if installed package can be loaded from final location ** testing if installed package keeps a record of temporary installation path * DONE (pepDat)