| Back to Build/check report for BioC 3.13 experimental data |
|
This page was generated on 2021-10-16 15:58:43 -0400 (Sat, 16 Oct 2021).
|
To the developers/maintainers of the rheumaticConditionWOLLBOLD package: Make sure to use the following settings in order to reproduce any error or warning you see on this page. |
| Package 310/406 | Hostname | OS / Arch | INSTALL | BUILD | CHECK | ||||||||
| rheumaticConditionWOLLBOLD 1.30.0 (landing page) Alejandro Quiroz-Zarate
| malbec2 | Linux (Ubuntu 20.04.2 LTS) / x86_64 | OK | OK | OK | ||||||||
| Package: rheumaticConditionWOLLBOLD |
| Version: 1.30.0 |
| Command: /home/biocbuild/bbs-3.13-bioc/R/bin/R CMD check --install=check:rheumaticConditionWOLLBOLD.install-out.txt --library=/home/biocbuild/bbs-3.13-bioc/R/library --no-vignettes --timings rheumaticConditionWOLLBOLD_1.30.0.tar.gz |
| StartedAt: 2021-10-16 13:51:08 -0400 (Sat, 16 Oct 2021) |
| EndedAt: 2021-10-16 13:51:25 -0400 (Sat, 16 Oct 2021) |
| EllapsedTime: 17.1 seconds |
| RetCode: 0 |
| Status: OK |
| CheckDir: rheumaticConditionWOLLBOLD.Rcheck |
| Warnings: 0 |
##############################################################################
##############################################################################
###
### Running command:
###
### /home/biocbuild/bbs-3.13-bioc/R/bin/R CMD check --install=check:rheumaticConditionWOLLBOLD.install-out.txt --library=/home/biocbuild/bbs-3.13-bioc/R/library --no-vignettes --timings rheumaticConditionWOLLBOLD_1.30.0.tar.gz
###
##############################################################################
##############################################################################
* using log directory ‘/home/biocbuild/bbs-3.13-data-experiment/meat/rheumaticConditionWOLLBOLD.Rcheck’
* using R version 4.1.1 (2021-08-10)
* using platform: x86_64-pc-linux-gnu (64-bit)
* using session charset: UTF-8
* using option ‘--no-vignettes’
* checking for file ‘rheumaticConditionWOLLBOLD/DESCRIPTION’ ... OK
* checking extension type ... Package
* this is package ‘rheumaticConditionWOLLBOLD’ version ‘1.30.0’
* checking package namespace information ... OK
* checking package dependencies ... OK
* checking if this is a source package ... OK
* checking if there is a namespace ... OK
* checking for hidden files and directories ... NOTE
Found the following hidden files and directories:
.git_fetch_output.txt
.git_merge_output.txt
These were most likely included in error. See section ‘Package
structure’ in the ‘Writing R Extensions’ manual.
* checking for portable file names ... OK
* checking for sufficient/correct file permissions ... OK
* checking whether package ‘rheumaticConditionWOLLBOLD’ can be installed ... OK
* checking installed package size ... NOTE
installed size is 20.8Mb
sub-directories of 1Mb or more:
data 20.8Mb
* checking package directory ... OK
* checking DESCRIPTION meta-information ... OK
* checking top-level files ... OK
* checking for left-over files ... OK
* checking index information ... OK
* checking package subdirectories ... OK
* checking whether the package can be loaded ... OK
* checking whether the package can be loaded with stated dependencies ... OK
* checking whether the package can be unloaded cleanly ... OK
* checking whether the namespace can be loaded with stated dependencies ... OK
* checking whether the namespace can be unloaded cleanly ... OK
* checking Rd files ... OK
* checking Rd metadata ... OK
* checking Rd cross-references ... OK
* checking for missing documentation entries ... OK
* checking for code/documentation mismatches ... OK
* checking Rd \usage sections ... OK
* checking Rd contents ... OK
* checking for unstated dependencies in examples ... OK
* checking contents of ‘data’ directory ... OK
* checking data for non-ASCII characters ... NOTE
Note: found 1 marked UTF-8 string
* checking data for ASCII and uncompressed saves ... OK
* checking examples ... OK
* checking PDF version of manual ... OK
* DONE
Status: 3 NOTEs
See
‘/home/biocbuild/bbs-3.13-data-experiment/meat/rheumaticConditionWOLLBOLD.Rcheck/00check.log’
for details.
rheumaticConditionWOLLBOLD.Rcheck/00install.out
############################################################################## ############################################################################## ### ### Running command: ### ### /home/biocbuild/bbs-3.13-bioc/R/bin/R CMD INSTALL rheumaticConditionWOLLBOLD ### ############################################################################## ############################################################################## * installing to library ‘/home/biocbuild/bbs-3.13-bioc/R/library’ * installing *source* package ‘rheumaticConditionWOLLBOLD’ ... ** using staged installation ** data ** help *** installing help indices ** building package indices ** testing if installed package can be loaded from temporary location ** testing if installed package can be loaded from final location ** testing if installed package keeps a record of temporary installation path * DONE (rheumaticConditionWOLLBOLD)
rheumaticConditionWOLLBOLD.Rcheck/rheumaticConditionWOLLBOLD-Ex.timings
| name | user | system | elapsed | |
| wollbold | 2.440 | 0.040 | 2.481 | |