| Back to Build/check report for BioC 3.14 experimental data |
|
This page was generated on 2022-04-13 14:50:21 -0400 (Wed, 13 Apr 2022).
| Hostname | OS | Arch (*) | R version | Installed pkgs |
|---|---|---|---|---|
| nebbiolo2 | Linux (Ubuntu 20.04.4 LTS) | x86_64 | 4.1.3 (2022-03-10) -- "One Push-Up" | 4324 |
| Click on any hostname to see more info about the system (e.g. compilers) (*) as reported by 'uname -p', except on Windows and Mac OS X | ||||
|
To the developers/maintainers of the affydata package: Make sure to use the following settings in order to reproduce any error or warning you see on this page. |
| Package 4/408 | Hostname | OS / Arch | INSTALL | BUILD | CHECK | ||||||||
| affydata 1.42.0 (landing page) Harris Jaffee
| nebbiolo2 | Linux (Ubuntu 20.04.4 LTS) / x86_64 | OK | OK | WARNINGS | ||||||||
| Package: affydata |
| Version: 1.42.0 |
| Command: /home/biocbuild/bbs-3.14-bioc/R/bin/R CMD INSTALL affydata |
| StartedAt: 2022-04-13 10:01:35 -0400 (Wed, 13 Apr 2022) |
| EndedAt: 2022-04-13 10:01:40 -0400 (Wed, 13 Apr 2022) |
| EllapsedTime: 4.4 seconds |
| RetCode: 0 |
| Status: OK |
##############################################################################
##############################################################################
###
### Running command:
###
### /home/biocbuild/bbs-3.14-bioc/R/bin/R CMD INSTALL affydata
###
##############################################################################
##############################################################################
* installing to library ‘/home/biocbuild/bbs-3.14-bioc/R/library’
* installing *source* package ‘affydata’ ...
** using staged installation
** R
** data
** inst
** byte-compile and prepare package for lazy loading
** help
*** installing help indices
** building package indices
** installing vignettes
** testing if installed package can be loaded from temporary location
Package LibPath
[1,] "affydata" "/home/biocbuild/bbs-3.14-bioc/R/library/00LOCK-affydata/00new"
Item Title
[1,] "Dilution" "AffyBatch instance Dilution"
** testing if installed package can be loaded from final location
Package LibPath Item
[1,] "affydata" "/home/biocbuild/bbs-3.14-bioc/R/library" "Dilution"
Title
[1,] "AffyBatch instance Dilution"
** testing if installed package keeps a record of temporary installation path
* DONE (affydata)