| Back to Build/check report for BioC 3.14 experimental data |
|
This page was generated on 2022-04-13 14:50:22 -0400 (Wed, 13 Apr 2022).
| Hostname | OS | Arch (*) | R version | Installed pkgs |
|---|---|---|---|---|
| nebbiolo2 | Linux (Ubuntu 20.04.4 LTS) | x86_64 | 4.1.3 (2022-03-10) -- "One Push-Up" | 4324 |
| Click on any hostname to see more info about the system (e.g. compilers) (*) as reported by 'uname -p', except on Windows and Mac OS X | ||||
|
To the developers/maintainers of the ewceData package: Make sure to use the following settings in order to reproduce any error or warning you see on this page. |
| Package 115/408 | Hostname | OS / Arch | INSTALL | BUILD | CHECK | ||||||||
| ewceData 1.2.0 (landing page) Alan Murphy
| nebbiolo2 | Linux (Ubuntu 20.04.4 LTS) / x86_64 | OK | OK | OK | ||||||||
| Package: ewceData |
| Version: 1.2.0 |
| Command: /home/biocbuild/bbs-3.14-bioc/R/bin/R CMD check --install=check:ewceData.install-out.txt --library=/home/biocbuild/bbs-3.14-bioc/R/library --no-vignettes --timings ewceData_1.2.0.tar.gz |
| StartedAt: 2022-04-13 11:23:40 -0400 (Wed, 13 Apr 2022) |
| EndedAt: 2022-04-13 11:25:35 -0400 (Wed, 13 Apr 2022) |
| EllapsedTime: 115.4 seconds |
| RetCode: 0 |
| Status: OK |
| CheckDir: ewceData.Rcheck |
| Warnings: 0 |
##############################################################################
##############################################################################
###
### Running command:
###
### /home/biocbuild/bbs-3.14-bioc/R/bin/R CMD check --install=check:ewceData.install-out.txt --library=/home/biocbuild/bbs-3.14-bioc/R/library --no-vignettes --timings ewceData_1.2.0.tar.gz
###
##############################################################################
##############################################################################
* using log directory ‘/home/biocbuild/bbs-3.14-data-experiment/meat/ewceData.Rcheck’
* using R version 4.1.3 (2022-03-10)
* using platform: x86_64-pc-linux-gnu (64-bit)
* using session charset: UTF-8
* using option ‘--no-vignettes’
* checking for file ‘ewceData/DESCRIPTION’ ... OK
* this is package ‘ewceData’ version ‘1.2.0’
* package encoding: UTF-8
* checking package namespace information ... OK
* checking package dependencies ... OK
* checking if this is a source package ... OK
* checking if there is a namespace ... OK
* checking for hidden files and directories ... OK
* checking for portable file names ... OK
* checking for sufficient/correct file permissions ... OK
* checking whether package ‘ewceData’ can be installed ... OK
* checking installed package size ... OK
* checking package directory ... OK
* checking ‘build’ directory ... OK
* checking DESCRIPTION meta-information ... OK
* checking top-level files ... OK
* checking for left-over files ... OK
* checking index information ... OK
* checking package subdirectories ... OK
* checking R files for non-ASCII characters ... OK
* checking R files for syntax errors ... OK
* checking whether the package can be loaded ... OK
* checking whether the package can be loaded with stated dependencies ... OK
* checking whether the package can be unloaded cleanly ... OK
* checking whether the namespace can be loaded with stated dependencies ... OK
* checking whether the namespace can be unloaded cleanly ... OK
* checking dependencies in R code ... OK
* checking S3 generic/method consistency ... OK
* checking replacement functions ... OK
* checking foreign function calls ... OK
* checking R code for possible problems ... OK
* checking Rd files ... OK
* checking Rd metadata ... OK
* checking Rd cross-references ... OK
* checking for missing documentation entries ... OK
* checking for code/documentation mismatches ... OK
* checking Rd \usage sections ... OK
* checking Rd contents ... OK
* checking for unstated dependencies in examples ... OK
* checking files in ‘vignettes’ ... OK
* checking examples ... OK
Examples with CPU (user + system) or elapsed time > 5s
user system elapsed
all_hgnc 4.155 0.392 5.075
* checking for unstated dependencies in vignettes ... OK
* checking package vignettes in ‘inst/doc’ ... OK
* checking running R code from vignettes ... SKIPPED
* checking re-building of vignette outputs ... SKIPPED
* checking PDF version of manual ... OK
* DONE
Status: OK
ewceData.Rcheck/00install.out
############################################################################## ############################################################################## ### ### Running command: ### ### /home/biocbuild/bbs-3.14-bioc/R/bin/R CMD INSTALL ewceData ### ############################################################################## ############################################################################## * installing to library ‘/home/biocbuild/bbs-3.14-bioc/R/library’ * installing *source* package ‘ewceData’ ... ** using staged installation ** R ** inst ** byte-compile and prepare package for lazy loading ** help *** installing help indices ** building package indices ** installing vignettes ** testing if installed package can be loaded from temporary location ** testing if installed package can be loaded from final location ** testing if installed package keeps a record of temporary installation path * DONE (ewceData)
ewceData.Rcheck/ewceData-Ex.timings
| name | user | system | elapsed | |
| all_hgnc | 4.155 | 0.392 | 5.075 | |
| all_hgnc_wtEnsembl | 1.733 | 0.119 | 1.937 | |
| all_mgi | 1.768 | 0.107 | 1.959 | |
| all_mgi_wtEnsembl | 1.830 | 0.192 | 2.151 | |
| alzh_gwas_top100 | 0.000 | 0.000 | 0.001 | |
| cortex_mrna | 3.618 | 0.452 | 4.220 | |
| ctd | 3.680 | 0.146 | 3.991 | |
| ensembl_transcript_lengths_GCcontent | 2.080 | 0.096 | 2.270 | |
| ewceData-Package | 1.592 | 0.096 | 1.770 | |
| example_genelist | 1.774 | 0.032 | 1.902 | |
| hpsd_genes | 1.595 | 0.088 | 1.768 | |
| hypothalamus_mrna | 1.741 | 0.112 | 1.953 | |
| id_genes | 1.519 | 0.108 | 1.726 | |
| mgi_synonym_data | 1.899 | 0.144 | 2.141 | |
| mouse_to_human_homologs | 1.601 | 0.068 | 1.756 | |
| rbfox_genes | 1.663 | 0.052 | 1.817 | |
| schiz_genes | 1.560 | 0.069 | 1.715 | |
| tt_alzh | 1.735 | 0.168 | 1.987 | |
| tt_alzh_BA36 | 1.598 | 0.060 | 1.747 | |
| tt_alzh_BA44 | 1.643 | 0.096 | 1.898 | |