| Back to Build/check report for BioC 3.14 experimental data |
|
This page was generated on 2022-04-13 14:50:23 -0400 (Wed, 13 Apr 2022).
| Hostname | OS | Arch (*) | R version | Installed pkgs |
|---|---|---|---|---|
| nebbiolo2 | Linux (Ubuntu 20.04.4 LTS) | x86_64 | 4.1.3 (2022-03-10) -- "One Push-Up" | 4324 |
| Click on any hostname to see more info about the system (e.g. compilers) (*) as reported by 'uname -p', except on Windows and Mac OS X | ||||
|
To the developers/maintainers of the mammaPrintData package: Make sure to use the following settings in order to reproduce any error or warning you see on this page. |
| Package 210/408 | Hostname | OS / Arch | INSTALL | BUILD | CHECK | ||||||||
| mammaPrintData 1.30.0 (landing page) Luigi Marchionni
| nebbiolo2 | Linux (Ubuntu 20.04.4 LTS) / x86_64 | OK | OK | OK | ||||||||
| Package: mammaPrintData |
| Version: 1.30.0 |
| Command: /home/biocbuild/bbs-3.14-bioc/R/bin/R CMD build --keep-empty-dirs --no-resave-data mammaPrintData |
| StartedAt: 2022-04-13 10:31:49 -0400 (Wed, 13 Apr 2022) |
| EndedAt: 2022-04-13 10:32:30 -0400 (Wed, 13 Apr 2022) |
| EllapsedTime: 41.5 seconds |
| RetCode: 0 |
| Status: OK |
| PackageFile: mammaPrintData_1.30.0.tar.gz |
| PackageFileSize: 214.1 MiB |
############################################################################## ############################################################################## ### ### Running command: ### ### /home/biocbuild/bbs-3.14-bioc/R/bin/R CMD build --keep-empty-dirs --no-resave-data mammaPrintData ### ############################################################################## ############################################################################## * checking for file ‘mammaPrintData/DESCRIPTION’ ... OK * preparing ‘mammaPrintData’: * checking DESCRIPTION meta-information ... OK * checking whether ‘INDEX’ is up-to-date ... NO * use ‘--force’ to remove the existing ‘INDEX’ * installing the package to build vignettes * creating vignettes ... OK * checking for LF line-endings in source and make files and shell scripts * checking for empty or unneeded directories * looking to see if a ‘data/datalist’ file should be added * building ‘mammaPrintData_1.30.0.tar.gz’