| Back to Build/check report for BioC 3.14 experimental data |
|
This page was generated on 2022-04-13 14:50:23 -0400 (Wed, 13 Apr 2022).
| Hostname | OS | Arch (*) | R version | Installed pkgs |
|---|---|---|---|---|
| nebbiolo2 | Linux (Ubuntu 20.04.4 LTS) | x86_64 | 4.1.3 (2022-03-10) -- "One Push-Up" | 4324 |
| Click on any hostname to see more info about the system (e.g. compilers) (*) as reported by 'uname -p', except on Windows and Mac OS X | ||||
|
To the developers/maintainers of the mcsurvdata package: Make sure to use the following settings in order to reproduce any error or warning you see on this page. |
| Package 216/408 | Hostname | OS / Arch | INSTALL | BUILD | CHECK | ||||||||
| mcsurvdata 1.12.0 (landing page) Adria Caballe Mestres
| nebbiolo2 | Linux (Ubuntu 20.04.4 LTS) / x86_64 | OK | OK | OK | ||||||||
| Package: mcsurvdata |
| Version: 1.12.0 |
| Command: /home/biocbuild/bbs-3.14-bioc/R/bin/R CMD build --keep-empty-dirs --no-resave-data mcsurvdata |
| StartedAt: 2022-04-13 10:32:45 -0400 (Wed, 13 Apr 2022) |
| EndedAt: 2022-04-13 10:33:11 -0400 (Wed, 13 Apr 2022) |
| EllapsedTime: 25.6 seconds |
| RetCode: 0 |
| Status: OK |
| PackageFile: mcsurvdata_1.12.0.tar.gz |
| PackageFileSize: 229.6 KiB |
############################################################################## ############################################################################## ### ### Running command: ### ### /home/biocbuild/bbs-3.14-bioc/R/bin/R CMD build --keep-empty-dirs --no-resave-data mcsurvdata ### ############################################################################## ############################################################################## * checking for file ‘mcsurvdata/DESCRIPTION’ ... OK * preparing ‘mcsurvdata’: * checking DESCRIPTION meta-information ... OK * installing the package to build vignettes * creating vignettes ... OK * checking for LF line-endings in source and make files and shell scripts * checking for empty or unneeded directories * building ‘mcsurvdata_1.12.0.tar.gz’