| Back to Build/check report for BioC 3.14 experimental data |
|
This page was generated on 2022-04-13 14:50:24 -0400 (Wed, 13 Apr 2022).
| Hostname | OS | Arch (*) | R version | Installed pkgs |
|---|---|---|---|---|
| nebbiolo2 | Linux (Ubuntu 20.04.4 LTS) | x86_64 | 4.1.3 (2022-03-10) -- "One Push-Up" | 4324 |
| Click on any hostname to see more info about the system (e.g. compilers) (*) as reported by 'uname -p', except on Windows and Mac OS X | ||||
|
To the developers/maintainers of the pRolocdata package: Make sure to use the following settings in order to reproduce any error or warning you see on this page. |
| Package 283/408 | Hostname | OS / Arch | INSTALL | BUILD | CHECK | ||||||||
| pRolocdata 1.32.0 (landing page) Laurent Gatto
| nebbiolo2 | Linux (Ubuntu 20.04.4 LTS) / x86_64 | OK | OK | OK | ||||||||
| Package: pRolocdata |
| Version: 1.32.0 |
| Command: /home/biocbuild/bbs-3.14-bioc/R/bin/R CMD check --install=check:pRolocdata.install-out.txt --library=/home/biocbuild/bbs-3.14-bioc/R/library --no-vignettes --timings pRolocdata_1.32.0.tar.gz |
| StartedAt: 2022-04-13 11:41:16 -0400 (Wed, 13 Apr 2022) |
| EndedAt: 2022-04-13 11:44:20 -0400 (Wed, 13 Apr 2022) |
| EllapsedTime: 184.0 seconds |
| RetCode: 0 |
| Status: OK |
| CheckDir: pRolocdata.Rcheck |
| Warnings: 0 |
##############################################################################
##############################################################################
###
### Running command:
###
### /home/biocbuild/bbs-3.14-bioc/R/bin/R CMD check --install=check:pRolocdata.install-out.txt --library=/home/biocbuild/bbs-3.14-bioc/R/library --no-vignettes --timings pRolocdata_1.32.0.tar.gz
###
##############################################################################
##############################################################################
* using log directory ‘/home/biocbuild/bbs-3.14-data-experiment/meat/pRolocdata.Rcheck’
* using R version 4.1.3 (2022-03-10)
* using platform: x86_64-pc-linux-gnu (64-bit)
* using session charset: UTF-8
* using option ‘--no-vignettes’
* checking for file ‘pRolocdata/DESCRIPTION’ ... OK
* checking extension type ... Package
* this is package ‘pRolocdata’ version ‘1.32.0’
* package encoding: UTF-8
* checking package namespace information ... OK
* checking package dependencies ... OK
* checking if this is a source package ... OK
* checking if there is a namespace ... OK
* checking for hidden files and directories ... OK
* checking for portable file names ... OK
* checking for sufficient/correct file permissions ... OK
* checking whether package ‘pRolocdata’ can be installed ... OK
* checking installed package size ... NOTE
installed size is 304.2Mb
sub-directories of 1Mb or more:
data 70.3Mb
extdata 233.4Mb
* checking package directory ... OK
* checking DESCRIPTION meta-information ... OK
* checking top-level files ... OK
* checking for left-over files ... OK
* checking index information ... OK
* checking package subdirectories ... OK
* checking R files for non-ASCII characters ... OK
* checking R files for syntax errors ... OK
* checking whether the package can be loaded ... OK
* checking whether the package can be loaded with stated dependencies ... OK
* checking whether the package can be unloaded cleanly ... OK
* checking whether the namespace can be loaded with stated dependencies ... OK
* checking whether the namespace can be unloaded cleanly ... OK
* checking dependencies in R code ... OK
* checking S3 generic/method consistency ... OK
* checking replacement functions ... OK
* checking foreign function calls ... OK
* checking R code for possible problems ... OK
* checking Rd files ... OK
* checking Rd metadata ... OK
* checking Rd cross-references ... OK
* checking for missing documentation entries ... OK
* checking for code/documentation mismatches ... OK
* checking Rd \usage sections ... OK
* checking Rd contents ... OK
* checking for unstated dependencies in examples ... OK
* checking contents of ‘data’ directory ... OK
* checking data for non-ASCII characters ... OK
* checking data for ASCII and uncompressed saves ... OK
* checking examples ... OK
Examples with CPU (user + system) or elapsed time > 5s
user system elapsed
krahmer2018pcp 8.721 0.216 8.937
* checking for unstated dependencies in ‘tests’ ... OK
* checking tests ...
Running ‘testthat.R’
OK
* checking PDF version of manual ... OK
* DONE
Status: 1 NOTE
See
‘/home/biocbuild/bbs-3.14-data-experiment/meat/pRolocdata.Rcheck/00check.log’
for details.
pRolocdata.Rcheck/00install.out
############################################################################## ############################################################################## ### ### Running command: ### ### /home/biocbuild/bbs-3.14-bioc/R/bin/R CMD INSTALL pRolocdata ### ############################################################################## ############################################################################## * installing to library ‘/home/biocbuild/bbs-3.14-bioc/R/library’ * installing *source* package ‘pRolocdata’ ... ** using staged installation ** R ** data ** inst ** byte-compile and prepare package for lazy loading ** help *** installing help indices ** building package indices ** testing if installed package can be loaded from temporary location ** testing if installed package can be loaded from final location ** testing if installed package keeps a record of temporary installation path * DONE (pRolocdata)
pRolocdata.Rcheck/tests/testthat.Rout
R version 4.1.3 (2022-03-10) -- "One Push-Up"
Copyright (C) 2022 The R Foundation for Statistical Computing
Platform: x86_64-pc-linux-gnu (64-bit)
R is free software and comes with ABSOLUTELY NO WARRANTY.
You are welcome to redistribute it under certain conditions.
Type 'license()' or 'licence()' for distribution details.
R is a collaborative project with many contributors.
Type 'contributors()' for more information and
'citation()' on how to cite R or R packages in publications.
Type 'demo()' for some demos, 'help()' for on-line help, or
'help.start()' for an HTML browser interface to help.
Type 'q()' to quit R.
> # setting R_TESTS to empty string because of
> # https://github.com/hadley/testthat/issues/144
> # revert this when that issue in R is fixed.
> Sys.setenv("R_TESTS" = "")
> library(testthat)
> library(MSnbase)
Loading required package: BiocGenerics
Attaching package: 'BiocGenerics'
The following objects are masked from 'package:stats':
IQR, mad, sd, var, xtabs
The following objects are masked from 'package:base':
Filter, Find, Map, Position, Reduce, anyDuplicated, append,
as.data.frame, basename, cbind, colnames, dirname, do.call,
duplicated, eval, evalq, get, grep, grepl, intersect, is.unsorted,
lapply, mapply, match, mget, order, paste, pmax, pmax.int, pmin,
pmin.int, rank, rbind, rownames, sapply, setdiff, sort, table,
tapply, union, unique, unsplit, which.max, which.min
Loading required package: Biobase
Welcome to Bioconductor
Vignettes contain introductory material; view with
'browseVignettes()'. To cite Bioconductor, see
'citation("Biobase")', and for packages 'citation("pkgname")'.
Loading required package: mzR
Loading required package: Rcpp
Loading required package: S4Vectors
Loading required package: stats4
Attaching package: 'S4Vectors'
The following objects are masked from 'package:base':
I, expand.grid, unname
Loading required package: ProtGenerics
Attaching package: 'ProtGenerics'
The following object is masked from 'package:stats':
smooth
This is MSnbase version 2.20.4
Visit https://lgatto.github.io/MSnbase/ to get started.
Attaching package: 'MSnbase'
The following object is masked from 'package:base':
trimws
> library(pRolocdata)
This is pRolocdata version 1.32.0.
Use 'pRolocdata()' to list available data sets.
>
> test_check("pRolocdata")
[ FAIL 0 | WARN 0 | SKIP 0 | PASS 108 ]
>
> proc.time()
user system elapsed
13.818 0.632 14.433
pRolocdata.Rcheck/pRolocdata-Ex.timings
| name | user | system | elapsed | |
| E14TG2a | 0.029 | 0.004 | 0.034 | |
| Shin2020 | 4.369 | 0.314 | 4.770 | |
| ToxoLopit | 0.425 | 0.012 | 0.436 | |
| andreyev2010 | 0.555 | 0.008 | 0.562 | |
| andy2011 | 0.047 | 0.008 | 0.055 | |
| at_chloro | 0.069 | 0.000 | 0.070 | |
| baers2018 | 0.852 | 0.020 | 0.872 | |
| beltran2016 | 0.451 | 0.008 | 0.460 | |
| davies2018 | 0.240 | 0.004 | 0.244 | |
| dunkley2006 | 0.004 | 0.005 | 0.010 | |
| fabre2015 | 0.231 | 0.006 | 0.237 | |
| foster2006 | 0.025 | 0.000 | 0.025 | |
| groen2014 | 0.705 | 0.080 | 0.785 | |
| hall2009 | 0.124 | 0.008 | 0.132 | |
| havugimana2012 | 0.092 | 0.004 | 0.095 | |
| hirst2018 | 0.377 | 0.016 | 0.392 | |
| hyperLOPIT2015 | 3.018 | 0.114 | 3.133 | |
| hyperLOPITU2OS2017 | 1.077 | 0.028 | 1.106 | |
| itzhak2016 | 0.493 | 0.000 | 0.493 | |
| itzhak2017 | 1.361 | 0.048 | 1.409 | |
| itzhak2017dynamic | 1.016 | 0.012 | 1.027 | |
| kirkwood2013 | 0.034 | 0.000 | 0.034 | |
| kozik2020 | 0.173 | 0.000 | 0.173 | |
| krahmer2018pcp | 8.721 | 0.216 | 8.937 | |
| kristensen2012 | 0.019 | 0.000 | 0.020 | |
| lopimsSyn2 | 0.530 | 0.016 | 0.546 | |
| mulvey2015 | 2.369 | 0.100 | 2.469 | |
| nikolovski2012 | 0.239 | 0.004 | 0.243 | |
| nikolovski2014 | 0.277 | 0.000 | 0.277 | |
| orre2019 | 0.313 | 0.008 | 0.321 | |
| pRolocdata | 0.009 | 0.006 | 0.016 | |
| pRolocmetadata | 0.012 | 0.000 | 0.012 | |
| rodriguez2012r1 | 0.501 | 0.016 | 0.518 | |
| stekhoven2014 | 0.172 | 0.000 | 0.172 | |
| tan2009 | 0.012 | 0.000 | 0.012 | |
| trotter2010 | 0.247 | 0.008 | 0.254 | |
| yeast | 0.274 | 0.004 | 0.278 | |