| Back to Build/check report for BioC 3.14 experimental data |
|
This page was generated on 2022-04-13 14:50:25 -0400 (Wed, 13 Apr 2022).
| Hostname | OS | Arch (*) | R version | Installed pkgs |
|---|---|---|---|---|
| nebbiolo2 | Linux (Ubuntu 20.04.4 LTS) | x86_64 | 4.1.3 (2022-03-10) -- "One Push-Up" | 4324 |
| Click on any hostname to see more info about the system (e.g. compilers) (*) as reported by 'uname -p', except on Windows and Mac OS X | ||||
|
To the developers/maintainers of the signatureSearchData package: Make sure to use the following settings in order to reproduce any error or warning you see on this page. |
| Package 349/408 | Hostname | OS / Arch | INSTALL | BUILD | CHECK | ||||||||
| signatureSearchData 1.8.4 (landing page) Yuzhu Duan
| nebbiolo2 | Linux (Ubuntu 20.04.4 LTS) / x86_64 | OK | OK | OK | ||||||||
| Package: signatureSearchData |
| Version: 1.8.4 |
| Command: /home/biocbuild/bbs-3.14-bioc/R/bin/R CMD check --install=check:signatureSearchData.install-out.txt --library=/home/biocbuild/bbs-3.14-bioc/R/library --no-vignettes --timings signatureSearchData_1.8.4.tar.gz |
| StartedAt: 2022-04-13 11:49:02 -0400 (Wed, 13 Apr 2022) |
| EndedAt: 2022-04-13 11:49:53 -0400 (Wed, 13 Apr 2022) |
| EllapsedTime: 50.4 seconds |
| RetCode: 0 |
| Status: OK |
| CheckDir: signatureSearchData.Rcheck |
| Warnings: 0 |
##############################################################################
##############################################################################
###
### Running command:
###
### /home/biocbuild/bbs-3.14-bioc/R/bin/R CMD check --install=check:signatureSearchData.install-out.txt --library=/home/biocbuild/bbs-3.14-bioc/R/library --no-vignettes --timings signatureSearchData_1.8.4.tar.gz
###
##############################################################################
##############################################################################
* using log directory ‘/home/biocbuild/bbs-3.14-data-experiment/meat/signatureSearchData.Rcheck’
* using R version 4.1.3 (2022-03-10)
* using platform: x86_64-pc-linux-gnu (64-bit)
* using session charset: UTF-8
* using option ‘--no-vignettes’
* checking for file ‘signatureSearchData/DESCRIPTION’ ... OK
* this is package ‘signatureSearchData’ version ‘1.8.4’
* package encoding: UTF-8
* checking package namespace information ... OK
* checking package dependencies ... OK
* checking if this is a source package ... OK
* checking if there is a namespace ... OK
* checking for hidden files and directories ... OK
* checking for portable file names ... OK
* checking for sufficient/correct file permissions ... OK
* checking whether package ‘signatureSearchData’ can be installed ... OK
* checking installed package size ... OK
* checking package directory ... OK
* checking ‘build’ directory ... OK
* checking DESCRIPTION meta-information ... OK
* checking top-level files ... OK
* checking for left-over files ... OK
* checking index information ... OK
* checking package subdirectories ... OK
* checking R files for non-ASCII characters ... OK
* checking R files for syntax errors ... OK
* checking whether the package can be loaded ... OK
* checking whether the package can be loaded with stated dependencies ... OK
* checking whether the package can be unloaded cleanly ... OK
* checking whether the namespace can be loaded with stated dependencies ... OK
* checking whether the namespace can be unloaded cleanly ... OK
* checking dependencies in R code ... NOTE
Namespaces in Imports field not imported from:
‘ExperimentHub’ ‘rhdf5’
All declared Imports should be used.
* checking S3 generic/method consistency ... OK
* checking replacement functions ... OK
* checking foreign function calls ... OK
* checking R code for possible problems ... OK
* checking Rd files ... OK
* checking Rd metadata ... OK
* checking Rd cross-references ... OK
* checking for missing documentation entries ... OK
* checking for code/documentation mismatches ... OK
* checking Rd \usage sections ... OK
* checking Rd contents ... OK
* checking for unstated dependencies in examples ... OK
* checking files in ‘vignettes’ ... OK
* checking examples ... OK
Examples with CPU (user + system) or elapsed time > 5s
user system elapsed
ES_NULL 6.478 0.387 7.681
* checking for unstated dependencies in vignettes ... OK
* checking package vignettes in ‘inst/doc’ ... OK
* checking running R code from vignettes ... SKIPPED
* checking re-building of vignette outputs ... SKIPPED
* checking PDF version of manual ... OK
* DONE
Status: 1 NOTE
See
‘/home/biocbuild/bbs-3.14-data-experiment/meat/signatureSearchData.Rcheck/00check.log’
for details.
signatureSearchData.Rcheck/00install.out
############################################################################## ############################################################################## ### ### Running command: ### ### /home/biocbuild/bbs-3.14-bioc/R/bin/R CMD INSTALL signatureSearchData ### ############################################################################## ############################################################################## * installing to library ‘/home/biocbuild/bbs-3.14-bioc/R/library’ * installing *source* package ‘signatureSearchData’ ... ** using staged installation ** R ** inst ** byte-compile and prepare package for lazy loading ** help *** installing help indices ** building package indices ** installing vignettes ** testing if installed package can be loaded from temporary location ** testing if installed package can be loaded from final location ** testing if installed package keeps a record of temporary installation path * DONE (signatureSearchData)
signatureSearchData.Rcheck/signatureSearchData-Ex.timings
| name | user | system | elapsed | |
| ES_NULL | 6.478 | 0.387 | 7.681 | |
| GO_DATA | 1.351 | 0.096 | 1.734 | |
| GO_DATA_drug | 1.314 | 0.092 | 1.694 | |
| cmap | 0.033 | 0.000 | 0.033 | |
| cmap_expr | 0.027 | 0.004 | 0.030 | |
| cmap_rank | 0.03 | 0.00 | 0.03 | |
| combineNormRes | 0.001 | 0.000 | 0.001 | |
| combineResults | 0 | 0 | 0 | |
| dtlink_db_clue_sti | 1.351 | 0.076 | 1.714 | |
| getCmapCEL | 0 | 0 | 0 | |
| goAnno | 0.969 | 0.092 | 1.349 | |
| goAnno_drug | 1.001 | 0.041 | 1.345 | |
| inst_filter | 0.039 | 0.000 | 0.040 | |
| lincs | 0.043 | 0.004 | 0.047 | |
| lincs_expr | 0.041 | 0.000 | 0.042 | |
| meanExpr | 0.034 | 0.000 | 0.035 | |
| normalizeCel | 0 | 0 | 0 | |
| probe2gene | 0.002 | 0.000 | 0.001 | |
| runLimma | 1.196 | 0.076 | 1.272 | |
| sampleList | 1.215 | 0.040 | 1.255 | |
| sig_filter | 0.031 | 0.000 | 0.030 | |
| signatureSearchData | 1.595 | 0.071 | 1.951 | |
| taurefList | 0.953 | 0.032 | 1.272 | |