Back to Multiple platform build/check report for BioC 3.15 |
|
This page was generated on 2022-03-18 11:07:19 -0400 (Fri, 18 Mar 2022).
Hostname | OS | Arch (*) | R version | Installed pkgs |
---|---|---|---|---|
nebbiolo1 | Linux (Ubuntu 20.04.4 LTS) | x86_64 | R Under development (unstable) (2022-02-17 r81757) -- "Unsuffered Consequences" | 4334 |
riesling1 | Windows Server 2019 Standard | x64 | R Under development (unstable) (2021-11-21 r81221) -- "Unsuffered Consequences" | 4097 |
palomino3 | Windows Server 2022 Datacenter | x64 | R Under development (unstable) (2022-02-17 r81757 ucrt) -- "Unsuffered Consequences" | 4083 |
merida1 | macOS 10.14.6 Mojave | x86_64 | R Under development (unstable) (2022-03-02 r81842) -- "Unsuffered Consequences" | 4134 |
Click on any hostname to see more info about the system (e.g. compilers) (*) as reported by 'uname -p', except on Windows and Mac OS X |
To the developers/maintainers of the DEComplexDisease package: - Please allow up to 24 hours (and sometimes 48 hours) for your latest push to git@git.bioconductor.org:packages/DEComplexDisease.git to reflect on this report. See How and When does the builder pull? When will my changes propagate? here for more information. - Make sure to use the following settings in order to reproduce any error or warning you see on this page. |
Package 469/2090 | Hostname | OS / Arch | INSTALL | BUILD | CHECK | BUILD BIN | ||||||||
DEComplexDisease 1.15.0 (landing page) Guofeng Meng
| nebbiolo1 | Linux (Ubuntu 20.04.4 LTS) / x86_64 | OK | OK | OK | |||||||||
riesling1 | Windows Server 2019 Standard / x64 | OK | OK | OK | OK | |||||||||
palomino3 | Windows Server 2022 Datacenter / x64 | OK | OK | OK | OK | |||||||||
merida1 | macOS 10.14.6 Mojave / x86_64 | OK | OK | OK | OK | |||||||||
Package: DEComplexDisease |
Version: 1.15.0 |
Command: D:\biocbuild\bbs-3.15-bioc\R\bin\R.exe CMD check --no-multiarch --install=check:DEComplexDisease.install-out.txt --library=D:\biocbuild\bbs-3.15-bioc\R\library --no-vignettes --timings DEComplexDisease_1.15.0.tar.gz |
StartedAt: 2022-03-17 18:53:13 -0400 (Thu, 17 Mar 2022) |
EndedAt: 2022-03-17 18:56:54 -0400 (Thu, 17 Mar 2022) |
EllapsedTime: 221.2 seconds |
RetCode: 0 |
Status: OK |
CheckDir: DEComplexDisease.Rcheck |
Warnings: 0 |
############################################################################## ############################################################################## ### ### Running command: ### ### D:\biocbuild\bbs-3.15-bioc\R\bin\R.exe CMD check --no-multiarch --install=check:DEComplexDisease.install-out.txt --library=D:\biocbuild\bbs-3.15-bioc\R\library --no-vignettes --timings DEComplexDisease_1.15.0.tar.gz ### ############################################################################## ############################################################################## * using log directory 'D:/biocbuild/bbs-3.15-bioc/meat/DEComplexDisease.Rcheck' * using R Under development (unstable) (2021-11-21 r81221) * using platform: x86_64-w64-mingw32 (64-bit) * using session charset: ISO8859-1 * using option '--no-vignettes' * checking for file 'DEComplexDisease/DESCRIPTION' ... OK * checking extension type ... Package * this is package 'DEComplexDisease' version '1.15.0' * checking package namespace information ... OK * checking package dependencies ... OK * checking if this is a source package ... OK * checking if there is a namespace ... OK * checking for hidden files and directories ... OK * checking for portable file names ... OK * checking whether package 'DEComplexDisease' can be installed ... OK * checking installed package size ... OK * checking package directory ... OK * checking 'build' directory ... OK * checking DESCRIPTION meta-information ... OK * checking top-level files ... OK * checking for left-over files ... OK * checking index information ... OK * checking package subdirectories ... OK * checking R files for non-ASCII characters ... OK * checking R files for syntax errors ... OK * checking whether the package can be loaded ... OK * checking whether the package can be loaded with stated dependencies ... OK * checking whether the package can be unloaded cleanly ... OK * checking whether the namespace can be loaded with stated dependencies ... OK * checking whether the namespace can be unloaded cleanly ... OK * checking dependencies in R code ... OK * checking S3 generic/method consistency ... OK * checking replacement functions ... OK * checking foreign function calls ... OK * checking R code for possible problems ... OK * checking Rd files ... NOTE prepare_Rd: Plot.cluster.module.Rd:53-55: Dropping empty section \references prepare_Rd: Plot.deg.specific.test.Rd:43-45: Dropping empty section \references prepare_Rd: module.curve.Rd:27-29: Dropping empty section \references prepare_Rd: summarize.cluster.module.Rd:30-32: Dropping empty section \references prepare_Rd: summarize.seed.module.Rd:31-33: Dropping empty section \references * checking Rd metadata ... OK * checking Rd cross-references ... OK * checking for missing documentation entries ... OK * checking for code/documentation mismatches ... OK * checking Rd \usage sections ... OK * checking Rd contents ... OK * checking for unstated dependencies in examples ... OK * checking contents of 'data' directory ... OK * checking data for non-ASCII characters ... OK * checking LazyData ... OK * checking data for ASCII and uncompressed saves ... OK * checking line endings in C/C++/Fortran sources/headers ... OK * checking compiled code ... NOTE Note: information on .o files for x64 is not available File 'D:/biocbuild/bbs-3.15-bioc/R/library/DEComplexDisease/libs/x64/DEComplexDisease.dll': Found 'abort', possibly from 'abort' (C), 'runtime' (Fortran) Found 'exit', possibly from 'exit' (C), 'stop' (Fortran) Found 'printf', possibly from 'printf' (C) Compiled code should not call entry points which might terminate R nor write to stdout/stderr instead of to the console, nor use Fortran I/O nor system RNGs. The detected symbols are linked into the code but might come from libraries and not actually be called. See 'Writing portable packages' in the 'Writing R Extensions' manual. * checking installed files from 'inst/doc' ... OK * checking files in 'vignettes' ... OK * checking examples ... OK Examples with CPU (user + system) or elapsed time > 5s user system elapsed bi.deg 22.83 2.1 25.61 * checking for unstated dependencies in vignettes ... OK * checking package vignettes in 'inst/doc' ... OK * checking running R code from vignettes ... SKIPPED * checking re-building of vignette outputs ... SKIPPED * checking PDF version of manual ... OK * DONE Status: 2 NOTEs See 'D:/biocbuild/bbs-3.15-bioc/meat/DEComplexDisease.Rcheck/00check.log' for details.
DEComplexDisease.Rcheck/00install.out
############################################################################## ############################################################################## ### ### Running command: ### ### D:\biocbuild\bbs-3.15-bioc\R\bin\R.exe CMD INSTALL DEComplexDisease ### ############################################################################## ############################################################################## * installing to library 'D:/biocbuild/bbs-3.15-bioc/R/library' * installing *source* package 'DEComplexDisease' ... ** using staged installation ** libs "C:/rtools40/mingw64/bin/"g++ -std=gnu++11 -I"D:/biocbuild/bbs-3.15-bioc/R/include" -DNDEBUG -I'D:/biocbuild/bbs-3.15-bioc/R/library/Rcpp/include' -I"C:/extsoft/include" -O2 -Wall -mfpmath=sse -msse2 -mstackrealign -fno-reorder-blocks-and-partition -c RcppExports.cpp -o RcppExports.o "C:/rtools40/mingw64/bin/"g++ -std=gnu++11 -I"D:/biocbuild/bbs-3.15-bioc/R/include" -DNDEBUG -I'D:/biocbuild/bbs-3.15-bioc/R/library/Rcpp/include' -I"C:/extsoft/include" -O2 -Wall -mfpmath=sse -msse2 -mstackrealign -fno-reorder-blocks-and-partition -c sig.cpp -o sig.o C:/rtools40/mingw64/bin/g++ -std=gnu++11 -shared -s -static-libgcc -o DEComplexDisease.dll tmp.def RcppExports.o sig.o -LC:/extsoft/lib/x64 -LC:/extsoft/lib -LD:/biocbuild/bbs-3.15-bioc/R/bin/x64 -lR installing to D:/biocbuild/bbs-3.15-bioc/R/library/00LOCK-DEComplexDisease/00new/DEComplexDisease/libs/x64 ** R ** data *** moving datasets to lazyload DB ** inst ** byte-compile and prepare package for lazy loading ** help *** installing help indices converting help for package 'DEComplexDisease' finding HTML links ... done Plot.cluster.module html Plot.deg html Plot.deg.specific html Plot.deg.specific.test html Plot.seed.module html ann.er html bi.deg html cl html cluster.mod html cluster.module html deg html deg.spc html deg.specific html exp html module.compare html module.curve html module.exact html module.modeling html module.overlap html module.screen html res.mod1 html res.mod2 html seed.mod html seed.module html summarize.cluster.module html summarize.deg.specific html summarize.seed.module html ** building package indices ** installing vignettes ** testing if installed package can be loaded from temporary location ** testing if installed package can be loaded from final location ** testing if installed package keeps a record of temporary installation path * DONE (DEComplexDisease) Making 'packages.html' ... done
DEComplexDisease.Rcheck/DEComplexDisease-Ex.timings
name | user | system | elapsed | |
Plot.cluster.module | 3.37 | 0.14 | 3.58 | |
Plot.deg | 0.74 | 0.00 | 0.73 | |
Plot.deg.specific | 0.60 | 0.00 | 0.59 | |
Plot.deg.specific.test | 0.44 | 0.00 | 0.44 | |
Plot.seed.module | 0.29 | 0.00 | 0.29 | |
bi.deg | 22.83 | 2.10 | 25.61 | |
cluster.module | 1.98 | 0.03 | 2.21 | |
deg.specific | 1.99 | 0.00 | 1.98 | |
module.compare | 0.14 | 0.00 | 0.14 | |
module.curve | 0.02 | 0.00 | 0.02 | |
module.exact | 0 | 0 | 0 | |
module.modeling | 1.26 | 0.00 | 1.26 | |
module.overlap | 0.42 | 0.00 | 0.43 | |
module.screen | 0.38 | 0.00 | 0.37 | |
seed.module | 3.67 | 0.00 | 3.67 | |
summarize.cluster.module | 0 | 0 | 0 | |
summarize.deg.specific | 0.00 | 0.01 | 0.02 | |
summarize.seed.module | 0 | 0 | 0 | |