| Back to Build/check report for BioC 3.15 experimental data | 
  | 
This page was generated on 2022-02-17 08:36:54 -0500 (Thu, 17 Feb 2022).
| Hostname | OS | Arch (*) | R version | Installed pkgs | 
|---|---|---|---|---|
| nebbiolo2 | Linux (Ubuntu 20.04.4 LTS) | x86_64 | R Under development (unstable) (2022-01-05 r81451) -- "Unsuffered Consequences" | 1362 | 
| Click on any hostname to see more info about the system (e.g. compilers) (*) as reported by 'uname -p', except on Windows and Mac OS X | ||||
| 
To the developers/maintainers of the SpikeIn package: Make sure to use the following settings in order to reproduce any error or warning you see on this page.  | 
| Package 361/406 | Hostname | OS / Arch | INSTALL | BUILD | CHECK | ||||||||
| SpikeIn 1.37.0  (landing page) Rafael A. Irizarry 
  | nebbiolo2 | Linux (Ubuntu 20.04.4 LTS) / x86_64 | OK | OK | WARNINGS | ||||||||
| Package: SpikeIn | 
| Version: 1.37.0 | 
| Command: /home/biocbuild/bbs-3.15-data-experiment/R/bin/R CMD build --keep-empty-dirs --no-resave-data SpikeIn | 
| StartedAt: 2022-02-17 06:19:57 -0500 (Thu, 17 Feb 2022) | 
| EndedAt: 2022-02-17 06:20:09 -0500 (Thu, 17 Feb 2022) | 
| EllapsedTime: 12.3 seconds | 
| RetCode: 0 | 
| Status: OK | 
| PackageFile: SpikeIn_1.37.0.tar.gz | 
| PackageFileSize: 63.05 MiB | 
############################################################################## ############################################################################## ### ### Running command: ### ### /home/biocbuild/bbs-3.15-data-experiment/R/bin/R CMD build --keep-empty-dirs --no-resave-data SpikeIn ### ############################################################################## ############################################################################## * checking for file ‘SpikeIn/DESCRIPTION’ ... OK * preparing ‘SpikeIn’: * checking DESCRIPTION meta-information ... OK * checking for LF line-endings in source and make files and shell scripts * checking for empty or unneeded directories * looking to see if a ‘data/datalist’ file should be added * building ‘SpikeIn_1.37.0.tar.gz’