| Back to Build/check report for BioC 3.16 experimental data | 
 | 
This page was generated on 2023-04-11 14:50:27 -0400 (Tue, 11 Apr 2023).
| Hostname | OS | Arch (*) | R version | Installed pkgs | 
|---|---|---|---|---|
| nebbiolo2 | Linux (Ubuntu 20.04.5 LTS) | x86_64 | 4.2.3 (2023-03-15) -- "Shortstop Beagle" | 4502 | 
| Click on any hostname to see more info about the system (e.g. compilers) (*) as reported by 'uname -p', except on Windows and Mac OS X | ||||
| To the developers/maintainers of the MEDIPSData package: Make sure to use the following settings in order to reproduce any error or warning you see on this page. | 
| Package 220/416 | Hostname | OS / Arch | INSTALL | BUILD | CHECK | ||||||||
| MEDIPSData 1.34.0  (landing page) Lukas Chavez 
 | nebbiolo2 | Linux (Ubuntu 20.04.5 LTS) / x86_64 | OK | OK | WARNINGS |  | |||||||
| Package: MEDIPSData | 
| Version: 1.34.0 | 
| Command: /home/biocbuild/bbs-3.16-bioc/R/bin/R CMD build --keep-empty-dirs --no-resave-data MEDIPSData | 
| StartedAt: 2023-04-11 10:43:43 -0400 (Tue, 11 Apr 2023) | 
| EndedAt: 2023-04-11 10:43:55 -0400 (Tue, 11 Apr 2023) | 
| EllapsedTime: 12.3 seconds | 
| RetCode: 0 | 
| Status: OK | 
| PackageFile: MEDIPSData_1.34.0.tar.gz | 
| PackageFileSize: 158.5 MiB | 
##############################################################################
##############################################################################
###
### Running command:
###
###   /home/biocbuild/bbs-3.16-bioc/R/bin/R CMD build --keep-empty-dirs --no-resave-data MEDIPSData
###
##############################################################################
##############################################################################
* checking for file ‘MEDIPSData/DESCRIPTION’ ... OK
* preparing ‘MEDIPSData’:
* checking DESCRIPTION meta-information ... OK
* checking for LF line-endings in source and make files and shell scripts
* checking for empty or unneeded directories
* looking to see if a ‘data/datalist’ file should be added
  NB: this package now depends on R (>= 3.5.0)
  WARNING: Added dependency on R >= 3.5.0 because serialized objects in
  serialize/load version 3 cannot be read in older versions of R.
  File(s) containing such objects:
    ‘MEDIPSData/data/NSCLC_dataset.RData’
    ‘MEDIPSData/data/annotation.RData’
    ‘MEDIPSData/data/tcga_luad_lusc_450kmeth.RData’
* building ‘MEDIPSData_1.34.0.tar.gz’