| Back to Build/check report for BioC 3.16 experimental data |
|
This page was generated on 2023-04-11 14:50:27 -0400 (Tue, 11 Apr 2023).
| Hostname | OS | Arch (*) | R version | Installed pkgs |
|---|---|---|---|---|
| nebbiolo2 | Linux (Ubuntu 20.04.5 LTS) | x86_64 | 4.2.3 (2023-03-15) -- "Shortstop Beagle" | 4502 |
| Click on any hostname to see more info about the system (e.g. compilers) (*) as reported by 'uname -p', except on Windows and Mac OS X | ||||
|
To the developers/maintainers of the SFEData package: Make sure to use the following settings in order to reproduce any error or warning you see on this page. |
| Package 353/416 | Hostname | OS / Arch | INSTALL | BUILD | CHECK | ||||||||
| SFEData 1.0.2 (landing page) Lambda Moses
| nebbiolo2 | Linux (Ubuntu 20.04.5 LTS) / x86_64 | OK | OK | WARNINGS | ||||||||
| Package: SFEData |
| Version: 1.0.2 |
| Command: /home/biocbuild/bbs-3.16-bioc/R/bin/R CMD build --keep-empty-dirs --no-resave-data SFEData |
| StartedAt: 2023-04-11 10:53:42 -0400 (Tue, 11 Apr 2023) |
| EndedAt: 2023-04-11 10:54:08 -0400 (Tue, 11 Apr 2023) |
| EllapsedTime: 26.2 seconds |
| RetCode: 0 |
| Status: OK |
| PackageFile: SFEData_1.0.2.tar.gz |
| PackageFileSize: 231.1 KiB |
##############################################################################
##############################################################################
###
### Running command:
###
### /home/biocbuild/bbs-3.16-bioc/R/bin/R CMD build --keep-empty-dirs --no-resave-data SFEData
###
##############################################################################
##############################################################################
* checking for file ‘SFEData/DESCRIPTION’ ... OK
* preparing ‘SFEData’:
* checking DESCRIPTION meta-information ... OK
Warning: /tmp/RtmpZR0NXo/Rbuild11536572a4f645/SFEData/man/SFEData.Rd:36: unexpected macro '\link', expecting '{'
* installing the package to build vignettes
* creating vignettes ... OK
* checking for LF line-endings in source and make files and shell scripts
* checking for empty or unneeded directories
* building ‘SFEData_1.0.2.tar.gz’