| Back to Build/check report for BioC 3.16 experimental data | 
 | 
This page was generated on 2023-04-11 14:50:27 -0400 (Tue, 11 Apr 2023).
| Hostname | OS | Arch (*) | R version | Installed pkgs | 
|---|---|---|---|---|
| nebbiolo2 | Linux (Ubuntu 20.04.5 LTS) | x86_64 | 4.2.3 (2023-03-15) -- "Shortstop Beagle" | 4502 | 
| Click on any hostname to see more info about the system (e.g. compilers) (*) as reported by 'uname -p', except on Windows and Mac OS X | ||||
| To the developers/maintainers of the msdata package: Make sure to use the following settings in order to reproduce any error or warning you see on this page. | 
| Package 247/416 | Hostname | OS / Arch | INSTALL | BUILD | CHECK | ||||||||
| msdata 0.38.0  (landing page) Steffen Neumann 
 | nebbiolo2 | Linux (Ubuntu 20.04.5 LTS) / x86_64 | OK | OK | OK |  | |||||||
| Package: msdata | 
| Version: 0.38.0 | 
| Command: /home/biocbuild/bbs-3.16-bioc/R/bin/R CMD check --install=check:msdata.install-out.txt --library=/home/biocbuild/bbs-3.16-bioc/R/site-library --timings msdata_0.38.0.tar.gz | 
| StartedAt: 2023-04-11 12:04:04 -0400 (Tue, 11 Apr 2023) | 
| EndedAt: 2023-04-11 12:05:22 -0400 (Tue, 11 Apr 2023) | 
| EllapsedTime: 77.4 seconds | 
| RetCode: 0 | 
| Status: OK | 
| CheckDir: msdata.Rcheck | 
| Warnings: 0 | 
##############################################################################
##############################################################################
###
### Running command:
###
###   /home/biocbuild/bbs-3.16-bioc/R/bin/R CMD check --install=check:msdata.install-out.txt --library=/home/biocbuild/bbs-3.16-bioc/R/site-library --timings msdata_0.38.0.tar.gz
###
##############################################################################
##############################################################################
* using log directory ‘/home/biocbuild/bbs-3.16-data-experiment/meat/msdata.Rcheck’
* using R version 4.2.3 (2023-03-15)
* using platform: x86_64-pc-linux-gnu (64-bit)
* using session charset: UTF-8
* checking for file ‘msdata/DESCRIPTION’ ... OK
* this is package ‘msdata’ version ‘0.38.0’
* package encoding: UTF-8
* checking package namespace information ... OK
* checking package dependencies ... OK
* checking if this is a source package ... OK
* checking if there is a namespace ... OK
* checking for hidden files and directories ... OK
* checking for portable file names ... OK
* checking for sufficient/correct file permissions ... OK
* checking whether package ‘msdata’ can be installed ... OK
* checking installed package size ... NOTE
  installed size is 601.3Mb
  sub-directories of 1Mb or more:
    CE-MS              6.7Mb
    TripleTOF-SWATH  106.6Mb
    cdf                3.5Mb
    fticr-mzML         8.8Mb
    ident              9.4Mb
    iontrap           33.9Mb
    lockmass           4.1Mb
    microtofq         15.1Mb
    mzid               3.9Mb
    proteomics       368.2Mb
    quant              6.8Mb
    sciex             34.0Mb
* checking package directory ... OK
* checking DESCRIPTION meta-information ... OK
* checking top-level files ... OK
* checking for left-over files ... OK
* checking index information ... OK
* checking package subdirectories ... OK
* checking R files for non-ASCII characters ... OK
* checking R files for syntax errors ... OK
* checking whether the package can be loaded ... OK
* checking whether the package can be loaded with stated dependencies ... OK
* checking whether the package can be unloaded cleanly ... OK
* checking whether the namespace can be loaded with stated dependencies ... OK
* checking whether the namespace can be unloaded cleanly ... OK
* checking loading without being on the library search path ... OK
* checking dependencies in R code ... OK
* checking S3 generic/method consistency ... OK
* checking replacement functions ... OK
* checking foreign function calls ... OK
* checking R code for possible problems ... OK
* checking Rd files ... OK
* checking Rd metadata ... OK
* checking Rd cross-references ... OK
* checking for missing documentation entries ... OK
* checking for code/documentation mismatches ... OK
* checking Rd \usage sections ... OK
* checking Rd contents ... OK
* checking for unstated dependencies in examples ... OK
* checking contents of ‘data’ directory ... OK
* checking data for non-ASCII characters ... OK
* checking data for ASCII and uncompressed saves ... OK
* checking examples ... OK
Examples with CPU (user + system) or elapsed time > 5s
        user system elapsed
msdata 7.877  0.363   8.259
* checking PDF version of manual ... OK
* DONE
Status: 1 NOTE
See
  ‘/home/biocbuild/bbs-3.16-data-experiment/meat/msdata.Rcheck/00check.log’
for details.
msdata.Rcheck/00install.out
############################################################################## ############################################################################## ### ### Running command: ### ### /home/biocbuild/bbs-3.16-bioc/R/bin/R CMD INSTALL msdata ### ############################################################################## ############################################################################## * installing to library ‘/home/biocbuild/bbs-3.16-bioc/R/site-library’ * installing *source* package ‘msdata’ ... ** using staged installation ** R ** data ** inst ** byte-compile and prepare package for lazy loading ** help *** installing help indices ** building package indices ** testing if installed package can be loaded from temporary location ** testing if installed package can be loaded from final location ** testing if installed package keeps a record of temporary installation path * DONE (msdata)
msdata.Rcheck/msdata-Ex.timings
| name | user | system | elapsed | |
| msdata | 7.877 | 0.363 | 8.259 | |
| proteomics | 0.724 | 0.028 | 0.784 | |
| sciexdata | 0.000 | 0.000 | 0.001 | |