Back to Multiple platform build/check report for BioC 3.19: simplified long |
|
This page was generated on 2024-10-18 20:40 -0400 (Fri, 18 Oct 2024).
Hostname | OS | Arch (*) | R version | Installed pkgs |
---|---|---|---|---|
nebbiolo1 | Linux (Ubuntu 22.04.3 LTS) | x86_64 | 4.4.1 (2024-06-14) -- "Race for Your Life" | 4763 |
palomino7 | Windows Server 2022 Datacenter | x64 | 4.4.1 (2024-06-14 ucrt) -- "Race for Your Life" | 4500 |
merida1 | macOS 12.7.5 Monterey | x86_64 | 4.4.1 (2024-06-14) -- "Race for Your Life" | 4530 |
kjohnson1 | macOS 13.6.6 Ventura | arm64 | 4.4.1 (2024-06-14) -- "Race for Your Life" | 4480 |
Click on any hostname to see more info about the system (e.g. compilers) (*) as reported by 'uname -p', except on Windows and Mac OS X |
Package 962/2300 | Hostname | OS / Arch | INSTALL | BUILD | CHECK | BUILD BIN | ||||||||
HiCBricks 1.22.0 (landing page) Koustav Pal
| nebbiolo1 | Linux (Ubuntu 22.04.3 LTS) / x86_64 | OK | OK | OK | ![]() | ||||||||
palomino7 | Windows Server 2022 Datacenter / x64 | OK | OK | OK | OK | ![]() | ||||||||
merida1 | macOS 12.7.5 Monterey / x86_64 | OK | OK | OK | OK | ![]() | ||||||||
kjohnson1 | macOS 13.6.6 Ventura / arm64 | OK | OK | OK | OK | ![]() | ||||||||
To the developers/maintainers of the HiCBricks package: - Allow up to 24 hours (and sometimes 48 hours) for your latest push to git@git.bioconductor.org:packages/HiCBricks.git to reflect on this report. See Troubleshooting Build Report for more information. - Use the following Renviron settings to reproduce errors and warnings. - If 'R CMD check' started to fail recently on the Linux builder(s) over a missing dependency, add the missing dependency to 'Suggests:' in your DESCRIPTION file. See Renviron.bioc for more information. |
Package: HiCBricks |
Version: 1.22.0 |
Command: /Library/Frameworks/R.framework/Resources/bin/R CMD check --install=check:HiCBricks.install-out.txt --library=/Library/Frameworks/R.framework/Resources/library --no-vignettes --timings HiCBricks_1.22.0.tar.gz |
StartedAt: 2024-10-17 06:37:00 -0400 (Thu, 17 Oct 2024) |
EndedAt: 2024-10-17 06:43:40 -0400 (Thu, 17 Oct 2024) |
EllapsedTime: 400.5 seconds |
RetCode: 0 |
Status: OK |
CheckDir: HiCBricks.Rcheck |
Warnings: 0 |
############################################################################## ############################################################################## ### ### Running command: ### ### /Library/Frameworks/R.framework/Resources/bin/R CMD check --install=check:HiCBricks.install-out.txt --library=/Library/Frameworks/R.framework/Resources/library --no-vignettes --timings HiCBricks_1.22.0.tar.gz ### ############################################################################## ############################################################################## * using log directory ‘/Users/biocbuild/bbs-3.19-bioc/meat/HiCBricks.Rcheck’ * using R version 4.4.1 (2024-06-14) * using platform: x86_64-apple-darwin20 * R was compiled by Apple clang version 14.0.0 (clang-1400.0.29.202) GNU Fortran (GCC) 12.2.0 * running under: macOS Monterey 12.7.6 * using session charset: UTF-8 * using option ‘--no-vignettes’ * checking for file ‘HiCBricks/DESCRIPTION’ ... OK * checking extension type ... Package * this is package ‘HiCBricks’ version ‘1.22.0’ * package encoding: UTF-8 * checking package namespace information ... OK * checking package dependencies ... OK * checking if this is a source package ... OK * checking if there is a namespace ... OK * checking for hidden files and directories ... OK * checking for portable file names ... OK * checking for sufficient/correct file permissions ... OK * checking whether package ‘HiCBricks’ can be installed ... OK * checking installed package size ... OK * checking package directory ... OK * checking ‘build’ directory ... OK * checking DESCRIPTION meta-information ... OK * checking top-level files ... OK * checking for left-over files ... OK * checking index information ... OK * checking package subdirectories ... OK * checking code files for non-ASCII characters ... OK * checking R files for syntax errors ... OK * checking whether the package can be loaded ... OK * checking whether the package can be loaded with stated dependencies ... OK * checking whether the package can be unloaded cleanly ... OK * checking whether the namespace can be loaded with stated dependencies ... OK * checking whether the namespace can be unloaded cleanly ... OK * checking dependencies in R code ... OK * checking S3 generic/method consistency ... OK * checking replacement functions ... OK * checking foreign function calls ... OK * checking R code for possible problems ... OK * checking Rd files ... OK * checking Rd metadata ... OK * checking Rd cross-references ... OK * checking for missing documentation entries ... OK * checking for code/documentation mismatches ... OK * checking Rd \usage sections ... OK * checking Rd contents ... OK * checking for unstated dependencies in examples ... OK * checking files in ‘vignettes’ ... OK * checking examples ... OK Examples with CPU (user + system) or elapsed time > 5s user system elapsed Brick_export_to_sparse 5.931 0.514 8.103 Brick_vizart_plot_heatmap 4.794 0.565 6.374 Brick_local_score_differentiator 4.151 0.591 6.367 BrickContainer_unlink_resolution 4.145 0.223 5.644 Brick_get_matrix_within_coords 3.799 0.466 5.592 Brick_add_ranges 4.077 0.166 5.517 Brick_fetch_row_vector 3.437 0.391 5.051 * checking for unstated dependencies in vignettes ... OK * checking package vignettes ... OK * checking running R code from vignettes ... SKIPPED * checking re-building of vignette outputs ... SKIPPED * checking PDF version of manual ... OK * DONE Status: OK
HiCBricks.Rcheck/00install.out
############################################################################## ############################################################################## ### ### Running command: ### ### /Library/Frameworks/R.framework/Resources/bin/R CMD INSTALL HiCBricks ### ############################################################################## ############################################################################## * installing to library ‘/Library/Frameworks/R.framework/Versions/4.4-x86_64/Resources/library’ * installing *source* package ‘HiCBricks’ ... ** using staged installation ** R ** inst ** byte-compile and prepare package for lazy loading ** help *** installing help indices ** building package indices ** installing vignettes ** testing if installed package can be loaded from temporary location ** testing if installed package can be loaded from final location ** testing if installed package keeps a record of temporary installation path * DONE (HiCBricks)
HiCBricks.Rcheck/HiCBricks-Ex.timings
name | user | system | elapsed | |
BrickContainer_change_experiment_name | 2.823 | 0.173 | 3.625 | |
BrickContainer_change_output_directory | 2.191 | 0.116 | 2.824 | |
BrickContainer_get_path_to_file | 1.987 | 0.108 | 2.398 | |
BrickContainer_list_chromosomes | 1.941 | 0.107 | 2.987 | |
BrickContainer_list_experiment_name | 1.948 | 0.108 | 2.381 | |
BrickContainer_list_files | 2.008 | 0.105 | 2.477 | |
BrickContainer_list_output_directory | 1.934 | 0.104 | 2.951 | |
BrickContainer_list_resolutions | 1.945 | 0.105 | 2.424 | |
BrickContainer_unlink_resolution | 4.145 | 0.223 | 5.644 | |
Brick_add_ranges | 4.077 | 0.166 | 5.517 | |
Brick_call_compartments | 3.094 | 0.474 | 4.403 | |
Brick_export_to_sparse | 5.931 | 0.514 | 8.103 | |
Brick_fetch_range_index | 2.335 | 0.122 | 3.034 | |
Brick_fetch_row_vector | 3.437 | 0.391 | 5.051 | |
Brick_get_bintable | 2.010 | 0.111 | 2.543 | |
Brick_get_chrominfo | 1.941 | 0.114 | 2.418 | |
Brick_get_entire_matrix | 3.189 | 0.429 | 4.778 | |
Brick_get_matrix | 2.723 | 0.440 | 4.227 | |
Brick_get_matrix_mcols | 2.697 | 0.322 | 3.513 | |
Brick_get_matrix_within_coords | 3.799 | 0.466 | 5.592 | |
Brick_get_ranges | 2.007 | 0.116 | 3.054 | |
Brick_get_values_by_distance | 2.960 | 0.428 | 4.544 | |
Brick_get_vector_values | 2.726 | 0.392 | 4.597 | |
Brick_list_matrices | 1.925 | 0.112 | 2.524 | |
Brick_list_matrix_mcols | 1.907 | 0.110 | 2.590 | |
Brick_list_mcool_normalisations | 0.001 | 0.000 | 0.001 | |
Brick_list_mcool_resolutions | 0.001 | 0.001 | 0.001 | |
Brick_list_rangekeys | 1.899 | 0.108 | 3.123 | |
Brick_list_ranges_mcols | 1.927 | 0.106 | 3.358 | |
Brick_load_cis_matrix_till_distance | 2.502 | 0.366 | 3.955 | |
Brick_load_data_from_mcool | 0.000 | 0.001 | 0.002 | |
Brick_load_data_from_sparse | 0.000 | 0.001 | 0.001 | |
Brick_load_matrix | 2.608 | 0.439 | 3.614 | |
Brick_local_score_differentiator | 4.151 | 0.591 | 6.367 | |
Brick_make_ranges | 0.023 | 0.000 | 0.027 | |
Brick_matrix_dimensions | 2.621 | 0.382 | 4.034 | |
Brick_matrix_exists | 2.616 | 0.367 | 3.508 | |
Brick_matrix_filename | 2.642 | 0.368 | 4.048 | |
Brick_matrix_isdone | 2.661 | 0.391 | 3.557 | |
Brick_matrix_issparse | 2.629 | 0.374 | 3.554 | |
Brick_matrix_maxdist | 2.643 | 0.391 | 3.614 | |
Brick_matrix_minmax | 2.637 | 0.392 | 3.645 | |
Brick_mcool_normalisation_exists | 0.001 | 0.002 | 0.002 | |
Brick_rangekey_exists | 1.908 | 0.108 | 2.378 | |
Brick_return_region_position | 2.159 | 0.111 | 2.715 | |
Brick_vizart_plot_heatmap | 4.794 | 0.565 | 6.374 | |
Create_many_Bricks | 2.002 | 0.117 | 4.243 | |
Create_many_Bricks_from_mcool | 0.001 | 0.002 | 0.002 | |
load_BrickContainer | 2.094 | 0.116 | 2.527 | |