Back to Multiple platform build/check report for BioC 3.19: simplified long |
|
This page was generated on 2024-06-14 14:37 -0400 (Fri, 14 Jun 2024).
Hostname | OS | Arch (*) | R version | Installed pkgs |
---|---|---|---|---|
nebbiolo1 | Linux (Ubuntu 22.04.3 LTS) | x86_64 | 4.4.0 (2024-04-24) -- "Puppy Cup" | 4757 |
palomino3 | Windows Server 2022 Datacenter | x64 | 4.4.0 (2024-04-24 ucrt) -- "Puppy Cup" | 4491 |
Click on any hostname to see more info about the system (e.g. compilers) (*) as reported by 'uname -p', except on Windows and Mac OS X |
Package 1472/2300 | Hostname | OS / Arch | INSTALL | BUILD | CHECK | BUILD BIN | ||||||||
OncoSimulR 4.6.0 (landing page) Ramon Diaz-Uriarte
| nebbiolo1 | Linux (Ubuntu 22.04.3 LTS) / x86_64 | OK | OK | OK | |||||||||
palomino3 | Windows Server 2022 Datacenter / x64 | OK | OK | OK | OK | |||||||||
To the developers/maintainers of the OncoSimulR package: - Allow up to 24 hours (and sometimes 48 hours) for your latest push to git@git.bioconductor.org:packages/OncoSimulR.git to reflect on this report. See Troubleshooting Build Report for more information. - Use the following Renviron settings to reproduce errors and warnings. - If 'R CMD check' started to fail recently on the Linux builder(s) over a missing dependency, add the missing dependency to 'Suggests:' in your DESCRIPTION file. See Renviron.bioc for more information. |
Package: OncoSimulR |
Version: 4.6.0 |
Command: /home/biocbuild/bbs-3.19-bioc/R/bin/R CMD check --install=check:OncoSimulR.install-out.txt --library=/home/biocbuild/bbs-3.19-bioc/R/site-library --timings OncoSimulR_4.6.0.tar.gz |
StartedAt: 2024-06-13 01:45:39 -0400 (Thu, 13 Jun 2024) |
EndedAt: 2024-06-13 01:55:02 -0400 (Thu, 13 Jun 2024) |
EllapsedTime: 563.3 seconds |
RetCode: 0 |
Status: OK |
CheckDir: OncoSimulR.Rcheck |
Warnings: 0 |
############################################################################## ############################################################################## ### ### Running command: ### ### /home/biocbuild/bbs-3.19-bioc/R/bin/R CMD check --install=check:OncoSimulR.install-out.txt --library=/home/biocbuild/bbs-3.19-bioc/R/site-library --timings OncoSimulR_4.6.0.tar.gz ### ############################################################################## ############################################################################## * using log directory ‘/home/biocbuild/bbs-3.19-bioc/meat/OncoSimulR.Rcheck’ * using R version 4.4.0 (2024-04-24) * using platform: x86_64-pc-linux-gnu * R was compiled by gcc (Ubuntu 11.4.0-1ubuntu1~22.04) 11.4.0 GNU Fortran (Ubuntu 11.4.0-1ubuntu1~22.04) 11.4.0 * running under: Ubuntu 22.04.4 LTS * using session charset: UTF-8 * checking for file ‘OncoSimulR/DESCRIPTION’ ... OK * checking extension type ... Package * this is package ‘OncoSimulR’ version ‘4.6.0’ * checking package namespace information ... OK * checking package dependencies ... OK * checking if this is a source package ... OK * checking if there is a namespace ... OK * checking for hidden files and directories ... OK * checking for portable file names ... OK * checking for sufficient/correct file permissions ... OK * checking whether package ‘OncoSimulR’ can be installed ... OK * used C compiler: ‘gcc (Ubuntu 11.4.0-1ubuntu1~22.04) 11.4.0’ * used C++ compiler: ‘g++ (Ubuntu 11.4.0-1ubuntu1~22.04) 11.4.0’ * checking installed package size ... NOTE installed size is 19.6Mb sub-directories of 1Mb or more: libs 18.1Mb * checking package directory ... OK * checking ‘build’ directory ... OK * checking DESCRIPTION meta-information ... OK * checking top-level files ... OK * checking for left-over files ... OK * checking index information ... OK * checking package subdirectories ... OK * checking code files for non-ASCII characters ... OK * checking R files for syntax errors ... OK * checking whether the package can be loaded ... OK * checking whether the package can be loaded with stated dependencies ... OK * checking whether the package can be unloaded cleanly ... OK * checking whether the namespace can be loaded with stated dependencies ... OK * checking whether the namespace can be unloaded cleanly ... OK * checking loading without being on the library search path ... OK * checking dependencies in R code ... OK * checking S3 generic/method consistency ... OK * checking replacement functions ... OK * checking foreign function calls ... OK * checking R code for possible problems ... OK * checking Rd files ... NOTE checkRd: (-1) oncoSimulIndiv.Rd:255-259: Lost braces in \itemize; meant \describe ? checkRd: (-1) oncoSimulIndiv.Rd:261-263: Lost braces in \itemize; meant \describe ? checkRd: (-1) oncoSimulIndiv.Rd:265-266: Lost braces in \itemize; meant \describe ? checkRd: (-1) oncoSimulIndiv.Rd:268-270: Lost braces in \itemize; meant \describe ? checkRd: (-1) oncoSimulIndiv.Rd:272-274: Lost braces in \itemize; meant \describe ? * checking Rd metadata ... OK * checking Rd cross-references ... OK * checking for missing documentation entries ... OK * checking for code/documentation mismatches ... OK * checking Rd \usage sections ... OK * checking Rd contents ... OK * checking for unstated dependencies in examples ... OK * checking contents of ‘data’ directory ... OK * checking data for non-ASCII characters ... OK * checking data for ASCII and uncompressed saves ... OK * checking line endings in C/C++/Fortran sources/headers ... OK * checking line endings in Makefiles ... OK * checking compilation flags in Makevars ... OK * checking for GNU extensions in Makefiles ... OK * checking for portable use of $(BLAS_LIBS) and $(LAPACK_LIBS) ... OK * checking use of PKG_*FLAGS in Makefiles ... OK * checking include directives in Makefiles ... OK * checking compiled code ... NOTE Note: information on .o files is not available * checking files in ‘vignettes’ ... OK * checking examples ... OK * checking for unstated dependencies in ‘tests’ ... OK * checking tests ... Running ‘testthat.R’ OK * checking for unstated dependencies in vignettes ... OK * checking package vignettes ... OK * checking re-building of vignette outputs ... OK * checking PDF version of manual ... OK * DONE Status: 3 NOTEs See ‘/home/biocbuild/bbs-3.19-bioc/meat/OncoSimulR.Rcheck/00check.log’ for details.
OncoSimulR.Rcheck/00install.out
############################################################################## ############################################################################## ### ### Running command: ### ### /home/biocbuild/bbs-3.19-bioc/R/bin/R CMD INSTALL OncoSimulR ### ############################################################################## ############################################################################## * installing to library ‘/home/biocbuild/bbs-3.19-bioc/R/site-library’ * installing *source* package ‘OncoSimulR’ ... ** using staged installation ** libs using C compiler: ‘gcc (Ubuntu 11.4.0-1ubuntu1~22.04) 11.4.0’ using C++ compiler: ‘g++ (Ubuntu 11.4.0-1ubuntu1~22.04) 11.4.0’ gcc -I"/home/biocbuild/bbs-3.19-bioc/R/include" -DNDEBUG -I'/home/biocbuild/bbs-3.19-bioc/R/site-library/Rcpp/include' -I/usr/local/include -fpic -g -O2 -Wall -c FitnessLandscape/gamma.c -o FitnessLandscape/gamma.o gcc -I"/home/biocbuild/bbs-3.19-bioc/R/include" -DNDEBUG -I'/home/biocbuild/bbs-3.19-bioc/R/site-library/Rcpp/include' -I/usr/local/include -fpic -g -O2 -Wall -c FitnessLandscape/landscape.c -o FitnessLandscape/landscape.o gcc -I"/home/biocbuild/bbs-3.19-bioc/R/include" -DNDEBUG -I'/home/biocbuild/bbs-3.19-bioc/R/site-library/Rcpp/include' -I/usr/local/include -fpic -g -O2 -Wall -c FitnessLandscape/random.c -o FitnessLandscape/random.o gcc -I"/home/biocbuild/bbs-3.19-bioc/R/include" -DNDEBUG -I'/home/biocbuild/bbs-3.19-bioc/R/site-library/Rcpp/include' -I/usr/local/include -fpic -g -O2 -Wall -c FitnessLandscape/sort.c -o FitnessLandscape/sort.o gcc -I"/home/biocbuild/bbs-3.19-bioc/R/include" -DNDEBUG -I'/home/biocbuild/bbs-3.19-bioc/R/site-library/Rcpp/include' -I/usr/local/include -fpic -g -O2 -Wall -c FitnessLandscape/chain.c -o FitnessLandscape/chain.o gcc -I"/home/biocbuild/bbs-3.19-bioc/R/include" -DNDEBUG -I'/home/biocbuild/bbs-3.19-bioc/R/site-library/Rcpp/include' -I/usr/local/include -fpic -g -O2 -Wall -c FitnessLandscape/input.c -o FitnessLandscape/input.o gcc -I"/home/biocbuild/bbs-3.19-bioc/R/include" -DNDEBUG -I'/home/biocbuild/bbs-3.19-bioc/R/site-library/Rcpp/include' -I/usr/local/include -fpic -g -O2 -Wall -c FitnessLandscape/genotypes.c -o FitnessLandscape/genotypes.o gcc -I"/home/biocbuild/bbs-3.19-bioc/R/include" -DNDEBUG -I'/home/biocbuild/bbs-3.19-bioc/R/site-library/Rcpp/include' -I/usr/local/include -fpic -g -O2 -Wall -c FitnessLandscape/ordered_pairs.c -o FitnessLandscape/ordered_pairs.o gcc -I"/home/biocbuild/bbs-3.19-bioc/R/include" -DNDEBUG -I'/home/biocbuild/bbs-3.19-bioc/R/site-library/Rcpp/include' -I/usr/local/include -fpic -g -O2 -Wall -c FitnessLandscape/calculus.c -o FitnessLandscape/calculus.o gcc -I"/home/biocbuild/bbs-3.19-bioc/R/include" -DNDEBUG -I'/home/biocbuild/bbs-3.19-bioc/R/site-library/Rcpp/include' -I/usr/local/include -fpic -g -O2 -Wall -c FitnessLandscape/vector.c -o FitnessLandscape/vector.o gcc -I"/home/biocbuild/bbs-3.19-bioc/R/include" -DNDEBUG -I'/home/biocbuild/bbs-3.19-bioc/R/site-library/Rcpp/include' -I/usr/local/include -fpic -g -O2 -Wall -c FitnessLandscape/generalized_chain.c -o FitnessLandscape/generalized_chain.o gcc -I"/home/biocbuild/bbs-3.19-bioc/R/include" -DNDEBUG -I'/home/biocbuild/bbs-3.19-bioc/R/site-library/Rcpp/include' -I/usr/local/include -fpic -g -O2 -Wall -c FitnessLandscape/LinearAlgebra.c -o FitnessLandscape/LinearAlgebra.o gcc -I"/home/biocbuild/bbs-3.19-bioc/R/include" -DNDEBUG -I'/home/biocbuild/bbs-3.19-bioc/R/site-library/Rcpp/include' -I/usr/local/include -fpic -g -O2 -Wall -c FitnessLandscape/summary_statistics.c -o FitnessLandscape/summary_statistics.o gcc -I"/home/biocbuild/bbs-3.19-bioc/R/include" -DNDEBUG -I'/home/biocbuild/bbs-3.19-bioc/R/site-library/Rcpp/include' -I/usr/local/include -fpic -g -O2 -Wall -c FitnessLandscape/epistasis_type.c -o FitnessLandscape/epistasis_type.o gcc -I"/home/biocbuild/bbs-3.19-bioc/R/include" -DNDEBUG -I'/home/biocbuild/bbs-3.19-bioc/R/site-library/Rcpp/include' -I/usr/local/include -fpic -g -O2 -Wall -c FitnessLandscape/decomposition.c -o FitnessLandscape/decomposition.o gcc -I"/home/biocbuild/bbs-3.19-bioc/R/include" -DNDEBUG -I'/home/biocbuild/bbs-3.19-bioc/R/site-library/Rcpp/include' -I/usr/local/include -fpic -g -O2 -Wall -c FitnessLandscape/models.c -o FitnessLandscape/models.o gcc -I"/home/biocbuild/bbs-3.19-bioc/R/include" -DNDEBUG -I'/home/biocbuild/bbs-3.19-bioc/R/site-library/Rcpp/include' -I/usr/local/include -fpic -g -O2 -Wall -c FitnessLandscape/verbose.c -o FitnessLandscape/verbose.o ar -r liblandscape.a FitnessLandscape/gamma.o FitnessLandscape/landscape.o FitnessLandscape/random.o FitnessLandscape/sort.o FitnessLandscape/chain.o FitnessLandscape/input.o FitnessLandscape/genotypes.o FitnessLandscape/ordered_pairs.o FitnessLandscape/calculus.o FitnessLandscape/vector.o FitnessLandscape/generalized_chain.o FitnessLandscape/LinearAlgebra.o FitnessLandscape/summary_statistics.o FitnessLandscape/epistasis_type.o FitnessLandscape/decomposition.o FitnessLandscape/models.o FitnessLandscape/verbose.o ; ar: creating liblandscape.a ranlib liblandscape.a; gcc -O -Wall -o fl_statistics -I/FitnessLandscape/. -L. FitnessLandscape/main_fl_statistics.c -llandscape -lm; gcc -O -Wall -o fl_generate -I/FitnessLandscape/. -L. FitnessLandscape/main_fl_generate.c -llandscape -lm; gcc -I"/home/biocbuild/bbs-3.19-bioc/R/include" -DNDEBUG -I'/home/biocbuild/bbs-3.19-bioc/R/site-library/Rcpp/include' -I/usr/local/include -fpic -g -O2 -Wall -c OncoSimulR_init.c -o OncoSimulR_init.o g++ -std=gnu++17 -I"/home/biocbuild/bbs-3.19-bioc/R/include" -DNDEBUG -I'/home/biocbuild/bbs-3.19-bioc/R/site-library/Rcpp/include' -I/usr/local/include -fpic -g -O2 -Wall -c RcppExports.cpp -o RcppExports.o g++ -std=gnu++17 -I"/home/biocbuild/bbs-3.19-bioc/R/include" -DNDEBUG -I'/home/biocbuild/bbs-3.19-bioc/R/site-library/Rcpp/include' -I/usr/local/include -fpic -g -O2 -Wall -c unity_osimul.cpp -o unity_osimul.o g++ -std=gnu++17 -shared -L/home/biocbuild/bbs-3.19-bioc/R/lib -L/usr/local/lib -o OncoSimulR.so OncoSimulR_init.o RcppExports.o unity_osimul.o -L/home/biocbuild/bbs-3.19-bioc/R/lib -lR installing via 'install.libs.R' to /home/biocbuild/bbs-3.19-bioc/R/site-library/00LOCK-OncoSimulR/00new/OncoSimulR [1] "" Installing fl_statistics fl_generate to /home/biocbuild/bbs-3.19-bioc/R/site-library/00LOCK-OncoSimulR/00new/OncoSimulR/exec Installing library OncoSimulR.so to /home/biocbuild/bbs-3.19-bioc/R/site-library/00LOCK-OncoSimulR/00new/OncoSimulR/libs ** R ** data ** inst ** byte-compile and prepare package for lazy loading ** help *** installing help indices ** building package indices ** installing vignettes ** testing if installed package can be loaded from temporary location ** checking absolute paths in shared objects and dynamic libraries ** testing if installed package can be loaded from final location ** testing if installed package keeps a record of temporary installation path * DONE (OncoSimulR)
OncoSimulR.Rcheck/tests/testthat.Rout
R version 4.4.0 (2024-04-24) -- "Puppy Cup" Copyright (C) 2024 The R Foundation for Statistical Computing Platform: x86_64-pc-linux-gnu R is free software and comes with ABSOLUTELY NO WARRANTY. You are welcome to redistribute it under certain conditions. Type 'license()' or 'licence()' for distribution details. R is a collaborative project with many contributors. Type 'contributors()' for more information and 'citation()' on how to cite R or R packages in publications. Type 'demo()' for some demos, 'help()' for on-line help, or 'help.start()' for an HTML browser interface to help. Type 'q()' to quit R. > library(testthat) > library(OncoSimulR) > > test_check("OncoSimulR") Starting FDF-letter-fitness-order Thu Jun 13 01:47:34 2024 exprtk parser error: Error[00] Position: 00 Type: [ Syntax Error] Msg: ERR202 - Undefined symbol: 'n_2_3' Expression: n_2_3 exprtk parser error: Error[00] Position: 00 Type: [ Syntax Error] Msg: ERR202 - Undefined symbol: 'f_2_3' Expression: f_2_3 Ending FDF-small-fitness-specs Thu Jun 13 01:47:34 2024 Took 0.44 Starting LOD_POM at Thu Jun 13 01:47:34 2024 Ending LOD_POM at Thu Jun 13 01:47:50 2024 Took 16.29 Starting test.Z-all-fitness at Thu Jun 13 01:47:50 2024 Ending test.Z-all-fitness at Thu Jun 13 01:47:51 2024 Took 0.19 Starting test.Z-driver-counts at Thu Jun 13 01:47:51 2024 Ending test.Z-driver-counts at Thu Jun 13 01:47:51 2024 Took 0.23 Starting test.Z-fixation at Thu Jun 13 01:47:51 2024 Ending test.Z-fixation at Thu Jun 13 01:47:51 2024 Took 0.68 Starting test.Z-magellan at Thu Jun 13 01:47:52 2024 Ended test.Z-magellan at Thu Jun 13 01:47:55 2024 Starting test.Z-mutator at Thu Jun 13 01:47:55 2024 Ending test.Z-mutator at Thu Jun 13 01:47:57 2024 Took 1.44 Starting test.Z-mutatorFDF at Thu Jun 13 01:47:57 2024 Ending test.Z-mutatorFDF at Thu Jun 13 01:47:57 2024 Took 0.38 Starting test.Z-oncoSimulIndiv at Thu Jun 13 01:47:57 2024 Ending test.Z-oncoSimulIndiv at Thu Jun 13 01:47:58 2024 Took 0.98 Starting test.Z-oncoSimulIndivConstant at Thu Jun 13 01:47:58 2024 Ending test.Z-oncoSimulIndivConstant at Thu Jun 13 01:48:02 2024 Took 3.56 Starting test.Z-oncoSimulIndivDeath at Thu Jun 13 01:48:02 2024 Ending test.Z-oncoSimulIndivDeath at Thu Jun 13 01:48:02 2024 Took 0.68 Starting test.Z-oncoSimulIndivFDF at Thu Jun 13 01:48:02 2024 Hitted wall time. Exiting. Hitting wall time is regarded as an error. Ending test.Z-oncoSimulIndivFDF at Thu Jun 13 01:48:03 2024 Took 0.29 Starting test.Z-rfitness-landscape at Thu Jun 13 01:48:03 2024 Ending test.Z-rfitness-landscape at Thu Jun 13 01:48:03 2024 Took 0.21 Starting Z-sample-only-last tests Thu Jun 13 01:48:03 2024 Ending Z-sample-only-last tests Thu Jun 13 01:48:03 2024 Took 0 Starting Z-total-present-drivers tests Thu Jun 13 01:48:03 2024 Ending Z-total-present-drivers tests Thu Jun 13 01:48:04 2024 Took 0.8 Dummy empty test Thu Jun 13 01:48:04 2024 Starting accessible_genotypes at Thu Jun 13 01:48:04 2024 Ending accessible_genotypes at Thu Jun 13 01:48:10 2024 Took 6.08 Starting all fitness at Thu Jun 13 01:48:10 2024 Ending all-fitness at Thu Jun 13 01:48:14 2024 Took 4.22 Starting test.allFitnessEffectsFDF at Thu Jun 13 01:48:14 2024 Ending test.allFitnessEffectsFDF at Thu Jun 13 01:48:14 2024 Took 0.1 Starting test.allFitnessEffectsDeath at Thu Jun 13 01:48:14 2024 Ending test.allFitnessEffectsDeath at Thu Jun 13 01:48:14 2024 Took 0.31 Starting test.allFitnessEffectsFDF at Thu Jun 13 01:48:14 2024 Ending test.allFitnessEffectsFDF at Thu Jun 13 01:48:15 2024 Took 0.34 Starting driverCounts at Thu Jun 13 01:48:15 2024 Ending driverCounts at Thu Jun 13 01:48:22 2024 Took 7.86 Starting epist-order-modules at Thu Jun 13 01:48:22 2024 Ending epist-order-modules at Thu Jun 13 01:48:23 2024 Took 0.06 Starting test.evaluatingGenotypesDeath at Thu Jun 13 01:48:23 2024 Ending test.evaluatingGenotypesDeath at Thu Jun 13 01:48:23 2024 Took 0.2 Starting test.evaluatingGenotypesFDF at Thu Jun 13 01:48:23 2024 Ending test.evaluatingGenotypesFDF at Thu Jun 13 01:48:23 2024 Took 0.25 Starting exercise-plotting-code at Thu Jun 13 01:48:23 2024 Ending exercise-plotting-code at Thu Jun 13 01:48:26 2024 Took 3.39 Starting exercise-rfitness at Thu Jun 13 01:48:26 2024 Ending exercise-rfitness at Thu Jun 13 01:48:42 2024 Took 15.45 Starting to_Magella at Thu Jun 13 01:48:42 2024 Ending to_Magella at Thu Jun 13 01:48:42 2024 Took 0.03 Starting fitness preds at Thu Jun 13 01:48:42 2024 Observed vs expected, case III done tries 1 Ending fitness preds long at Thu Jun 13 01:48:47 2024 Took 5.12 Starting fixation at Thu Jun 13 01:48:47 2024 Ending fixation at Thu Jun 13 01:49:05 2024 Took 17.63 Starting test.flfast-additional.R test at Thu Jun 13 01:49:05 2024 Ending test.flfast-additional.R test at Thu Jun 13 01:49:08 2024 Took 2.92 Starting test.flfast-mutator.R test at Thu Jun 13 01:49:08 2024 Finished test.flfast-mutator.R test at Thu Jun 13 01:49:11 2024 Took 3.52 Starting genotFitness at Thu Jun 13 01:49:11 2024 Ending genotFitness at Thu Jun 13 01:49:11 2024 Took 0.27 Starting genot_fitness_to_epistasis at Thu Jun 13 01:49:11 2024 Ending genot_fitness_to_epistasis at Thu Jun 13 01:49:11 2024 Took 0.04 Starting init-mutant tests Thu Jun 13 01:49:11 2024 exprtk parser error: Error[00] Position: 18 Type: [ Syntax Error] Msg: ERR202 - Undefined symbol: 'f_2' Expression: 1.1 + 0.7*((f_1 + f_2) > 0.3) Ending init-mutant tests Thu Jun 13 01:49:17 2024 Took 5.72 Starting interventions tests Thu Jun 13 01:49:17 2024 [1] "Checking intervention: intOverA" [1] "Checking intervention: intOverA" [1] "Checking intervention: intOverA" [1] "Checking intervention: intOverA" [1] "Checking intervention: intOverMultiplicatesA" In intervention:intOverMultiplicatesA with WhatHappens: n_1 = n_1 * 2. You cannot intervene to generate more population.[1] "Checking intervention: intOverA" [1] "Checking intervention: intOverA" [1] "Checking intervention: intOverTotPop" [1] 0.54 0.54 0.54 [1] "Checking intervention: intOverTotPop" [1] "Checking intervention: intOverA" [1] "Checking intervention: intOverB" [1] "Checking intervention: intOverC" [1] "Checking intervention: intOverD" Init Mutant with birth == 1.0 Init Mutant with birth == 1.0 [1] "Checking intervention: intOverA" [1] "Checking intervention: intOverB" [1] "Checking intervention: intOverC" [1] "Checking intervention: intOverD" Init Mutant with birth == 1.0 Init Mutant with birth == 1.0 [1] "Checking user variable: user_var_1" [1] "Checking rule: rule_1" [1] "Checking rule: rule_2" [1] "Checking rule: rule_3" [1] "Checking intervention: intOverTotPop" [1] "Checking intervention: intOverTotPop2" [1] "Checking intervention: intOverTotPop3" [1] "Checking user variable: user_var_1" [1] "Checking rule: rule_1" [1] "Checking rule: rule_2" [1] "Checking rule: rule_3" [1] "Checking intervention: intOverTotPop" Ending interventions tests Thu Jun 13 01:49:23 2024 Took 5.35 Starting test.magellan at Thu Jun 13 01:49:23 2024 Ending test.magellan at Thu Jun 13 01:49:23 2024 Took 0.22 Starting test.modules-root-no-root at Thu Jun 13 01:49:23 2024 Ending test.modules-root-no-root at Thu Jun 13 01:49:23 2024 Took 0.15 Starting at mutPropGrowth Thu Jun 13 01:49:23 2024 Ended test.mutPropGrowth: Thu Jun 13 01:49:32 2024 Took 8.82 Starting test.mutator-oncoSimulSample.R test at Thu Jun 13 01:49:32 2024 Finished test.mutator-oncoSimulSample.R test at Thu Jun 13 01:49:40 2024 Took 8.65 seconds Starting test.mutator.R test at Thu Jun 13 01:49:40 2024[1] 4.372682e-10 [1] 4.826455e-14 Finished test.mutator.R test at Thu Jun 13 01:49:52 2024 Took 11.88 Starting test.mutatorFDF.R test at Thu Jun 13 01:49:52 2024 Starting test.no-v1 at Thu Jun 13 01:49:53 2024 Ending test.no-v1 at Thu Jun 13 01:49:54 2024 Took 0.02 Starting oncoSimulIndiv-miscell tests Thu Jun 13 01:49:54 2024 Ending oncoSimulIndiv-miscell tests Thu Jun 13 01:50:07 2024 Took 13.75 Starting oncoSimulSample-failures tests Thu Jun 13 01:50:07 2024 Ending oncoSimulSample-failures tests Thu Jun 13 01:50:12 2024 Took 4.25 Starting oncoSimulSample-limits tests Thu Jun 13 01:50:12 2024 Ending oncoSimulSample-limits tests Thu Jun 13 01:50:12 2024 Took 0.05 Starting per-gene-mutation rates at Thu Jun 13 01:50:12 2024 Ending per-gene-mutation rates at Thu Jun 13 01:50:32 2024 Took 20.14 Starting plotFitnessLandscape at Thu Jun 13 01:50:32 2024 Ending plotFitnessLandscape at Thu Jun 13 01:50:38 2024 Took 6.66 Starting poset-transformations tests Thu Jun 13 01:50:38 2024 Ending poset-transformations tests Thu Jun 13 01:50:49 2024 Took 11.02 Starting sample-prob Thu Jun 13 01:50:49 2024 [1] 3.444336e-23 [1] 1.763654e-13 [1] 1.310988e-10 [1] 1.156101e-11 [1] 4.38269e-12 [1] 1.796474e-14 [1] 4.246764e-10 [1] 3.351456e-12 [1] 3.460528e-10 [1] 2.896421e-14 [1] 8.072483e-09 [1] 7.65466e-09 Ending sample-prob tests Thu Jun 13 01:50:54 2024 Took 4.81 Starting samplePop tests Thu Jun 13 01:50:54 2024 Ending samplePop tests Thu Jun 13 01:51:02 2024 Took 7.63 Starting simuls-runs-examples tests Thu Jun 13 01:51:02 2024 Ending simuls-runs-examples tests Thu Jun 13 01:51:15 2024 Took 12.64 Starting user variable tests Thu Jun 13 01:51:15 2024 [1] "Checking user variable: user_var_1" [1] "Checking rule: rule_1" Ending user variable tests Thu Jun 13 01:51:15 2024 Took 0.5 Starting warning-mutPropGrowth tests Thu Jun 13 01:51:15 2024 Ending warning-mutPropGrowth tests Thu Jun 13 01:51:16 2024 Took 0.65 Starting wide2long tests Thu Jun 13 01:51:16 2024 Ending wide2long tests Thu Jun 13 01:51:16 2024 Took 0.25 [ FAIL 0 | WARN 20 | SKIP 5 | PASS 8418 ] ══ Skipped tests (5) ═══════════════════════════════════════════════════════════ • empty test (5): 'test.FDF-letter-fitness-order.R:376:1', 'test.ZZ-dummy-skip-warn-test.R:8:1', 'test.ZZ-dummy-skip-warn-test.R:12:1', 'test.fixation.R:4:1', 'test.init-mutant.R:1097:1' [ FAIL 0 | WARN 20 | SKIP 5 | PASS 8418 ] > > proc.time() user system elapsed 232.804 33.518 227.640
OncoSimulR.Rcheck/OncoSimulR-Ex.timings
name | user | system | elapsed | |
OncoSimulWide2Long | 0.228 | 0.004 | 0.234 | |
POM | 1.023 | 0.064 | 0.784 | |
allFitnessEffects | 3.123 | 0.092 | 3.218 | |
benchmarks | 0.010 | 0.011 | 0.022 | |
createInterventions | 0.396 | 0.004 | 0.400 | |
createUserVars | 0.694 | 0.004 | 0.697 | |
evalAllGenotypes | 0.369 | 0.036 | 0.405 | |
example-missing-drivers | 0.456 | 0.023 | 0.479 | |
examplePosets | 0.463 | 0.003 | 0.466 | |
examplesFitnessEffects | 0.069 | 0.000 | 0.069 | |
freq-dep-simul-examples | 0.010 | 0.008 | 0.018 | |
mcfLs | 0.000 | 0.000 | 0.001 | |
oncoSimulIndiv | 1.592 | 0.226 | 1.911 | |
plot.fitnessEffects | 0.420 | 0.020 | 0.441 | |
plot.oncosimul | 0.738 | 0.020 | 0.758 | |
plotClonePhylog | 2.604 | 0.116 | 2.721 | |
plotFitnessLandscape | 2.119 | 0.092 | 2.211 | |
plotPoset | 0.176 | 0.000 | 0.176 | |
poset | 0.220 | 0.012 | 0.232 | |
rfitness | 1.119 | 0.043 | 1.164 | |
samplePop | 0.081 | 0.123 | 0.115 | |
simOGraph | 0.132 | 0.006 | 0.137 | |
to_Magellan | 0.206 | 0.046 | 0.252 | |
vignette_pre_computed | 0.019 | 0.000 | 0.019 | |