Back to Multiple platform build/check report for BioC 3.19: simplified long |
|
This page was generated on 2024-06-28 17:42 -0400 (Fri, 28 Jun 2024).
Hostname | OS | Arch (*) | R version | Installed pkgs |
---|---|---|---|---|
nebbiolo1 | Linux (Ubuntu 22.04.3 LTS) | x86_64 | 4.4.0 (2024-04-24) -- "Puppy Cup" | 4760 |
palomino3 | Windows Server 2022 Datacenter | x64 | 4.4.0 (2024-04-24 ucrt) -- "Puppy Cup" | 4494 |
merida1 | macOS 12.7.4 Monterey | x86_64 | 4.4.0 (2024-04-24) -- "Puppy Cup" | 4508 |
kjohnson1 | macOS 13.6.6 Ventura | arm64 | 4.4.0 (2024-04-24) -- "Puppy Cup" | 4466 |
palomino7 | Windows Server 2022 Datacenter | x64 | 4.4.1 (2024-06-14 ucrt) -- "Race for Your Life" | 4362 |
Click on any hostname to see more info about the system (e.g. compilers) (*) as reported by 'uname -p', except on Windows and Mac OS X |
Package 1907/2300 | Hostname | OS / Arch | INSTALL | BUILD | CHECK | BUILD BIN | ||||||||
Sconify 1.24.0 (landing page) Tyler J Burns
| nebbiolo1 | Linux (Ubuntu 22.04.3 LTS) / x86_64 | OK | OK | OK | |||||||||
palomino3 | Windows Server 2022 Datacenter / x64 | OK | OK | OK | OK | |||||||||
merida1 | macOS 12.7.4 Monterey / x86_64 | OK | OK | OK | OK | |||||||||
kjohnson1 | macOS 13.6.6 Ventura / arm64 | OK | OK | OK | OK | |||||||||
palomino7 | Windows Server 2022 Datacenter / x64 | OK | OK | OK | OK | |||||||||
To the developers/maintainers of the Sconify package: - Allow up to 24 hours (and sometimes 48 hours) for your latest push to git@git.bioconductor.org:packages/Sconify.git to reflect on this report. See Troubleshooting Build Report for more information. - Use the following Renviron settings to reproduce errors and warnings. - If 'R CMD check' started to fail recently on the Linux builder(s) over a missing dependency, add the missing dependency to 'Suggests:' in your DESCRIPTION file. See Renviron.bioc for more information. |
Package: Sconify |
Version: 1.24.0 |
Command: F:\biocbuild\bbs-3.19-bioc\R\bin\R.exe CMD check --no-multiarch --install=check:Sconify.install-out.txt --library=F:\biocbuild\bbs-3.19-bioc\R\library --no-vignettes --timings Sconify_1.24.0.tar.gz |
StartedAt: 2024-06-27 05:56:14 -0400 (Thu, 27 Jun 2024) |
EndedAt: 2024-06-27 05:58:31 -0400 (Thu, 27 Jun 2024) |
EllapsedTime: 137.1 seconds |
RetCode: 0 |
Status: OK |
CheckDir: Sconify.Rcheck |
Warnings: 0 |
############################################################################## ############################################################################## ### ### Running command: ### ### F:\biocbuild\bbs-3.19-bioc\R\bin\R.exe CMD check --no-multiarch --install=check:Sconify.install-out.txt --library=F:\biocbuild\bbs-3.19-bioc\R\library --no-vignettes --timings Sconify_1.24.0.tar.gz ### ############################################################################## ############################################################################## * using log directory 'F:/biocbuild/bbs-3.19-bioc/meat/Sconify.Rcheck' * using R version 4.4.0 (2024-04-24 ucrt) * using platform: x86_64-w64-mingw32 * R was compiled by gcc.exe (GCC) 13.2.0 GNU Fortran (GCC) 13.2.0 * running under: Windows Server 2022 x64 (build 20348) * using session charset: UTF-8 * using option '--no-vignettes' * checking for file 'Sconify/DESCRIPTION' ... OK * checking extension type ... Package * this is package 'Sconify' version '1.24.0' * package encoding: UTF-8 * checking package namespace information ... OK * checking package dependencies ... OK * checking if this is a source package ... OK * checking if there is a namespace ... OK * checking for hidden files and directories ... OK * checking for portable file names ... OK * checking whether package 'Sconify' can be installed ... OK * checking installed package size ... OK * checking package directory ... OK * checking 'build' directory ... OK * checking DESCRIPTION meta-information ... OK * checking top-level files ... OK * checking for left-over files ... OK * checking index information ... OK * checking package subdirectories ... OK * checking code files for non-ASCII characters ... OK * checking R files for syntax errors ... OK * checking whether the package can be loaded ... OK * checking whether the package can be loaded with stated dependencies ... OK * checking whether the package can be unloaded cleanly ... OK * checking whether the namespace can be loaded with stated dependencies ... OK * checking whether the namespace can be unloaded cleanly ... OK * checking dependencies in R code ... OK * checking S3 generic/method consistency ... OK * checking replacement functions ... OK * checking foreign function calls ... OK * checking R code for possible problems ... OK * checking Rd files ... OK * checking Rd metadata ... OK * checking Rd cross-references ... OK * checking for missing documentation entries ... OK * checking for code/documentation mismatches ... OK * checking Rd \usage sections ... OK * checking Rd contents ... OK * checking for unstated dependencies in examples ... OK * checking contents of 'data' directory ... OK * checking data for non-ASCII characters ... OK * checking LazyData ... OK * checking data for ASCII and uncompressed saves ... OK * checking files in 'vignettes' ... OK * checking examples ... OK Examples with CPU (user + system) or elapsed time > 5s user system elapsed SconeValues 18.44 0.72 19.16 * checking for unstated dependencies in 'tests' ... OK * checking tests ... Running 'testthat.R' OK * checking for unstated dependencies in vignettes ... OK * checking package vignettes ... OK * checking running R code from vignettes ... SKIPPED * checking re-building of vignette outputs ... SKIPPED * checking PDF version of manual ... OK * DONE Status: OK
Sconify.Rcheck/00install.out
############################################################################## ############################################################################## ### ### Running command: ### ### F:\biocbuild\bbs-3.19-bioc\R\bin\R.exe CMD INSTALL Sconify ### ############################################################################## ############################################################################## * installing to library 'F:/biocbuild/bbs-3.19-bioc/R/library' * installing *source* package 'Sconify' ... ** using staged installation ** R ** data *** moving datasets to lazyload DB ** inst ** byte-compile and prepare package for lazy loading Note: wrong number of arguments to '/' Note: wrong number of arguments to 'asinh' ** help *** installing help indices ** building package indices ** installing vignettes ** testing if installed package can be loaded from temporary location ** testing if installed package can be loaded from final location ** testing if installed package keeps a record of temporary installation path * DONE (Sconify)
Sconify.Rcheck/tests/testthat.Rout
R version 4.4.0 (2024-04-24 ucrt) -- "Puppy Cup" Copyright (C) 2024 The R Foundation for Statistical Computing Platform: x86_64-w64-mingw32/x64 R is free software and comes with ABSOLUTELY NO WARRANTY. You are welcome to redistribute it under certain conditions. Type 'license()' or 'licence()' for distribution details. R is a collaborative project with many contributors. Type 'contributors()' for more information and 'citation()' on how to cite R or R packages in publications. Type 'demo()' for some demos, 'help()' for on-line help, or 'help.start()' for an HTML browser interface to help. Type 'q()' to quit R. > library(testthat) > library(Sconify) > > test_check("Sconify") Read the 100 x 27 data matrix successfully! OpenMP is working. 1 threads. Using no_dims = 2, perplexity = 30.000000, and theta = 0.500000 Computing input similarities... Building tree... Done in 0.02 seconds (sparsity = 0.967000)! Learning embedding... Iteration 50: error is 52.980893 (50 iterations in 0.01 seconds) Iteration 100: error is 53.860146 (50 iterations in 0.02 seconds) Iteration 150: error is 52.444672 (50 iterations in 0.01 seconds) Iteration 200: error is 51.509023 (50 iterations in 0.01 seconds) Iteration 250: error is 54.438858 (50 iterations in 0.02 seconds) Iteration 300: error is 1.200027 (50 iterations in 0.01 seconds) Iteration 350: error is 0.723002 (50 iterations in 0.01 seconds) Iteration 400: error is 0.382144 (50 iterations in 0.01 seconds) Iteration 450: error is 0.194081 (50 iterations in 0.01 seconds) Iteration 500: error is 0.176623 (50 iterations in 0.01 seconds) Iteration 550: error is 0.176729 (50 iterations in 0.01 seconds) Iteration 600: error is 0.168823 (50 iterations in 0.01 seconds) Iteration 650: error is 0.169545 (50 iterations in 0.01 seconds) Iteration 700: error is 0.171052 (50 iterations in 0.01 seconds) Iteration 750: error is 0.169810 (50 iterations in 0.01 seconds) Iteration 800: error is 0.168967 (50 iterations in 0.01 seconds) Iteration 850: error is 0.168046 (50 iterations in 0.01 seconds) Iteration 900: error is 0.168336 (50 iterations in 0.01 seconds) Iteration 950: error is 0.165599 (50 iterations in 0.01 seconds) Iteration 1000: error is 0.166102 (50 iterations in 0.01 seconds) Fitting performed in 0.23 seconds. Read the 1000 x 27 data matrix successfully! OpenMP is working. 1 threads. Using no_dims = 2, perplexity = 30.000000, and theta = 0.500000 Computing input similarities... Building tree... Done in 0.24 seconds (sparsity = 0.129120)! Learning embedding... Iteration 50: error is 65.006102 (50 iterations in 0.27 seconds) Iteration 100: error is 60.676981 (50 iterations in 0.19 seconds) Iteration 150: error is 60.290958 (50 iterations in 0.13 seconds) Iteration 200: error is 60.166313 (50 iterations in 0.14 seconds) Iteration 250: error is 60.107727 (50 iterations in 0.20 seconds) Iteration 300: error is 1.348287 (50 iterations in 0.17 seconds) Iteration 350: error is 1.239919 (50 iterations in 0.16 seconds) Iteration 400: error is 1.213722 (50 iterations in 0.13 seconds) Iteration 450: error is 1.197665 (50 iterations in 0.11 seconds) Iteration 500: error is 1.188782 (50 iterations in 0.16 seconds) Iteration 550: error is 1.182767 (50 iterations in 0.17 seconds) Iteration 600: error is 1.177434 (50 iterations in 0.17 seconds) Iteration 650: error is 1.172447 (50 iterations in 0.13 seconds) Iteration 700: error is 1.169847 (50 iterations in 0.11 seconds) Iteration 750: error is 1.167372 (50 iterations in 0.11 seconds) Iteration 800: error is 1.166216 (50 iterations in 0.13 seconds) Iteration 850: error is 1.164258 (50 iterations in 0.14 seconds) Iteration 900: error is 1.161535 (50 iterations in 0.12 seconds) Iteration 950: error is 1.159946 (50 iterations in 0.13 seconds) Iteration 1000: error is 1.158087 (50 iterations in 0.12 seconds) Fitting performed in 2.98 seconds. [ FAIL 0 | WARN 4 | SKIP 0 | PASS 72 ] [ FAIL 0 | WARN 4 | SKIP 0 | PASS 72 ] > > proc.time() user system elapsed 24.42 1.28 25.71
Sconify.Rcheck/Sconify-Ex.timings
name | user | system | elapsed | |
FcsToTibble | 0.16 | 0.00 | 0.25 | |
Fnn | 0.68 | 0.67 | 1.37 | |
GetKnnDe | 0.08 | 0.00 | 0.08 | |
GetMarkerNames | 0.05 | 0.00 | 0.04 | |
ImputeTesting | 4.21 | 0.11 | 4.33 | |
MakeHist | 0.43 | 0.00 | 0.42 | |
MakeKnnList | 0.32 | 0.00 | 0.33 | |
MeaningOfLife | 0 | 0 | 0 | |
ParseMarkers | 0.38 | 0.06 | 0.82 | |
PostProcessing | 0.14 | 0.00 | 0.14 | |
ProcessMultipleFiles | 0.17 | 0.00 | 0.21 | |
QuantNormalizeElements | 0.25 | 0.02 | 0.27 | |
SconeValues | 18.44 | 0.72 | 19.16 | |
SplitFile | 0.11 | 0.03 | 0.14 | |
StringToNumbers | 0 | 0 | 0 | |
SubsampleAndTsne | 2.02 | 0.03 | 2.05 | |
TsneVis | 0.25 | 0.02 | 0.27 | |