Back to Multiple platform build/check report for BioC 3.19: simplified long |
|
This page was generated on 2024-05-09 11:40:35 -0400 (Thu, 09 May 2024).
Hostname | OS | Arch (*) | R version | Installed pkgs |
---|---|---|---|---|
nebbiolo1 | Linux (Ubuntu 22.04.3 LTS) | x86_64 | 4.4.0 (2024-04-24) -- "Puppy Cup" | 4748 |
palomino3 | Windows Server 2022 Datacenter | x64 | 4.4.0 (2024-04-24 ucrt) -- "Puppy Cup" | 4484 |
lconway | macOS 12.7.1 Monterey | x86_64 | 4.4.0 (2024-04-24) -- "Puppy Cup" | 4514 |
kunpeng2 | Linux (openEuler 22.03 LTS-SP1) | aarch64 | 4.4.0 beta (2024-04-15 r86425) -- "Puppy Cup" | 4480 |
Click on any hostname to see more info about the system (e.g. compilers) (*) as reported by 'uname -p', except on Windows and Mac OS X |
Package 140/2300 | Hostname | OS / Arch | INSTALL | BUILD | CHECK | BUILD BIN | ||||||||
bayNorm 1.22.0 (landing page) Wenhao Tang
| nebbiolo1 | Linux (Ubuntu 22.04.3 LTS) / x86_64 | OK | OK | OK | |||||||||
palomino3 | Windows Server 2022 Datacenter / x64 | OK | OK | OK | OK | |||||||||
lconway | macOS 12.7.1 Monterey / x86_64 | OK | OK | OK | OK | |||||||||
kunpeng2 | Linux (openEuler 22.03 LTS-SP1) / aarch64 | OK | OK | OK | ||||||||||
kjohnson3 | macOS 13.6.5 Ventura / arm64 | see weekly results here | ||||||||||||
To the developers/maintainers of the bayNorm package: - Allow up to 24 hours (and sometimes 48 hours) for your latest push to git@git.bioconductor.org:packages/bayNorm.git to reflect on this report. See Troubleshooting Build Report for more information. - Use the following Renviron settings to reproduce errors and warnings. - If 'R CMD check' started to fail recently on the Linux builder(s) over a missing dependency, add the missing dependency to 'Suggests:' in your DESCRIPTION file. See Renviron.bioc for more information. - See Martin Grigorov's blog post for how to debug Linux ARM64 related issues on a x86_64 host. |
Package: bayNorm |
Version: 1.22.0 |
Command: /home/biocbuild/R/R-beta-2024-04-15_r86425/bin/R CMD INSTALL bayNorm |
StartedAt: 2024-05-08 20:48:35 -0000 (Wed, 08 May 2024) |
EndedAt: 2024-05-08 20:49:48 -0000 (Wed, 08 May 2024) |
EllapsedTime: 73.1 seconds |
RetCode: 0 |
Status: OK |
############################################################################## ############################################################################## ### ### Running command: ### ### /home/biocbuild/R/R-beta-2024-04-15_r86425/bin/R CMD INSTALL bayNorm ### ############################################################################## ############################################################################## * installing to library ‘/home/biocbuild/R/R-beta-2024-04-15_r86425/site-library’ * installing *source* package ‘bayNorm’ ... ** using staged installation ** libs using C++ compiler: ‘g++ (GCC) 10.3.1’ using C++11 g++ -std=gnu++11 -I"/home/biocbuild/R/R-beta-2024-04-15_r86425/include" -DNDEBUG -DARMA_64BIT_WORD=1 -I'/home/biocbuild/R/R-beta-2024-04-15_r86425/site-library/Rcpp/include' -I'/home/biocbuild/R/R-beta-2024-04-15_r86425/site-library/RcppArmadillo/include' -I'/home/biocbuild/R/R-beta-2024-04-15_r86425/site-library/RcppProgress/include' -I/usr/local/include -fopenmp -fPIC -g -O2 -Wall -c RcppExports.cpp -o RcppExports.o g++ -std=gnu++11 -I"/home/biocbuild/R/R-beta-2024-04-15_r86425/include" -DNDEBUG -DARMA_64BIT_WORD=1 -I'/home/biocbuild/R/R-beta-2024-04-15_r86425/site-library/Rcpp/include' -I'/home/biocbuild/R/R-beta-2024-04-15_r86425/site-library/RcppArmadillo/include' -I'/home/biocbuild/R/R-beta-2024-04-15_r86425/site-library/RcppProgress/include' -I/usr/local/include -fopenmp -fPIC -g -O2 -Wall -c bayNorm_main.cpp -o bayNorm_main.o bayNorm_main.cpp: In function ‘Rcpp::List EstPrior_sprcpp(arma::sp_mat)’: bayNorm_main.cpp:1374:7: warning: variable ‘Nrows’ set but not used [-Wunused-but-set-variable] 1374 | int Nrows; | ^~~~~ bayNorm_main.cpp: In function ‘Rcpp::List EstPrior_rcpp(Rcpp::NumericMatrix)’: bayNorm_main.cpp:1427:7: warning: variable ‘Nrows’ set but not used [-Wunused-but-set-variable] 1427 | int Nrows; | ^~~~~ g++ -std=gnu++11 -shared -L/home/biocbuild/R/R-beta-2024-04-15_r86425/lib -L/usr/local/lib -o bayNorm.so RcppExports.o bayNorm_main.o -fopenmp -lopenblas -lgfortran -lm -L/home/biocbuild/R/R-beta-2024-04-15_r86425/lib -lR installing to /home/biocbuild/R/R-beta-2024-04-15_r86425/site-library/00LOCK-bayNorm/00new/bayNorm/libs ** R ** data ** inst ** byte-compile and prepare package for lazy loading ** help *** installing help indices ** building package indices ** installing vignettes ** testing if installed package can be loaded from temporary location ** checking absolute paths in shared objects and dynamic libraries ** testing if installed package can be loaded from final location ** testing if installed package keeps a record of temporary installation path * DONE (bayNorm)