Back to Multiple platform build/check report for BioC 3.19: simplified long |
|
This page was generated on 2024-06-11 14:43 -0400 (Tue, 11 Jun 2024).
Hostname | OS | Arch (*) | R version | Installed pkgs |
---|---|---|---|---|
nebbiolo1 | Linux (Ubuntu 22.04.3 LTS) | x86_64 | 4.4.0 (2024-04-24) -- "Puppy Cup" | 4757 |
palomino3 | Windows Server 2022 Datacenter | x64 | 4.4.0 (2024-04-24 ucrt) -- "Puppy Cup" | 4491 |
lconway | macOS 12.7.1 Monterey | x86_64 | 4.4.0 (2024-04-24) -- "Puppy Cup" | 4522 |
kjohnson3 | macOS 13.6.5 Ventura | arm64 | 4.4.0 (2024-04-24) -- "Puppy Cup" | 4468 |
Click on any hostname to see more info about the system (e.g. compilers) (*) as reported by 'uname -p', except on Windows and Mac OS X |
Package 317/2300 | Hostname | OS / Arch | INSTALL | BUILD | CHECK | BUILD BIN | ||||||||
cfdnakit 1.2.0 (landing page) Pitithat Puranachot
| nebbiolo1 | Linux (Ubuntu 22.04.3 LTS) / x86_64 | OK | OK | OK | ![]() | ||||||||
palomino3 | Windows Server 2022 Datacenter / x64 | OK | OK | OK | OK | ![]() | ||||||||
lconway | macOS 12.7.1 Monterey / x86_64 | OK | OK | OK | OK | ![]() | ||||||||
kjohnson3 | macOS 13.6.5 Ventura / arm64 | OK | OK | OK | OK | ![]() | ||||||||
To the developers/maintainers of the cfdnakit package: - Allow up to 24 hours (and sometimes 48 hours) for your latest push to git@git.bioconductor.org:packages/cfdnakit.git to reflect on this report. See Troubleshooting Build Report for more information. - Use the following Renviron settings to reproduce errors and warnings. - If 'R CMD check' started to fail recently on the Linux builder(s) over a missing dependency, add the missing dependency to 'Suggests:' in your DESCRIPTION file. See Renviron.bioc for more information. |
Package: cfdnakit |
Version: 1.2.0 |
Command: /Library/Frameworks/R.framework/Resources/bin/R CMD check --install=check:cfdnakit.install-out.txt --library=/Library/Frameworks/R.framework/Resources/library --no-vignettes --timings cfdnakit_1.2.0.tar.gz |
StartedAt: 2024-06-10 10:07:10 -0400 (Mon, 10 Jun 2024) |
EndedAt: 2024-06-10 10:12:38 -0400 (Mon, 10 Jun 2024) |
EllapsedTime: 327.8 seconds |
RetCode: 0 |
Status: OK |
CheckDir: cfdnakit.Rcheck |
Warnings: 0 |
############################################################################## ############################################################################## ### ### Running command: ### ### /Library/Frameworks/R.framework/Resources/bin/R CMD check --install=check:cfdnakit.install-out.txt --library=/Library/Frameworks/R.framework/Resources/library --no-vignettes --timings cfdnakit_1.2.0.tar.gz ### ############################################################################## ############################################################################## * using log directory ‘/Users/biocbuild/bbs-3.19-bioc/meat/cfdnakit.Rcheck’ * using R version 4.4.0 (2024-04-24) * using platform: aarch64-apple-darwin20 * R was compiled by Apple clang version 14.0.0 (clang-1400.0.29.202) GNU Fortran (GCC) 12.2.0 * running under: macOS Ventura 13.6.5 * using session charset: UTF-8 * using option ‘--no-vignettes’ * checking for file ‘cfdnakit/DESCRIPTION’ ... OK * this is package ‘cfdnakit’ version ‘1.2.0’ * package encoding: UTF-8 * checking package namespace information ... OK * checking package dependencies ... OK * checking if this is a source package ... OK * checking if there is a namespace ... OK * checking for hidden files and directories ... OK * checking for portable file names ... OK * checking for sufficient/correct file permissions ... OK * checking whether package ‘cfdnakit’ can be installed ... OK * checking installed package size ... OK * checking package directory ... OK * checking ‘build’ directory ... OK * checking DESCRIPTION meta-information ... OK * checking top-level files ... OK * checking for left-over files ... OK * checking index information ... OK * checking package subdirectories ... OK * checking code files for non-ASCII characters ... OK * checking R files for syntax errors ... OK * checking whether the package can be loaded ... OK * checking whether the package can be loaded with stated dependencies ... OK * checking whether the package can be unloaded cleanly ... OK * checking whether the namespace can be loaded with stated dependencies ... OK * checking whether the namespace can be unloaded cleanly ... OK * checking dependencies in R code ... OK * checking S3 generic/method consistency ... OK * checking replacement functions ... OK * checking foreign function calls ... OK * checking R code for possible problems ... OK * checking Rd files ... OK * checking Rd metadata ... OK * checking Rd cross-references ... OK * checking for missing documentation entries ... OK * checking for code/documentation mismatches ... OK * checking Rd \usage sections ... OK * checking Rd contents ... OK * checking for unstated dependencies in examples ... OK * checking files in ‘vignettes’ ... OK * checking examples ... OK Examples with CPU (user + system) or elapsed time > 5s user system elapsed cfdnakit-package 13.053 0.490 18.826 call_cnv 12.459 0.259 17.811 plot_transformed_sl 11.608 0.314 16.511 plot_cnv_solution 11.541 0.321 16.764 plot_distance_matrix 11.122 0.308 16.475 calculate_CES_score 10.753 0.282 15.437 segmentByPSCB 10.301 0.339 14.482 get_solution_table 10.254 0.267 14.829 get_zscore_profile 10.190 0.263 14.781 create_PoN 8.546 0.341 12.491 plot_sl_ratio 6.201 0.075 8.921 * checking for unstated dependencies in vignettes ... OK * checking package vignettes ... OK * checking running R code from vignettes ... SKIPPED * checking re-building of vignette outputs ... SKIPPED * checking PDF version of manual ... OK * DONE Status: OK
cfdnakit.Rcheck/00install.out
############################################################################## ############################################################################## ### ### Running command: ### ### /Library/Frameworks/R.framework/Resources/bin/R CMD INSTALL cfdnakit ### ############################################################################## ############################################################################## * installing to library ‘/Library/Frameworks/R.framework/Versions/4.4-arm64/Resources/library’ * installing *source* package ‘cfdnakit’ ... ** using staged installation ** R ** inst ** byte-compile and prepare package for lazy loading ** help *** installing help indices ** building package indices ** installing vignettes ** testing if installed package can be loaded from temporary location ** testing if installed package can be loaded from final location ** testing if installed package keeps a record of temporary installation path * DONE (cfdnakit)
cfdnakit.Rcheck/cfdnakit-Ex.timings
name | user | system | elapsed | |
calculate_CES_score | 10.753 | 0.282 | 15.437 | |
call_cnv | 12.459 | 0.259 | 17.811 | |
cfdnakit-package | 13.053 | 0.490 | 18.826 | |
create_PoN | 8.546 | 0.341 | 12.491 | |
extract_insert_size | 0.156 | 0.003 | 0.229 | |
get_fragment_profile | 2.373 | 0.020 | 3.366 | |
get_solution_table | 10.254 | 0.267 | 14.829 | |
get_zscore_profile | 10.190 | 0.263 | 14.781 | |
plot_cnv_solution | 11.541 | 0.321 | 16.764 | |
plot_distance_matrix | 11.122 | 0.308 | 16.475 | |
plot_fragment_dist | 0.437 | 0.009 | 0.627 | |
plot_sl_ratio | 6.201 | 0.075 | 8.921 | |
plot_transformed_sl | 11.608 | 0.314 | 16.511 | |
read_bamfile | 2.661 | 0.348 | 4.010 | |
segmentByPSCB | 10.301 | 0.339 | 14.482 | |
test_isize_KolmogorovSmirnov | 0.250 | 0.009 | 0.337 | |