Back to Multiple platform build/check report for BioC 3.19: simplified long |
|
This page was generated on 2024-05-09 11:40:40 -0400 (Thu, 09 May 2024).
Hostname | OS | Arch (*) | R version | Installed pkgs |
---|---|---|---|---|
nebbiolo1 | Linux (Ubuntu 22.04.3 LTS) | x86_64 | 4.4.0 (2024-04-24) -- "Puppy Cup" | 4748 |
palomino3 | Windows Server 2022 Datacenter | x64 | 4.4.0 (2024-04-24 ucrt) -- "Puppy Cup" | 4484 |
lconway | macOS 12.7.1 Monterey | x86_64 | 4.4.0 (2024-04-24) -- "Puppy Cup" | 4514 |
kunpeng2 | Linux (openEuler 22.03 LTS-SP1) | aarch64 | 4.4.0 beta (2024-04-15 r86425) -- "Puppy Cup" | 4480 |
Click on any hostname to see more info about the system (e.g. compilers) (*) as reported by 'uname -p', except on Windows and Mac OS X |
Package 366/2300 | Hostname | OS / Arch | INSTALL | BUILD | CHECK | BUILD BIN | ||||||||
Oriol Senan Campos
| nebbiolo1 | Linux (Ubuntu 22.04.3 LTS) / x86_64 | OK | ERROR | skipped | |||||||||
palomino3 | Windows Server 2022 Datacenter / x64 | OK | ERROR | skipped | skipped | |||||||||
lconway | macOS 12.7.1 Monterey / x86_64 | OK | ERROR | skipped | skipped | |||||||||
kunpeng2 | Linux (openEuler 22.03 LTS-SP1) / aarch64 | OK | ERROR | skipped | ||||||||||
kjohnson3 | macOS 13.6.5 Ventura / arm64 | see weekly results here | ||||||||||||
To the developers/maintainers of the cliqueMS package: - Allow up to 24 hours (and sometimes 48 hours) for your latest push to git@git.bioconductor.org:packages/cliqueMS.git to reflect on this report. See Troubleshooting Build Report for more information. - Use the following Renviron settings to reproduce errors and warnings. - If 'R CMD check' started to fail recently on the Linux builder(s) over a missing dependency, add the missing dependency to 'Suggests:' in your DESCRIPTION file. See Renviron.bioc for more information. - See Martin Grigorov's blog post for how to debug Linux ARM64 related issues on a x86_64 host. |
Package: cliqueMS |
Version: 1.18.0 |
Command: /home/biocbuild/R/R-beta-2024-04-15_r86425/bin/R CMD INSTALL cliqueMS |
StartedAt: 2024-05-08 20:44:48 -0000 (Wed, 08 May 2024) |
EndedAt: 2024-05-08 20:46:38 -0000 (Wed, 08 May 2024) |
EllapsedTime: 110.0 seconds |
RetCode: 0 |
Status: OK |
############################################################################## ############################################################################## ### ### Running command: ### ### /home/biocbuild/R/R-beta-2024-04-15_r86425/bin/R CMD INSTALL cliqueMS ### ############################################################################## ############################################################################## * installing to library ‘/home/biocbuild/R/R-beta-2024-04-15_r86425/site-library’ * installing *source* package ‘cliqueMS’ ... ** using staged installation ** libs using C++ compiler: ‘g++ (GCC) 10.3.1’ using C++11 g++ -std=gnu++11 -I"/home/biocbuild/R/R-beta-2024-04-15_r86425/include" -DNDEBUG -I'/home/biocbuild/R/R-beta-2024-04-15_r86425/site-library/Rcpp/include' -I'/home/biocbuild/R/R-beta-2024-04-15_r86425/site-library/BH/include' -I'/home/biocbuild/R/R-beta-2024-04-15_r86425/site-library/RcppArmadillo/include' -I/usr/local/include -fopenmp -fPIC -g -O2 -Wall -c RcppExports.cpp -o RcppExports.o g++ -std=gnu++11 -I"/home/biocbuild/R/R-beta-2024-04-15_r86425/include" -DNDEBUG -I'/home/biocbuild/R/R-beta-2024-04-15_r86425/site-library/Rcpp/include' -I'/home/biocbuild/R/R-beta-2024-04-15_r86425/site-library/BH/include' -I'/home/biocbuild/R/R-beta-2024-04-15_r86425/site-library/RcppArmadillo/include' -I/usr/local/include -fopenmp -fPIC -g -O2 -Wall -c findAnnotationR.cpp -o findAnnotationR.o In file included from findAnnotationR.cpp:1: annotationCliqueMSR.h: In function ‘std::vector<std::pair<double, double> > sortMass(annotData&, int, std::unordered_map<double, std::pair<double, double> >, int)’: annotationCliqueMSR.h:440:11: warning: comparison of integer expressions of different signedness: ‘int’ and ‘std::vector<std::pair<double, double> >::size_type’ {aka ‘long unsigned int’} [-Wsign-compare] 440 | if(id < allM.size()) // not add more masses in case that for that feature are less than "n" top masses | ~~~^~~~~~~~~~~~~ annotationCliqueMSR.h: In function ‘std::unordered_set<double> getTopScoringMasses(annotData&, int, rawadList, int, int, double)’: annotationCliqueMSR.h:476:11: warning: comparison of integer expressions of different signedness: ‘int’ and ‘std::vector<std::pair<double, double> >::size_type’ {aka ‘long unsigned int’} [-Wsign-compare] 476 | if(id < allM.size()) // not add more masses in case that there are less than "n" top masses | ~~~^~~~~~~~~~~~~ annotationCliqueMSR.h: In function ‘std::vector<int> sortAnnotations(std::unordered_map<int, Annotation>&, int)’: annotationCliqueMSR.h:725:11: warning: comparison of integer expressions of different signedness: ‘int’ and ‘std::vector<std::pair<double, int> >::size_type’ {aka ‘long unsigned int’} [-Wsign-compare] 725 | if(id < allAn.size() ) | ~~~^~~~~~~~~~~~~~ annotationCliqueMSR.h: In function ‘double computeMaxScore(std::vector<double>&, int, double)’: annotationCliqueMSR.h:739:24: warning: ‘completeroundscore’ may be used uninitialized in this function [-Wmaybe-uninitialized] 739 | completeroundscore += *ritv; | ~~~~~~~~~~~~~~~~~~~^~~~~~~~ g++ -std=gnu++11 -I"/home/biocbuild/R/R-beta-2024-04-15_r86425/include" -DNDEBUG -I'/home/biocbuild/R/R-beta-2024-04-15_r86425/site-library/Rcpp/include' -I'/home/biocbuild/R/R-beta-2024-04-15_r86425/site-library/BH/include' -I'/home/biocbuild/R/R-beta-2024-04-15_r86425/site-library/RcppArmadillo/include' -I/usr/local/include -fopenmp -fPIC -g -O2 -Wall -c findCliquesR.cpp -o findCliquesR.o g++ -std=gnu++11 -I"/home/biocbuild/R/R-beta-2024-04-15_r86425/include" -DNDEBUG -I'/home/biocbuild/R/R-beta-2024-04-15_r86425/site-library/Rcpp/include' -I'/home/biocbuild/R/R-beta-2024-04-15_r86425/site-library/BH/include' -I'/home/biocbuild/R/R-beta-2024-04-15_r86425/site-library/RcppArmadillo/include' -I/usr/local/include -fopenmp -fPIC -g -O2 -Wall -c findIsotopesR.cpp -o findIsotopesR.o g++ -std=gnu++11 -shared -L/home/biocbuild/R/R-beta-2024-04-15_r86425/lib -L/usr/local/lib -o cliqueMS.so RcppExports.o findAnnotationR.o findCliquesR.o findIsotopesR.o -fopenmp -lopenblas -lgfortran -lm -L/home/biocbuild/R/R-beta-2024-04-15_r86425/lib -lR installing to /home/biocbuild/R/R-beta-2024-04-15_r86425/site-library/00LOCK-cliqueMS/00new/cliqueMS/libs ** R ** data ** inst ** byte-compile and prepare package for lazy loading ** help *** installing help indices ** building package indices ** installing vignettes ** testing if installed package can be loaded from temporary location Warning in fun(libname, pkgname) : Package 'cliqueMS' is deprecated and will be removed from Bioconductor version 3.20 ** checking absolute paths in shared objects and dynamic libraries ** testing if installed package can be loaded from final location Warning in fun(libname, pkgname) : Package 'cliqueMS' is deprecated and will be removed from Bioconductor version 3.20 ** testing if installed package keeps a record of temporary installation path * DONE (cliqueMS)