Back to Multiple platform build/check report for BioC 3.19: simplified long | |
This page was generated on 2024-03-04 11:39:03 -0500 (Mon, 04 Mar 2024).
Hostname | OS | Arch (*) | R version | Installed pkgs |
nebbiolo1 | Linux (Ubuntu 22.04.3 LTS) | x86_64 | R Under development (unstable) (2024-01-16 r85808) -- "Unsuffered Consequences"
| 4676 |
palomino3 | Windows Server 2022 Datacenter | x64 | R Under development (unstable) (2024-01-14 r85805 ucrt) -- "Unsuffered Consequences"
| 4414 |
merida1 | macOS 12.7.1 Monterey | x86_64 | R Under development (unstable) (2024-01-16 r85808) -- "Unsuffered Consequences"
| 4441 |
kunpeng2 | Linux (openEuler 22.03 LTS-SP1) | aarch64 | R Under development (unstable) (2024-01-16 r85812) -- "Unsuffered Consequences"
| 4417 |
Click on any hostname to see more info about the system (e.g. compilers) (*) as reported by 'uname -p', except on Windows and Mac OS X |
| crisprScore 1.7.2 (landing page) Jean-Philippe Fortin
Snapshot Date: 2024-03-01 14:00:22 -0500 (Fri, 01 Mar 2024) |
git_url: https://git.bioconductor.org/packages/crisprScore |
git_branch: devel |
git_last_commit: 4e9d45f |
git_last_commit_date: 2024-01-16 14:09:00 -0500 (Tue, 16 Jan 2024) |
| nebbiolo1 | Linux (Ubuntu 22.04.3 LTS) / x86_64 | OK | OK | OK | | | |
| palomino3 | Windows Server 2022 Datacenter / x64 | OK | OK | OK | OK | | |
| merida1 | macOS 12.7.1 Monterey / x86_64 | OK | OK | OK | OK | | |
| kunpeng2 | Linux (openEuler 22.03 LTS-SP1) / aarch64 | OK | OK | OK | | | |
BUILD results for crisprScore on merida1
To the developers/maintainers of the crisprScore package:
- Allow up to 24 hours (and sometimes 48 hours) for your latest push to git@git.bioconductor.org:packages/crisprScore.git to reflect on this report. See Troubleshooting Build Report for more information.
- Use the following Renviron settings to reproduce errors and warnings.
- If 'R CMD check' started to fail recently on the Linux builder(s) over a missing dependency, add the missing dependency to 'Suggests:' in your DESCRIPTION file. See Renviron.bioc for more information.
|
raw results
Summary
Command output