Back to Multiple platform build/check report for BioC 3.19: simplified long |
|
This page was generated on 2024-03-04 11:39:23 -0500 (Mon, 04 Mar 2024).
Hostname | OS | Arch (*) | R version | Installed pkgs |
---|---|---|---|---|
nebbiolo1 | Linux (Ubuntu 22.04.3 LTS) | x86_64 | R Under development (unstable) (2024-01-16 r85808) -- "Unsuffered Consequences" | 4676 |
palomino3 | Windows Server 2022 Datacenter | x64 | R Under development (unstable) (2024-01-14 r85805 ucrt) -- "Unsuffered Consequences" | 4414 |
merida1 | macOS 12.7.1 Monterey | x86_64 | R Under development (unstable) (2024-01-16 r85808) -- "Unsuffered Consequences" | 4441 |
kunpeng2 | Linux (openEuler 22.03 LTS-SP1) | aarch64 | R Under development (unstable) (2024-01-16 r85812) -- "Unsuffered Consequences" | 4417 |
Click on any hostname to see more info about the system (e.g. compilers) (*) as reported by 'uname -p', except on Windows and Mac OS X |
Package 1046/2251 | Hostname | OS / Arch | INSTALL | BUILD | CHECK | BUILD BIN | ||||||||
iSEEindex 1.1.1 (landing page) Kevin Rue-Albrecht
| nebbiolo1 | Linux (Ubuntu 22.04.3 LTS) / x86_64 | OK | OK | WARNINGS | |||||||||
palomino3 | Windows Server 2022 Datacenter / x64 | OK | OK | WARNINGS | OK | |||||||||
merida1 | macOS 12.7.1 Monterey / x86_64 | OK | OK | WARNINGS | OK | |||||||||
kunpeng2 | Linux (openEuler 22.03 LTS-SP1) / aarch64 | OK | OK | WARNINGS | ||||||||||
To the developers/maintainers of the iSEEindex package: - Allow up to 24 hours (and sometimes 48 hours) for your latest push to git@git.bioconductor.org:packages/iSEEindex.git to reflect on this report. See Troubleshooting Build Report for more information. - Use the following Renviron settings to reproduce errors and warnings. - If 'R CMD check' started to fail recently on the Linux builder(s) over a missing dependency, add the missing dependency to 'Suggests:' in your DESCRIPTION file. See Renviron.bioc for more information. |
Package: iSEEindex |
Version: 1.1.1 |
Command: rm -rf iSEEindex.buildbin-libdir && mkdir iSEEindex.buildbin-libdir && /Users/biocbuild/BBS/utils/build-universal.sh iSEEindex_1.1.1.tar.gz /Library/Frameworks/R.framework/Resources/bin/R iSEEindex.buildbin-libdir |
StartedAt: 2024-03-02 13:44:02 -0500 (Sat, 02 Mar 2024) |
EndedAt: 2024-03-02 13:45:18 -0500 (Sat, 02 Mar 2024) |
EllapsedTime: 75.2 seconds |
RetCode: 0 |
Status: OK |
PackageFile: iSEEindex_1.1.1.tgz |
PackageFileSize: 1.521 MiB |
############################################################################## ############################################################################## ### ### Running command: ### ### rm -rf iSEEindex.buildbin-libdir && mkdir iSEEindex.buildbin-libdir && /Users/biocbuild/BBS/utils/build-universal.sh iSEEindex_1.1.1.tar.gz /Library/Frameworks/R.framework/Resources/bin/R iSEEindex.buildbin-libdir ### ############################################################################## ############################################################################## >>>>>>> >>>>>>> INSTALLATION WITH 'R CMD INSTALL --preclean --no-multiarch --library=iSEEindex.buildbin-libdir iSEEindex_1.1.1.tar.gz' >>>>>>> * installing *source* package ‘iSEEindex’ ... ** using staged installation ** R ** inst ** byte-compile and prepare package for lazy loading ** help *** installing help indices ** building package indices ** installing vignettes ** testing if installed package can be loaded from temporary location ** testing if installed package can be loaded from final location ** testing if installed package keeps a record of temporary installation path * DONE (iSEEindex)