Back to Multiple platform build/check report for BioC 3.19:   simplified   long
ABCDEFGHIJKL[M]NOPQRSTUVWXYZ

This page was generated on 2024-10-18 20:42 -0400 (Fri, 18 Oct 2024).

HostnameOSArch (*)R versionInstalled pkgs
nebbiolo1Linux (Ubuntu 22.04.3 LTS)x86_644.4.1 (2024-06-14) -- "Race for Your Life" 4763
palomino7Windows Server 2022 Datacenterx644.4.1 (2024-06-14 ucrt) -- "Race for Your Life" 4500
merida1macOS 12.7.5 Montereyx86_644.4.1 (2024-06-14) -- "Race for Your Life" 4530
kjohnson1macOS 13.6.6 Venturaarm644.4.1 (2024-06-14) -- "Race for Your Life" 4480
Click on any hostname to see more info about the system (e.g. compilers)      (*) as reported by 'uname -p', except on Windows and Mac OS X

Package 1164/2300HostnameOS / ArchINSTALLBUILDCHECKBUILD BIN
maSigPro 1.76.0  (landing page)
Maria Jose Nueda
Snapshot Date: 2024-10-16 14:00 -0400 (Wed, 16 Oct 2024)
git_url: https://git.bioconductor.org/packages/maSigPro
git_branch: RELEASE_3_19
git_last_commit: 2817185
git_last_commit_date: 2024-04-30 10:14:36 -0400 (Tue, 30 Apr 2024)
nebbiolo1Linux (Ubuntu 22.04.3 LTS) / x86_64  OK    OK    OK  UNNEEDED, same version is already published
palomino7Windows Server 2022 Datacenter / x64  OK    OK    OK    OK  UNNEEDED, same version is already published
merida1macOS 12.7.5 Monterey / x86_64  OK    OK    OK    OK  UNNEEDED, same version is already published
kjohnson1macOS 13.6.6 Ventura / arm64  OK    OK    OK    OK  UNNEEDED, same version is already published


CHECK results for maSigPro on kjohnson1

To the developers/maintainers of the maSigPro package:
- Allow up to 24 hours (and sometimes 48 hours) for your latest push to git@git.bioconductor.org:packages/maSigPro.git to reflect on this report. See Troubleshooting Build Report for more information.
- Use the following Renviron settings to reproduce errors and warnings.
- If 'R CMD check' started to fail recently on the Linux builder(s) over a missing dependency, add the missing dependency to 'Suggests:' in your DESCRIPTION file. See Renviron.bioc for more information.

raw results


Summary

Package: maSigPro
Version: 1.76.0
Command: /Library/Frameworks/R.framework/Resources/bin/R CMD check --install=check:maSigPro.install-out.txt --library=/Library/Frameworks/R.framework/Resources/library --no-vignettes --timings maSigPro_1.76.0.tar.gz
StartedAt: 2024-10-18 02:39:58 -0400 (Fri, 18 Oct 2024)
EndedAt: 2024-10-18 02:42:46 -0400 (Fri, 18 Oct 2024)
EllapsedTime: 167.9 seconds
RetCode: 0
Status:   OK  
CheckDir: maSigPro.Rcheck
Warnings: 0

Command output

##############################################################################
##############################################################################
###
### Running command:
###
###   /Library/Frameworks/R.framework/Resources/bin/R CMD check --install=check:maSigPro.install-out.txt --library=/Library/Frameworks/R.framework/Resources/library --no-vignettes --timings maSigPro_1.76.0.tar.gz
###
##############################################################################
##############################################################################


* using log directory ‘/Users/biocbuild/bbs-3.19-bioc/meat/maSigPro.Rcheck’
* using R version 4.4.1 (2024-06-14)
* using platform: aarch64-apple-darwin20
* R was compiled by
    Apple clang version 14.0.0 (clang-1400.0.29.202)
    GNU Fortran (GCC) 12.2.0
* running under: macOS Ventura 13.6.6
* using session charset: UTF-8
* using option ‘--no-vignettes’
* checking for file ‘maSigPro/DESCRIPTION’ ... OK
* checking extension type ... Package
* this is package ‘maSigPro’ version ‘1.76.0’
* checking package namespace information ... OK
* checking package dependencies ... OK
* checking if this is a source package ... OK
* checking if there is a namespace ... OK
* checking for hidden files and directories ... OK
* checking for portable file names ... OK
* checking for sufficient/correct file permissions ... OK
* checking whether package ‘maSigPro’ can be installed ... OK
* checking installed package size ... OK
* checking package directory ... OK
* checking ‘build’ directory ... OK
* checking DESCRIPTION meta-information ... OK
* checking top-level files ... OK
* checking for left-over files ... OK
* checking index information ... OK
* checking package subdirectories ... OK
* checking code files for non-ASCII characters ... OK
* checking R files for syntax errors ... OK
* checking whether the package can be loaded ... OK
* checking whether the package can be loaded with stated dependencies ... OK
* checking whether the package can be unloaded cleanly ... OK
* checking whether the namespace can be loaded with stated dependencies ... OK
* checking whether the namespace can be unloaded cleanly ... OK
* checking dependencies in R code ... OK
* checking S3 generic/method consistency ... OK
* checking replacement functions ... OK
* checking foreign function calls ... OK
* checking R code for possible problems ... OK
* checking Rd files ... OK
* checking Rd metadata ... OK
* checking Rd cross-references ... OK
* checking for missing documentation entries ... OK
* checking for code/documentation mismatches ... OK
* checking Rd \usage sections ... OK
* checking Rd contents ... OK
* checking for unstated dependencies in examples ... OK
* checking contents of ‘data’ directory ... OK
* checking data for non-ASCII characters ... OK
* checking data for ASCII and uncompressed saves ... OK
* checking sizes of PDF files under ‘inst/doc’ ... OK
* checking installed files from ‘inst/doc’ ... OK
* checking files in ‘vignettes’ ... OK
* checking examples ... OK
Examples with CPU (user + system) or elapsed time > 5s
                user system elapsed
IsoModel      12.387  0.236  12.720
ISOdata       12.328  0.228  12.642
IsoPlot       12.357  0.184  12.658
tableDS       12.220  0.296  12.576
getDSPatterns 12.151  0.262  12.431
PodiumChange  12.036  0.334  12.574
ISOdesign     12.121  0.241  12.595
seeDS         11.960  0.233  12.210
getDS         11.718  0.439  12.297
* checking for unstated dependencies in vignettes ... OK
* checking package vignettes ... OK
* checking running R code from vignettes ... SKIPPED
* checking re-building of vignette outputs ... SKIPPED
* checking PDF version of manual ... OK
* DONE

Status: OK


Installation output

maSigPro.Rcheck/00install.out

##############################################################################
##############################################################################
###
### Running command:
###
###   /Library/Frameworks/R.framework/Resources/bin/R CMD INSTALL maSigPro
###
##############################################################################
##############################################################################


* installing to library ‘/Library/Frameworks/R.framework/Versions/4.4-arm64/Resources/library’
* installing *source* package ‘maSigPro’ ...
** using staged installation
** R
** data
** inst
** byte-compile and prepare package for lazy loading
** help
*** installing help indices
** building package indices
** installing vignettes
** testing if installed package can be loaded from temporary location
** testing if installed package can be loaded from final location
** testing if installed package keeps a record of temporary installation path
* DONE (maSigPro)

Tests output


Example timings

maSigPro.Rcheck/maSigPro-Ex.timings

nameusersystemelapsed
ISOdata12.328 0.22812.642
ISOdesign12.121 0.24112.595
IsoModel12.387 0.23612.720
IsoPlot12.357 0.18412.658
NBdata0.0010.0010.002
NBdesign0.0010.0010.002
PlotGroups0.0300.0030.033
PlotProfiles0.0040.0000.005
PodiumChange12.036 0.33412.574
T.fit4.7790.0594.841
average.rows0.0020.0000.003
data.abiotic0.0050.0020.007
edesign.abiotic0.0010.0020.003
edesignCT0.0010.0010.002
edesignDR0.0010.0010.002
get.siggenes2.3500.0262.383
getDS11.718 0.43912.297
getDSPatterns12.151 0.26212.431
i.rank0.0000.0000.001
maSigProUsersGuide0.0090.0080.019
make.design.matrix0.0040.0090.014
p.vector1.4750.0231.499
position000
reg.coeffs0.0010.0000.001
see.genes0.5660.0290.597
seeDS11.960 0.23312.210
stepback0.0210.0010.022
stepfor0.0820.0020.084
suma2Venn0.0300.0050.035
tableDS12.220 0.29612.576
two.ways.stepback0.0740.0030.078
two.ways.stepfor0.0940.0030.097