Back to Multiple platform build/check report for BioC 3.19: simplified long |
|
This page was generated on 2024-06-11 14:43 -0400 (Tue, 11 Jun 2024).
Hostname | OS | Arch (*) | R version | Installed pkgs |
---|---|---|---|---|
nebbiolo1 | Linux (Ubuntu 22.04.3 LTS) | x86_64 | 4.4.0 (2024-04-24) -- "Puppy Cup" | 4757 |
palomino3 | Windows Server 2022 Datacenter | x64 | 4.4.0 (2024-04-24 ucrt) -- "Puppy Cup" | 4491 |
lconway | macOS 12.7.1 Monterey | x86_64 | 4.4.0 (2024-04-24) -- "Puppy Cup" | 4522 |
kjohnson3 | macOS 13.6.5 Ventura | arm64 | 4.4.0 (2024-04-24) -- "Puppy Cup" | 4468 |
Click on any hostname to see more info about the system (e.g. compilers) (*) as reported by 'uname -p', except on Windows and Mac OS X |
Package 2032/2300 | Hostname | OS / Arch | INSTALL | BUILD | CHECK | BUILD BIN | ||||||||
spatialDE 1.10.0 (landing page) Gabriele Sales
| nebbiolo1 | Linux (Ubuntu 22.04.3 LTS) / x86_64 | OK | OK | OK | |||||||||
palomino3 | Windows Server 2022 Datacenter / x64 | OK | OK | OK | OK | |||||||||
lconway | macOS 12.7.1 Monterey / x86_64 | OK | OK | OK | OK | |||||||||
kjohnson3 | macOS 13.6.5 Ventura / arm64 | OK | OK | OK | OK | |||||||||
To the developers/maintainers of the spatialDE package: - Allow up to 24 hours (and sometimes 48 hours) for your latest push to git@git.bioconductor.org:packages/spatialDE.git to reflect on this report. See Troubleshooting Build Report for more information. - Use the following Renviron settings to reproduce errors and warnings. - If 'R CMD check' started to fail recently on the Linux builder(s) over a missing dependency, add the missing dependency to 'Suggests:' in your DESCRIPTION file. See Renviron.bioc for more information. |
Package: spatialDE |
Version: 1.10.0 |
Command: /Library/Frameworks/R.framework/Resources/bin/R CMD check --install=check:spatialDE.install-out.txt --library=/Library/Frameworks/R.framework/Resources/library --no-vignettes --timings spatialDE_1.10.0.tar.gz |
StartedAt: 2024-06-09 23:13:39 -0400 (Sun, 09 Jun 2024) |
EndedAt: 2024-06-09 23:19:05 -0400 (Sun, 09 Jun 2024) |
EllapsedTime: 326.8 seconds |
RetCode: 0 |
Status: OK |
CheckDir: spatialDE.Rcheck |
Warnings: 0 |
############################################################################## ############################################################################## ### ### Running command: ### ### /Library/Frameworks/R.framework/Resources/bin/R CMD check --install=check:spatialDE.install-out.txt --library=/Library/Frameworks/R.framework/Resources/library --no-vignettes --timings spatialDE_1.10.0.tar.gz ### ############################################################################## ############################################################################## * using log directory ‘/Users/biocbuild/bbs-3.19-bioc/meat/spatialDE.Rcheck’ * using R version 4.4.0 (2024-04-24) * using platform: x86_64-apple-darwin20 * R was compiled by Apple clang version 14.0.0 (clang-1400.0.29.202) GNU Fortran (GCC) 12.2.0 * running under: macOS Monterey 12.7.1 * using session charset: UTF-8 * using option ‘--no-vignettes’ * checking for file ‘spatialDE/DESCRIPTION’ ... OK * this is package ‘spatialDE’ version ‘1.10.0’ * package encoding: UTF-8 * checking package namespace information ... OK * checking package dependencies ... OK * checking if this is a source package ... OK * checking if there is a namespace ... OK * checking for hidden files and directories ... OK * checking for portable file names ... OK * checking for sufficient/correct file permissions ... OK * checking whether package ‘spatialDE’ can be installed ... NOTE Found the following notes/warnings: Non-staged installation was used See ‘/Users/biocbuild/bbs-3.19-bioc/meat/spatialDE.Rcheck/00install.out’ for details. * checking installed package size ... OK * checking package directory ... OK * checking ‘build’ directory ... OK * checking DESCRIPTION meta-information ... OK * checking top-level files ... OK * checking for left-over files ... OK * checking index information ... OK * checking package subdirectories ... OK * checking code files for non-ASCII characters ... OK * checking R files for syntax errors ... OK * checking whether the package can be loaded ... OK * checking whether the package can be loaded with stated dependencies ... OK * checking whether the package can be unloaded cleanly ... OK * checking whether the namespace can be loaded with stated dependencies ... OK * checking whether the namespace can be unloaded cleanly ... OK * checking dependencies in R code ... OK * checking S3 generic/method consistency ... OK * checking replacement functions ... OK * checking foreign function calls ... OK * checking R code for possible problems ... OK * checking Rd files ... OK * checking Rd metadata ... OK * checking Rd cross-references ... OK * checking for missing documentation entries ... OK * checking for code/documentation mismatches ... OK * checking Rd \usage sections ... OK * checking Rd contents ... OK * checking for unstated dependencies in examples ... OK * checking contents of ‘data’ directory ... OK * checking data for non-ASCII characters ... OK * checking data for ASCII and uncompressed saves ... OK * checking line endings in shell scripts ... OK * checking files in ‘vignettes’ ... OK * checking examples ... OK Examples with CPU (user + system) or elapsed time > 5s user system elapsed spatial_patterns 21.853 2.130 12.474 FSV_sig 8.833 2.638 12.574 * checking for unstated dependencies in ‘tests’ ... OK * checking tests ... Running ‘testthat.R’ OK * checking for unstated dependencies in vignettes ... OK * checking package vignettes ... OK * checking running R code from vignettes ... SKIPPED * checking re-building of vignette outputs ... SKIPPED * checking PDF version of manual ... OK * DONE Status: 1 NOTE See ‘/Users/biocbuild/bbs-3.19-bioc/meat/spatialDE.Rcheck/00check.log’ for details.
spatialDE.Rcheck/00install.out
############################################################################## ############################################################################## ### ### Running command: ### ### /Library/Frameworks/R.framework/Resources/bin/R CMD INSTALL spatialDE ### ############################################################################## ############################################################################## * installing to library ‘/Library/Frameworks/R.framework/Versions/4.4-x86_64/Resources/library’ * installing *source* package ‘spatialDE’ ... ** using non-staged installation via StagedInstall field ** R ** data ** inst ** byte-compile and prepare package for lazy loading ** help *** installing help indices ** building package indices ** installing vignettes ** testing if installed package can be loaded * DONE (spatialDE)
spatialDE.Rcheck/tests/testthat.Rout
R version 4.4.0 (2024-04-24) -- "Puppy Cup" Copyright (C) 2024 The R Foundation for Statistical Computing Platform: x86_64-apple-darwin20 R is free software and comes with ABSOLUTELY NO WARRANTY. You are welcome to redistribute it under certain conditions. Type 'license()' or 'licence()' for distribution details. R is a collaborative project with many contributors. Type 'contributors()' for more information and 'citation()' on how to cite R or R packages in publications. Type 'demo()' for some demos, 'help()' for on-line help, or 'help.start()' for an HTML browser interface to help. Type 'q()' to quit R. > library(testthat) > library(spatialDE) > > test_check("spatialDE") Loading required package: SingleCellExperiment Loading required package: SummarizedExperiment Loading required package: MatrixGenerics Loading required package: matrixStats Attaching package: 'MatrixGenerics' The following objects are masked from 'package:matrixStats': colAlls, colAnyNAs, colAnys, colAvgsPerRowSet, colCollapse, colCounts, colCummaxs, colCummins, colCumprods, colCumsums, colDiffs, colIQRDiffs, colIQRs, colLogSumExps, colMadDiffs, colMads, colMaxs, colMeans2, colMedians, colMins, colOrderStats, colProds, colQuantiles, colRanges, colRanks, colSdDiffs, colSds, colSums2, colTabulates, colVarDiffs, colVars, colWeightedMads, colWeightedMeans, colWeightedMedians, colWeightedSds, colWeightedVars, rowAlls, rowAnyNAs, rowAnys, rowAvgsPerColSet, rowCollapse, rowCounts, rowCummaxs, rowCummins, rowCumprods, rowCumsums, rowDiffs, rowIQRDiffs, rowIQRs, rowLogSumExps, rowMadDiffs, rowMads, rowMaxs, rowMeans2, rowMedians, rowMins, rowOrderStats, rowProds, rowQuantiles, rowRanges, rowRanks, rowSdDiffs, rowSds, rowSums2, rowTabulates, rowVarDiffs, rowVars, rowWeightedMads, rowWeightedMeans, rowWeightedMedians, rowWeightedSds, rowWeightedVars Loading required package: GenomicRanges Loading required package: stats4 Loading required package: BiocGenerics Attaching package: 'BiocGenerics' The following objects are masked from 'package:stats': IQR, mad, sd, var, xtabs The following objects are masked from 'package:base': Filter, Find, Map, Position, Reduce, anyDuplicated, aperm, append, as.data.frame, basename, cbind, colnames, dirname, do.call, duplicated, eval, evalq, get, grep, grepl, intersect, is.unsorted, lapply, mapply, match, mget, order, paste, pmax, pmax.int, pmin, pmin.int, rank, rbind, rownames, sapply, setdiff, table, tapply, union, unique, unsplit, which.max, which.min Loading required package: S4Vectors Attaching package: 'S4Vectors' The following object is masked from 'package:utils': findMatches The following objects are masked from 'package:base': I, expand.grid, unname Loading required package: IRanges Loading required package: GenomeInfoDb Loading required package: Biobase Welcome to Bioconductor Vignettes contain introductory material; view with 'browseVignettes()'. To cite Bioconductor, see 'citation("Biobase")', and for packages 'citation("pkgname")'. Attaching package: 'Biobase' The following object is masked from 'package:MatrixGenerics': rowMedians The following objects are masked from 'package:matrixStats': anyMissing, rowMedians Models: 0%| | 0/10 [00:00<?, ?it/s] 0%| | 0/100 [00:00<?, ?it/s][A 23%|██▎ | 23/100 [00:00<00:00, 228.18it/s][A 51%|█████ | 51/100 [00:00<00:00, 255.16it/s][A 77%|███████▋ | 77/100 [00:00<00:00, 239.40it/s][A [A Models: 10%|█ | 1/10 [00:00<00:03, 2.52it/s] 0%| | 0/100 [00:00<?, ?it/s][A 22%|██▏ | 22/100 [00:00<00:00, 218.61it/s][A 44%|████▍ | 44/100 [00:00<00:00, 203.61it/s][A 65%|██████▌ | 65/100 [00:00<00:00, 204.34it/s][A 86%|████████▌ | 86/100 [00:00<00:00, 193.84it/s][A [A Models: 20%|██ | 2/10 [00:00<00:03, 2.16it/s] 0%| | 0/100 [00:00<?, ?it/s][A 21%|██ | 21/100 [00:00<00:00, 201.78it/s][A 42%|████▏ | 42/100 [00:00<00:00, 191.74it/s][A 62%|██████▏ | 62/100 [00:00<00:00, 182.82it/s][A 81%|████████ | 81/100 [00:00<00:00, 176.33it/s][A 99%|█████████▉| 99/100 [00:00<00:00, 176.08it/s][A [A Models: 30%|███ | 3/10 [00:01<00:03, 1.97it/s] 0%| | 0/100 [00:00<?, ?it/s][A 20%|██ | 20/100 [00:00<00:00, 192.31it/s][A 40%|████ | 40/100 [00:00<00:00, 180.52it/s][A 59%|█████▉ | 59/100 [00:00<00:00, 179.81it/s][A 78%|███████▊ | 78/100 [00:00<00:00, 172.34it/s][A 97%|█████████▋| 97/100 [00:00<00:00, 175.55it/s][A [A Models: 40%|████ | 4/10 [00:02<00:03, 1.88it/s] 0%| | 0/100 [00:00<?, ?it/s][A 19%|█▉ | 19/100 [00:00<00:00, 189.64it/s][A 38%|███▊ | 38/100 [00:00<00:00, 179.25it/s][A 56%|█████▌ | 56/100 [00:00<00:00, 168.98it/s][A 73%|███████▎ | 73/100 [00:00<00:00, 165.91it/s][A 90%|█████████ | 90/100 [00:00<00:00, 164.59it/s][A [A Models: 50%|█████ | 5/10 [00:02<00:02, 1.80it/s] 0%| | 0/100 [00:00<?, ?it/s][A 18%|█▊ | 18/100 [00:00<00:00, 168.63it/s][A 38%|███▊ | 38/100 [00:00<00:00, 181.26it/s][A 57%|█████▋ | 57/100 [00:00<00:00, 173.50it/s][A 75%|███████▌ | 75/100 [00:00<00:00, 175.34it/s][A 93%|█████████▎| 93/100 [00:00<00:00, 171.36it/s][A [A Models: 60%|██████ | 6/10 [00:03<00:02, 1.77it/s] 0%| | 0/100 [00:00<?, ?it/s][A 21%|██ | 21/100 [00:00<00:00, 198.57it/s][A 41%|████ | 41/100 [00:00<00:00, 182.84it/s][A 60%|██████ | 60/100 [00:00<00:00, 177.78it/s][A 78%|███████▊ | 78/100 [00:00<00:00, 171.70it/s][A 97%|█████████▋| 97/100 [00:00<00:00, 174.81it/s][A [A Models: 70%|███████ | 7/10 [00:03<00:01, 1.77it/s] 0%| | 0/100 [00:00<?, ?it/s][A 20%|██ | 20/100 [00:00<00:00, 196.27it/s][A 40%|████ | 40/100 [00:00<00:00, 194.68it/s][A 60%|██████ | 60/100 [00:00<00:00, 187.56it/s][A 79%|███████▉ | 79/100 [00:00<00:00, 184.46it/s][A 98%|█████████▊| 98/100 [00:00<00:00, 156.86it/s][A [A Models: 80%|████████ | 8/10 [00:04<00:01, 1.74it/s] 0%| | 0/100 [00:00<?, ?it/s][A 22%|██▏ | 22/100 [00:00<00:00, 215.34it/s][A 44%|████▍ | 44/100 [00:00<00:00, 195.61it/s][A 64%|██████▍ | 64/100 [00:00<00:00, 196.44it/s][A 84%|████████▍ | 84/100 [00:00<00:00, 188.19it/s][A [A Models: 90%|█████████ | 9/10 [00:04<00:00, 1.79it/s] 0%| | 0/100 [00:00<?, ?it/s][A 22%|██▏ | 22/100 [00:00<00:00, 218.95it/s][A 44%|████▍ | 44/100 [00:00<00:00, 200.37it/s][A 65%|██████▌ | 65/100 [00:00<00:00, 202.04it/s][A 86%|████████▌ | 86/100 [00:00<00:00, 197.83it/s][A [A Models: 100%|██████████| 10/10 [00:05<00:00, 1.86it/s] Models: 100%|██████████| 10/10 [00:05<00:00, 1.86it/s] Warning! ELBO dit not converge after 100 iters! Models: 0%| | 0/10 [00:00<?, ?it/s] 0%| | 0/100 [00:00<?, ?it/s][A 30%|███ | 30/100 [00:00<00:00, 297.26it/s][A 60%|██████ | 60/100 [00:00<00:00, 277.32it/s][A 88%|████████▊ | 88/100 [00:00<00:00, 271.60it/s][A [A Models: 10%|█ | 1/10 [00:00<00:03, 2.74it/s] 0%| | 0/100 [00:00<?, ?it/s][A 24%|██▍ | 24/100 [00:00<00:00, 233.47it/s][A 48%|████▊ | 48/100 [00:00<00:00, 208.90it/s][A 70%|███████ | 70/100 [00:00<00:00, 198.25it/s][A 91%|█████████ | 91/100 [00:00<00:00, 201.04it/s][A [A Models: 20%|██ | 2/10 [00:00<00:03, 2.26it/s] 0%| | 0/100 [00:00<?, ?it/s][A 26%|██▌ | 26/100 [00:00<00:00, 248.87it/s][A 51%|█████ | 51/100 [00:00<00:00, 206.74it/s][A 73%|███████▎ | 73/100 [00:00<00:00, 202.35it/s][A 94%|█████████▍| 94/100 [00:00<00:00, 189.19it/s][A [A Models: 30%|███ | 3/10 [00:01<00:03, 2.11it/s] 0%| | 0/100 [00:00<?, ?it/s][A 23%|██▎ | 23/100 [00:00<00:00, 225.81it/s][A 46%|████▌ | 46/100 [00:00<00:00, 190.61it/s][A 66%|██████▌ | 66/100 [00:00<00:00, 183.99it/s][A 85%|████████▌ | 85/100 [00:00<00:00, 179.05it/s][A [A Models: 40%|████ | 4/10 [00:01<00:03, 1.98it/s] 0%| | 0/100 [00:00<?, ?it/s][A 24%|██▍ | 24/100 [00:00<00:00, 229.32it/s][A 47%|████▋ | 47/100 [00:00<00:00, 181.11it/s][A 66%|██████▌ | 66/100 [00:00<00:00, 175.53it/s][A 84%|████████▍ | 84/100 [00:00<00:00, 171.90it/s][A [A Models: 50%|█████ | 5/10 [00:02<00:02, 1.89it/s] 0%| | 0/100 [00:00<?, ?it/s][A 23%|██▎ | 23/100 [00:00<00:00, 217.67it/s][A 45%|████▌ | 45/100 [00:00<00:00, 180.53it/s][A 64%|██████▍ | 64/100 [00:00<00:00, 176.11it/s][A 82%|████████▏ | 82/100 [00:00<00:00, 177.18it/s][A 100%|██████████| 100/100 [00:00<00:00, 173.79it/s][A [A Models: 60%|██████ | 6/10 [00:03<00:02, 1.85it/s] 0%| | 0/100 [00:00<?, ?it/s][A 23%|██▎ | 23/100 [00:00<00:00, 222.23it/s][A 46%|████▌ | 46/100 [00:00<00:00, 205.42it/s][A 67%|██████▋ | 67/100 [00:00<00:00, 192.19it/s][A 87%|████████▋ | 87/100 [00:00<00:00, 192.09it/s][A [A Models: 70%|███████ | 7/10 [00:03<00:01, 1.88it/s] 0%| | 0/100 [00:00<?, ?it/s][A 22%|██▏ | 22/100 [00:00<00:00, 219.34it/s][A 44%|████▍ | 44/100 [00:00<00:00, 191.17it/s][A 64%|██████▍ | 64/100 [00:00<00:00, 185.34it/s][A 83%|████████▎ | 83/100 [00:00<00:00, 176.87it/s][A [A Models: 80%|████████ | 8/10 [00:04<00:01, 1.87it/s] 0%| | 0/100 [00:00<?, ?it/s][A 26%|██▌ | 26/100 [00:00<00:00, 244.49it/s][A 51%|█████ | 51/100 [00:00<00:00, 209.63it/s][A 73%|███████▎ | 73/100 [00:00<00:00, 200.92it/s][A 94%|█████████▍| 94/100 [00:00<00:00, 200.41it/s][A [A Models: 90%|█████████ | 9/10 [00:04<00:00, 1.91it/s] 0%| | 0/100 [00:00<?, ?it/s][A 23%|██▎ | 23/100 [00:00<00:00, 222.51it/s][A 46%|████▌ | 46/100 [00:00<00:00, 201.50it/s][A 67%|██████▋ | 67/100 [00:00<00:00, 194.06it/s][A 88%|████████▊ | 88/100 [00:00<00:00, 199.14it/s][A [A Models: 100%|██████████| 10/10 [00:05<00:00, 1.94it/s] Models: 100%|██████████| 10/10 [00:05<00:00, 1.96it/s] /Users/biocbuild/Library/Caches/org.R-project.R/R/basilisk/1.16.0/spatialDE/1.10.0/env/lib/python3.9/site-packages/pandas/core/internals/blocks.py:351: RuntimeWarning: invalid value encountered in log result = func(self.values, **kwargs) Models: 0%| | 0/10 [00:00<?, ?it/s] 0%| | 0/100 [00:00<?, ?it/s][A 28%|██▊ | 28/100 [00:00<00:00, 274.14it/s][A 56%|█████▌ | 56/100 [00:00<00:00, 271.16it/s][A 87%|████████▋ | 87/100 [00:00<00:00, 286.06it/s][A [A Models: 10%|█ | 1/10 [00:00<00:03, 2.81it/s] 0%| | 0/100 [00:00<?, ?it/s][A 24%|██▍ | 24/100 [00:00<00:00, 235.56it/s][A 48%|████▊ | 48/100 [00:00<00:00, 227.94it/s][A 71%|███████ | 71/100 [00:00<00:00, 213.82it/s][A 93%|█████████▎| 93/100 [00:00<00:00, 213.99it/s][A [A Models: 20%|██ | 2/10 [00:00<00:03, 2.40it/s] 0%| | 0/100 [00:00<?, ?it/s][A 24%|██▍ | 24/100 [00:00<00:00, 229.31it/s][A 47%|████▋ | 47/100 [00:00<00:00, 192.05it/s][A 67%|██████▋ | 67/100 [00:00<00:00, 193.90it/s][A 87%|████████▋ | 87/100 [00:00<00:00, 189.71it/s][A [A Models: 30%|███ | 3/10 [00:01<00:03, 2.16it/s] 0%| | 0/100 [00:00<?, ?it/s][A 22%|██▏ | 22/100 [00:00<00:00, 212.12it/s][A 44%|████▍ | 44/100 [00:00<00:00, 193.93it/s][A 64%|██████▍ | 64/100 [00:00<00:00, 187.22it/s][A 83%|████████▎ | 83/100 [00:00<00:00, 183.33it/s][A [A Models: 40%|████ | 4/10 [00:01<00:02, 2.03it/s] 0%| | 0/100 [00:00<?, ?it/s][A 21%|██ | 21/100 [00:00<00:00, 200.36it/s][A 42%|████▏ | 42/100 [00:00<00:00, 188.08it/s][A 61%|██████ | 61/100 [00:00<00:00, 181.74it/s][A 80%|████████ | 80/100 [00:00<00:00, 181.91it/s][A 100%|██████████| 100/100 [00:00<00:00, 185.64it/s][A [A Models: 50%|█████ | 5/10 [00:02<00:02, 1.96it/s] 0%| | 0/100 [00:00<?, ?it/s][A 22%|██▏ | 22/100 [00:00<00:00, 215.50it/s][A 44%|████▍ | 44/100 [00:00<00:00, 200.76it/s][A 65%|██████▌ | 65/100 [00:00<00:00, 194.83it/s][A 85%|████████▌ | 85/100 [00:00<00:00, 194.98it/s][A [A Models: 60%|██████ | 6/10 [00:02<00:02, 1.96it/s] 0%| | 0/100 [00:00<?, ?it/s][A 23%|██▎ | 23/100 [00:00<00:00, 224.86it/s][A 46%|████▌ | 46/100 [00:00<00:00, 216.73it/s][A 68%|██████▊ | 68/100 [00:00<00:00, 208.60it/s][A 89%|████████▉ | 89/100 [00:00<00:00, 206.69it/s][A [A Models: 70%|███████ | 7/10 [00:03<00:01, 2.01it/s] 0%| | 0/100 [00:00<?, ?it/s][A 22%|██▏ | 22/100 [00:00<00:00, 218.48it/s][A 44%|████▍ | 44/100 [00:00<00:00, 194.55it/s][A 64%|██████▍ | 64/100 [00:00<00:00, 188.41it/s][A 83%|████████▎ | 83/100 [00:00<00:00, 184.44it/s][A [A Models: 80%|████████ | 8/10 [00:03<00:01, 1.96it/s] 0%| | 0/100 [00:00<?, ?it/s][A 22%|██▏ | 22/100 [00:00<00:00, 219.13it/s][A 44%|████▍ | 44/100 [00:00<00:00, 208.51it/s][A 65%|██████▌ | 65/100 [00:00<00:00, 202.30it/s][A 90%|█████████ | 90/100 [00:00<00:00, 217.03it/s][A [A Models: 90%|█████████ | 9/10 [00:04<00:00, 2.00it/s] 0%| | 0/100 [00:00<?, ?it/s][A 21%|██ | 21/100 [00:00<00:00, 202.21it/s][A 45%|████▌ | 45/100 [00:00<00:00, 218.17it/s][A 69%|██████▉ | 69/100 [00:00<00:00, 224.86it/s][A 92%|█████████▏| 92/100 [00:00<00:00, 219.71it/s][A [A Models: 100%|██████████| 10/10 [00:04<00:00, 2.05it/s] Models: 100%|██████████| 10/10 [00:04<00:00, 2.05it/s] Models: 0%| | 0/10 [00:00<?, ?it/s] 0%| | 0/100 [00:00<?, ?it/s][A 29%|██▉ | 29/100 [00:00<00:00, 286.28it/s][A 58%|█████▊ | 58/100 [00:00<00:00, 279.85it/s][A 86%|████████▌ | 86/100 [00:00<00:00, 273.44it/s][A [A Models: 10%|█ | 1/10 [00:00<00:03, 2.74it/s] 0%| | 0/100 [00:00<?, ?it/s][A 24%|██▍ | 24/100 [00:00<00:00, 236.18it/s][A 48%|████▊ | 48/100 [00:00<00:00, 218.51it/s][A 70%|███████ | 70/100 [00:00<00:00, 209.00it/s][A 91%|█████████ | 91/100 [00:00<00:00, 206.54it/s][A [A Models: 20%|██ | 2/10 [00:00<00:03, 2.32it/s] 0%| | 0/100 [00:00<?, ?it/s][A 22%|██▏ | 22/100 [00:00<00:00, 213.21it/s][A 44%|████▍ | 44/100 [00:00<00:00, 203.94it/s][A 65%|██████▌ | 65/100 [00:00<00:00, 200.29it/s][A 86%|████████▌ | 86/100 [00:00<00:00, 193.48it/s][A [A Models: 30%|███ | 3/10 [00:01<00:03, 2.15it/s] 0%| | 0/100 [00:00<?, ?it/s][A 22%|██▏ | 22/100 [00:00<00:00, 209.62it/s][A 43%|████▎ | 43/100 [00:00<00:00, 185.63it/s][A 62%|██████▏ | 62/100 [00:00<00:00, 183.06it/s][A 81%|████████ | 81/100 [00:00<00:00, 182.88it/s][A 100%|██████████| 100/100 [00:00<00:00, 178.96it/s][A [A Models: 40%|████ | 4/10 [00:01<00:02, 2.00it/s] 0%| | 0/100 [00:00<?, ?it/s][A 20%|██ | 20/100 [00:00<00:00, 199.79it/s][A 40%|████ | 40/100 [00:00<00:00, 189.42it/s][A 59%|█████▉ | 59/100 [00:00<00:00, 184.19it/s][A 78%|███████▊ | 78/100 [00:00<00:00, 179.45it/s][A 96%|█████████▌| 96/100 [00:00<00:00, 178.76it/s][A [A Models: 50%|█████ | 5/10 [00:02<00:02, 1.93it/s] 0%| | 0/100 [00:00<?, ?it/s][A 24%|██▍ | 24/100 [00:00<00:00, 239.03it/s][A 48%|████▊ | 48/100 [00:00<00:00, 201.97it/s][A 69%|██████▉ | 69/100 [00:00<00:00, 198.15it/s][A 89%|████████▉ | 89/100 [00:00<00:00, 185.13it/s][A [A Models: 60%|██████ | 6/10 [00:02<00:02, 1.93it/s] 0%| | 0/100 [00:00<?, ?it/s][A 22%|██▏ | 22/100 [00:00<00:00, 218.66it/s][A 44%|████▍ | 44/100 [00:00<00:00, 196.54it/s][A 64%|██████▍ | 64/100 [00:00<00:00, 192.52it/s][A 84%|████████▍ | 84/100 [00:00<00:00, 191.79it/s][A [A Models: 70%|███████ | 7/10 [00:03<00:01, 1.92it/s] 0%| | 0/100 [00:00<?, ?it/s][A 22%|██▏ | 22/100 [00:00<00:00, 212.96it/s][A 51%|█████ | 51/100 [00:00<00:00, 255.66it/s][A 77%|███████▋ | 77/100 [00:00<00:00, 238.62it/s][A [A Models: 80%|████████ | 8/10 [00:03<00:00, 2.01it/s] 0%| | 0/100 [00:00<?, ?it/s][A 23%|██▎ | 23/100 [00:00<00:00, 223.55it/s][A 46%|████▌ | 46/100 [00:00<00:00, 202.68it/s][A 67%|██████▋ | 67/100 [00:00<00:00, 198.06it/s][A 87%|████████▋ | 87/100 [00:00<00:00, 198.02it/s][A [A Models: 90%|█████████ | 9/10 [00:04<00:00, 2.02it/s] 0%| | 0/100 [00:00<?, ?it/s][A 24%|██▍ | 24/100 [00:00<00:00, 238.43it/s][A 48%|████▊ | 48/100 [00:00<00:00, 233.82it/s][A 72%|███████▏ | 72/100 [00:00<00:00, 226.42it/s][A 95%|█████████▌| 95/100 [00:00<00:00, 226.07it/s][A [A Models: 100%|██████████| 10/10 [00:04<00:00, 2.09it/s] Models: 100%|██████████| 10/10 [00:04<00:00, 2.05it/s] Models: 0%| | 0/10 [00:00<?, ?it/s] 0%| | 0/100 [00:00<?, ?it/s][A 29%|██▉ | 29/100 [00:00<00:00, 289.62it/s][A 58%|█████▊ | 58/100 [00:00<00:00, 269.47it/s][A 86%|████████▌ | 86/100 [00:00<00:00, 271.52it/s][A [A Models: 10%|█ | 1/10 [00:00<00:03, 2.75it/s] 0%| | 0/100 [00:00<?, ?it/s][A 25%|██▌ | 25/100 [00:00<00:00, 239.51it/s][A 49%|████▉ | 49/100 [00:00<00:00, 234.41it/s][A 73%|███████▎ | 73/100 [00:00<00:00, 225.38it/s][A 96%|█████████▌| 96/100 [00:00<00:00, 215.52it/s][A [A Models: 20%|██ | 2/10 [00:00<00:03, 2.40it/s] 0%| | 0/100 [00:00<?, ?it/s][A 28%|██▊ | 28/100 [00:00<00:00, 275.05it/s][A 56%|█████▌ | 56/100 [00:00<00:00, 225.05it/s][A 80%|████████ | 80/100 [00:00<00:00, 208.04it/s][A [A Models: 30%|███ | 3/10 [00:01<00:03, 2.27it/s] 0%| | 0/100 [00:00<?, ?it/s][A 21%|██ | 21/100 [00:00<00:00, 205.38it/s][A 42%|████▏ | 42/100 [00:00<00:00, 193.33it/s][A 62%|██████▏ | 62/100 [00:00<00:00, 191.95it/s][A 82%|████████▏ | 82/100 [00:00<00:00, 189.60it/s][A [A Models: 40%|████ | 4/10 [00:01<00:02, 2.11it/s] 0%| | 0/100 [00:00<?, ?it/s][A 22%|██▏ | 22/100 [00:00<00:00, 213.54it/s][A 44%|████▍ | 44/100 [00:00<00:00, 200.94it/s][A 66%|██████▌ | 66/100 [00:00<00:00, 206.91it/s][A 87%|████████▋ | 87/100 [00:00<00:00, 200.47it/s][A [A Models: 50%|█████ | 5/10 [00:02<00:02, 2.07it/s] 0%| | 0/100 [00:00<?, ?it/s][A 22%|██▏ | 22/100 [00:00<00:00, 209.64it/s][A 43%|████▎ | 43/100 [00:00<00:00, 197.93it/s][A 63%|██████▎ | 63/100 [00:00<00:00, 193.16it/s][A 85%|████████▌ | 85/100 [00:00<00:00, 201.50it/s][A [A Models: 60%|██████ | 6/10 [00:02<00:01, 2.03it/s] 0%| | 0/100 [00:00<?, ?it/s][A 21%|██ | 21/100 [00:00<00:00, 205.79it/s][A 42%|████▏ | 42/100 [00:00<00:00, 204.40it/s][A 63%|██████▎ | 63/100 [00:00<00:00, 193.04it/s][A 83%|████████▎ | 83/100 [00:00<00:00, 187.45it/s][A [A Models: 70%|███████ | 7/10 [00:03<00:01, 1.99it/s] 0%| | 0/100 [00:00<?, ?it/s][A 23%|██▎ | 23/100 [00:00<00:00, 220.45it/s][A 46%|████▌ | 46/100 [00:00<00:00, 211.61it/s][A 68%|██████▊ | 68/100 [00:00<00:00, 206.59it/s][A 90%|█████████ | 90/100 [00:00<00:00, 209.36it/s][A [A Models: 80%|████████ | 8/10 [00:03<00:00, 2.02it/s] 0%| | 0/100 [00:00<?, ?it/s][A 27%|██▋ | 27/100 [00:00<00:00, 258.55it/s][A 53%|█████▎ | 53/100 [00:00<00:00, 244.43it/s][A 78%|███████▊ | 78/100 [00:00<00:00, 218.86it/s][A [A Models: 90%|█████████ | 9/10 [00:04<00:00, 2.08it/s] 0%| | 0/100 [00:00<?, ?it/s][A 22%|██▏ | 22/100 [00:00<00:00, 216.87it/s][A 44%|████▍ | 44/100 [00:00<00:00, 209.34it/s][A 65%|██████▌ | 65/100 [00:00<00:00, 206.42it/s][A 86%|████████▌ | 86/100 [00:00<00:00, 205.65it/s][A [A Models: 100%|██████████| 10/10 [00:04<00:00, 2.07it/s] Models: 100%|██████████| 10/10 [00:04<00:00, 2.10it/s] [ FAIL 0 | WARN 0 | SKIP 0 | PASS 29 ] > > proc.time() user system elapsed 78.457 4.851 74.908 /Users/biocbuild/Library/Caches/org.R-project.R/R/basilisk/1.16.0/spatialDE/1.10.0/env/lib/python3.9/multiprocessing/resource_tracker.py:216: UserWarning: resource_tracker: There appear to be 1 leaked semaphore objects to clean up at shutdown warnings.warn('resource_tracker: There appear to be %d '
spatialDE.Rcheck/spatialDE-Ex.timings
name | user | system | elapsed | |
FSV_sig | 8.833 | 2.638 | 12.574 | |
mockSVG | 0.380 | 0.028 | 0.409 | |
modelSearch | 2.692 | 0.361 | 2.202 | |
model_search | 2.374 | 0.285 | 1.467 | |
multiGenePlots | 2.496 | 0.201 | 1.869 | |
regress_out | 0.155 | 0.007 | 0.163 | |
run | 1.135 | 0.121 | 0.750 | |
spatialDE | 1.505 | 0.130 | 0.955 | |
spatialPatterns | 1.957 | 0.103 | 1.126 | |
spatial_patterns | 21.853 | 2.130 | 12.474 | |
stabilize | 0.247 | 0.030 | 0.154 | |