Back to Mac ARM64 build report for BioC 3.19 |
|
This page was generated on 2024-04-05 11:32:25 -0400 (Fri, 05 Apr 2024).
Hostname | OS | Arch (*) | R version | Installed pkgs |
---|---|---|---|---|
kjohnson3 | macOS 13.5 Ventura | arm64 | 4.4.0 alpha (2024-03-27 r86216) | 4386 |
Click on any hostname to see more info about the system (e.g. compilers) (*) as reported by 'uname -p', except on Windows and Mac OS X |
Package 837/2279 | Hostname | OS / Arch | INSTALL | BUILD | CHECK | BUILD BIN | ||||||||
GenProSeq 1.7.2 (landing page) Dongmin Jung
| kjohnson3 | macOS 13.5 Ventura / arm64 | OK | OK | OK | OK | ||||||||
To the developers/maintainers of the GenProSeq package: - Use the following Renviron settings to reproduce errors and warnings. - If 'R CMD check' started to fail recently on the Linux builder(s) over a missing dependency, add the missing dependency to 'Suggests:' in your DESCRIPTION file. See Renviron.bioc for more information. |
Package: GenProSeq |
Version: 1.7.2 |
Command: rm -rf GenProSeq.buildbin-libdir && mkdir GenProSeq.buildbin-libdir && /Users/biocbuild/BBS/utils/build-universal.sh GenProSeq_1.7.2.tar.gz /Library/Frameworks/R.framework/Resources/bin/R GenProSeq.buildbin-libdir |
StartedAt: 2024-04-05 01:07:01 -0400 (Fri, 05 Apr 2024) |
EndedAt: 2024-04-05 01:07:07 -0400 (Fri, 05 Apr 2024) |
EllapsedTime: 6.1 seconds |
RetCode: 0 |
Status: OK |
PackageFile: GenProSeq_1.7.2.tgz |
PackageFileSize: 396.2 KiB |
############################################################################## ############################################################################## ### ### Running command: ### ### rm -rf GenProSeq.buildbin-libdir && mkdir GenProSeq.buildbin-libdir && /Users/biocbuild/BBS/utils/build-universal.sh GenProSeq_1.7.2.tar.gz /Library/Frameworks/R.framework/Resources/bin/R GenProSeq.buildbin-libdir ### ############################################################################## ############################################################################## >>>>>>> >>>>>>> INSTALLATION WITH 'R CMD INSTALL --preclean --no-multiarch --library=GenProSeq.buildbin-libdir GenProSeq_1.7.2.tar.gz' >>>>>>> * installing *source* package ‘GenProSeq’ ... ** using staged installation ** R ** data ** inst ** byte-compile and prepare package for lazy loading ** help *** installing help indices ** building package indices ** installing vignettes ** testing if installed package can be loaded from temporary location ** testing if installed package can be loaded from final location ** testing if installed package keeps a record of temporary installation path * DONE (GenProSeq)