Back to Mac ARM64 build report for BioC 3.19 |
|
This page was generated on 2024-05-07 11:32:37 -0400 (Tue, 07 May 2024).
Hostname | OS | Arch (*) | R version | Installed pkgs |
---|---|---|---|---|
kjohnson3 | macOS 13.6.5 Ventura | arm64 | 4.4.0 (2024-04-24) -- "Puppy Cup" | 4461 |
Click on any hostname to see more info about the system (e.g. compilers) (*) as reported by 'uname -p', except on Windows and Mac OS X |
Package 1092/2300 | Hostname | OS / Arch | INSTALL | BUILD | CHECK | BUILD BIN | ||||||||
KEGGlincs 1.30.0 (landing page) Shana White
| kjohnson3 | macOS 13.6.5 Ventura / arm64 | OK | OK | OK | OK | ||||||||
To the developers/maintainers of the KEGGlincs package: - Use the following Renviron settings to reproduce errors and warnings. - If 'R CMD check' started to fail recently on the Linux builder(s) over a missing dependency, add the missing dependency to 'Suggests:' in your DESCRIPTION file. See Renviron.bioc for more information. |
Package: KEGGlincs |
Version: 1.30.0 |
Command: /Library/Frameworks/R.framework/Resources/bin/R CMD check --install=check:KEGGlincs.install-out.txt --library=/Library/Frameworks/R.framework/Resources/library --no-vignettes --timings KEGGlincs_1.30.0.tar.gz |
StartedAt: 2024-05-06 22:32:52 -0400 (Mon, 06 May 2024) |
EndedAt: 2024-05-06 22:34:21 -0400 (Mon, 06 May 2024) |
EllapsedTime: 89.0 seconds |
RetCode: 0 |
Status: OK |
CheckDir: KEGGlincs.Rcheck |
Warnings: 0 |
############################################################################## ############################################################################## ### ### Running command: ### ### /Library/Frameworks/R.framework/Resources/bin/R CMD check --install=check:KEGGlincs.install-out.txt --library=/Library/Frameworks/R.framework/Resources/library --no-vignettes --timings KEGGlincs_1.30.0.tar.gz ### ############################################################################## ############################################################################## * using log directory ‘/Users/biocbuild/bbs-3.19-bioc-mac-arm64/meat/KEGGlincs.Rcheck’ * using R version 4.4.0 (2024-04-24) * using platform: aarch64-apple-darwin20 * R was compiled by Apple clang version 14.0.0 (clang-1400.0.29.202) GNU Fortran (GCC) 12.2.0 * running under: macOS Ventura 13.6.5 * using session charset: UTF-8 * using option ‘--no-vignettes’ * checking for file ‘KEGGlincs/DESCRIPTION’ ... OK * checking extension type ... Package * this is package ‘KEGGlincs’ version ‘1.30.0’ * checking package namespace information ... OK * checking package dependencies ... OK * checking if this is a source package ... OK * checking if there is a namespace ... OK * checking for hidden files and directories ... OK * checking for portable file names ... OK * checking for sufficient/correct file permissions ... OK * checking whether package ‘KEGGlincs’ can be installed ... OK * checking installed package size ... OK * checking package directory ... OK * checking ‘build’ directory ... OK * checking DESCRIPTION meta-information ... OK * checking top-level files ... OK * checking for left-over files ... OK * checking index information ... OK * checking package subdirectories ... OK * checking code files for non-ASCII characters ... OK * checking R files for syntax errors ... OK * checking whether the package can be loaded ... OK * checking whether the package can be loaded with stated dependencies ... OK * checking whether the package can be unloaded cleanly ... OK * checking whether the namespace can be loaded with stated dependencies ... OK * checking whether the namespace can be unloaded cleanly ... OK * checking dependencies in R code ... NOTE Namespace in Imports field not imported from: ‘XML’ All declared Imports should be used. * checking S3 generic/method consistency ... OK * checking replacement functions ... OK * checking foreign function calls ... OK * checking R code for possible problems ... OK * checking Rd files ... OK * checking Rd metadata ... OK * checking Rd cross-references ... OK * checking for missing documentation entries ... OK * checking for code/documentation mismatches ... OK * checking Rd \usage sections ... OK * checking Rd contents ... OK * checking for unstated dependencies in examples ... OK * checking files in ‘vignettes’ ... OK * checking examples ... OK Examples with CPU (user + system) or elapsed time > 5s user system elapsed overlap_info 8.295 0.661 9.162 add_edge_data 7.312 0.474 8.870 path_genes_by_cell_type 5.430 0.279 5.905 edge_mapping_info 5.245 0.340 6.136 refine_mappings 5.211 0.263 5.670 * checking for unstated dependencies in vignettes ... OK * checking package vignettes ... OK * checking running R code from vignettes ... SKIPPED * checking re-building of vignette outputs ... SKIPPED * checking PDF version of manual ... OK * DONE Status: 1 NOTE See ‘/Users/biocbuild/bbs-3.19-bioc-mac-arm64/meat/KEGGlincs.Rcheck/00check.log’ for details.
KEGGlincs.Rcheck/00install.out
############################################################################## ############################################################################## ### ### Running command: ### ### /Library/Frameworks/R.framework/Resources/bin/R CMD INSTALL KEGGlincs ### ############################################################################## ############################################################################## * installing to library ‘/Library/Frameworks/R.framework/Versions/4.4-arm64/Resources/library’ * installing *source* package ‘KEGGlincs’ ... ** using staged installation ** R ** inst ** byte-compile and prepare package for lazy loading ** help *** installing help indices ** building package indices ** installing vignettes ** testing if installed package can be loaded from temporary location ** testing if installed package can be loaded from final location ** testing if installed package keeps a record of temporary installation path * DONE (KEGGlincs)
KEGGlincs.Rcheck/KEGGlincs-Ex.timings
name | user | system | elapsed | |
KEGG_lincs | 0 | 0 | 0 | |
KL_compare | 0 | 0 | 0 | |
add_edge_data | 7.312 | 0.474 | 8.870 | |
cyto_vis | 0.108 | 0.004 | 0.657 | |
edge_mapping_info | 5.245 | 0.340 | 6.136 | |
expand_KEGG_edges | 0.049 | 0.005 | 0.425 | |
expand_KEGG_mappings | 0.034 | 0.003 | 0.407 | |
generate_mappings | 0.001 | 0.000 | 0.000 | |
get_KGML | 0.123 | 0.010 | 1.071 | |
get_fisher_info | 0.001 | 0.000 | 0.001 | |
get_graph_object | 4.431 | 0.188 | 4.813 | |
keggerize_edges | 0 | 0 | 0 | |
node_mapping_info | 0.038 | 0.003 | 0.236 | |
overlap_info | 8.295 | 0.661 | 9.162 | |
path_genes_by_cell_type | 5.430 | 0.279 | 5.905 | |
refine_mappings | 5.211 | 0.263 | 5.670 | |
tidy_edge | 0.000 | 0.001 | 0.000 | |