Back to Mac ARM64 build report for BioC 3.19 |
|
This page was generated on 2024-05-07 11:32:43 -0400 (Tue, 07 May 2024).
Hostname | OS | Arch (*) | R version | Installed pkgs |
---|---|---|---|---|
kjohnson3 | macOS 13.6.5 Ventura | arm64 | 4.4.0 (2024-04-24) -- "Puppy Cup" | 4461 |
Click on any hostname to see more info about the system (e.g. compilers) (*) as reported by 'uname -p', except on Windows and Mac OS X |
Package 1815/2300 | Hostname | OS / Arch | INSTALL | BUILD | CHECK | BUILD BIN | ||||||||
RProtoBufLib 2.16.0 (landing page) Mike Jiang
| kjohnson3 | macOS 13.6.5 Ventura / arm64 | OK | OK | WARNINGS | OK | ||||||||
To the developers/maintainers of the RProtoBufLib package: - Use the following Renviron settings to reproduce errors and warnings. - If 'R CMD check' started to fail recently on the Linux builder(s) over a missing dependency, add the missing dependency to 'Suggests:' in your DESCRIPTION file. See Renviron.bioc for more information. |
Package: RProtoBufLib |
Version: 2.16.0 |
Command: /Library/Frameworks/R.framework/Resources/bin/R CMD build --keep-empty-dirs --no-resave-data RProtoBufLib |
StartedAt: 2024-05-06 18:45:59 -0400 (Mon, 06 May 2024) |
EndedAt: 2024-05-06 18:47:22 -0400 (Mon, 06 May 2024) |
EllapsedTime: 82.9 seconds |
RetCode: 0 |
Status: OK |
PackageFile: RProtoBufLib_2.16.0.tar.gz |
PackageFileSize: 2.795 MiB |
############################################################################## ############################################################################## ### ### Running command: ### ### /Library/Frameworks/R.framework/Resources/bin/R CMD build --keep-empty-dirs --no-resave-data RProtoBufLib ### ############################################################################## ############################################################################## * checking for file ‘RProtoBufLib/DESCRIPTION’ ... OK * preparing ‘RProtoBufLib’: * checking DESCRIPTION meta-information ... OK * cleaning src * running ‘cleanup’ * installing the package to build vignettes * creating vignettes ... OK * cleaning src * running ‘cleanup’ * checking for LF line-endings in source and make files and shell scripts * checking for empty or unneeded directories * building ‘RProtoBufLib_2.16.0.tar.gz’