Back to Mac ARM64 build report for BioC 3.19 |
|
This page was generated on 2024-01-29 12:20:35 -0500 (Mon, 29 Jan 2024).
Hostname | OS | Arch (*) | R version | Installed pkgs |
---|---|---|---|---|
kjohnson3 | macOS 13.5 Ventura | arm64 | R Under development (unstable) (2024-01-16 r85808) -- "Unsuffered Consequences" | 4239 |
Click on any hostname to see more info about the system (e.g. compilers) (*) as reported by 'uname -p', except on Windows and Mac OS X |
Package 1630/2234 | Hostname | OS / Arch | INSTALL | BUILD | CHECK | BUILD BIN | ||||||||
RandomWalkRestartMH 1.23.0 (landing page) Alberto Valdeolivas
| kjohnson3 | macOS 13.5 Ventura / arm64 | OK | OK | WARNINGS | OK | ||||||||
To the developers/maintainers of the RandomWalkRestartMH package: - Use the following Renviron settings to reproduce errors and warnings. - If 'R CMD check' started to fail recently on the Linux builder(s) over a missing dependency, add the missing dependency to 'Suggests:' in your DESCRIPTION file. See Renviron.bioc for more information. |
Package: RandomWalkRestartMH |
Version: 1.23.0 |
Command: rm -rf RandomWalkRestartMH.buildbin-libdir && mkdir RandomWalkRestartMH.buildbin-libdir && /Users/biocbuild/BBS/utils/build-universal.sh RandomWalkRestartMH_1.23.0.tar.gz /Library/Frameworks/R.framework/Resources/bin/R RandomWalkRestartMH.buildbin-libdir |
StartedAt: 2024-01-27 15:10:44 -0500 (Sat, 27 Jan 2024) |
EndedAt: 2024-01-27 15:10:53 -0500 (Sat, 27 Jan 2024) |
EllapsedTime: 9.2 seconds |
RetCode: 0 |
Status: OK |
PackageFile: RandomWalkRestartMH_1.23.0.tgz |
PackageFileSize: 3.087 MiB |
############################################################################## ############################################################################## ### ### Running command: ### ### rm -rf RandomWalkRestartMH.buildbin-libdir && mkdir RandomWalkRestartMH.buildbin-libdir && /Users/biocbuild/BBS/utils/build-universal.sh RandomWalkRestartMH_1.23.0.tar.gz /Library/Frameworks/R.framework/Resources/bin/R RandomWalkRestartMH.buildbin-libdir ### ############################################################################## ############################################################################## >>>>>>> >>>>>>> INSTALLATION WITH 'R CMD INSTALL --preclean --no-multiarch --library=RandomWalkRestartMH.buildbin-libdir RandomWalkRestartMH_1.23.0.tar.gz' >>>>>>> * installing *source* package ‘RandomWalkRestartMH’ ... ** using staged installation ** R ** data *** moving datasets to lazyload DB ** inst ** byte-compile and prepare package for lazy loading ** help *** installing help indices *** copying figures ** building package indices ** installing vignettes ** testing if installed package can be loaded from temporary location ** testing if installed package can be loaded from final location ** testing if installed package keeps a record of temporary installation path * DONE (RandomWalkRestartMH)