Back to Mac ARM64 build report for BioC 3.19 |
|
This page was generated on 2024-01-29 12:20:39 -0500 (Mon, 29 Jan 2024).
Hostname | OS | Arch (*) | R version | Installed pkgs |
---|---|---|---|---|
kjohnson3 | macOS 13.5 Ventura | arm64 | R Under development (unstable) (2024-01-16 r85808) -- "Unsuffered Consequences" | 4239 |
Click on any hostname to see more info about the system (e.g. compilers) (*) as reported by 'uname -p', except on Windows and Mac OS X |
Package 2185/2234 | Hostname | OS / Arch | INSTALL | BUILD | CHECK | BUILD BIN | ||||||||
VariantExperiment 1.17.0 (landing page) Qian Liu
| kjohnson3 | macOS 13.5 Ventura / arm64 | OK | OK | WARNINGS | OK | ||||||||
To the developers/maintainers of the VariantExperiment package: - Use the following Renviron settings to reproduce errors and warnings. - If 'R CMD check' started to fail recently on the Linux builder(s) over a missing dependency, add the missing dependency to 'Suggests:' in your DESCRIPTION file. See Renviron.bioc for more information. |
Package: VariantExperiment |
Version: 1.17.0 |
Command: rm -rf VariantExperiment.buildbin-libdir && mkdir VariantExperiment.buildbin-libdir && /Users/biocbuild/BBS/utils/build-universal.sh VariantExperiment_1.17.0.tar.gz /Library/Frameworks/R.framework/Resources/bin/R VariantExperiment.buildbin-libdir |
StartedAt: 2024-01-27 16:04:52 -0500 (Sat, 27 Jan 2024) |
EndedAt: 2024-01-27 16:05:09 -0500 (Sat, 27 Jan 2024) |
EllapsedTime: 17.3 seconds |
RetCode: 0 |
Status: OK |
PackageFile: VariantExperiment_1.17.0.tgz |
PackageFileSize: 408.5 KiB |
############################################################################## ############################################################################## ### ### Running command: ### ### rm -rf VariantExperiment.buildbin-libdir && mkdir VariantExperiment.buildbin-libdir && /Users/biocbuild/BBS/utils/build-universal.sh VariantExperiment_1.17.0.tar.gz /Library/Frameworks/R.framework/Resources/bin/R VariantExperiment.buildbin-libdir ### ############################################################################## ############################################################################## >>>>>>> >>>>>>> INSTALLATION WITH 'R CMD INSTALL --preclean --no-multiarch --library=VariantExperiment.buildbin-libdir VariantExperiment_1.17.0.tar.gz' >>>>>>> * installing *source* package ‘VariantExperiment’ ... ** using staged installation ** R ** inst ** byte-compile and prepare package for lazy loading ** help *** installing help indices ** building package indices ** installing vignettes ** testing if installed package can be loaded from temporary location ** testing if installed package can be loaded from final location ** testing if installed package keeps a record of temporary installation path * DONE (VariantExperiment)