Back to Mac ARM64 build report for BioC 3.19 |
|
This page was generated on 2024-05-07 11:32:31 -0400 (Tue, 07 May 2024).
Hostname | OS | Arch (*) | R version | Installed pkgs |
---|---|---|---|---|
kjohnson3 | macOS 13.6.5 Ventura | arm64 | 4.4.0 (2024-04-24) -- "Puppy Cup" | 4461 |
Click on any hostname to see more info about the system (e.g. compilers) (*) as reported by 'uname -p', except on Windows and Mac OS X |
Package 433/2300 | Hostname | OS / Arch | INSTALL | BUILD | CHECK | BUILD BIN | ||||||||
Kieran O'Neill
| kjohnson3 | macOS 13.6.5 Ventura / arm64 | ERROR | ERROR | skipped | skipped | ||||||||
To the developers/maintainers of the contiBAIT package: - Use the following Renviron settings to reproduce errors and warnings. - If 'R CMD check' started to fail recently on the Linux builder(s) over a missing dependency, add the missing dependency to 'Suggests:' in your DESCRIPTION file. See Renviron.bioc for more information. |
Package: contiBAIT |
Version: 1.32.0 |
Command: /Library/Frameworks/R.framework/Resources/bin/R CMD INSTALL contiBAIT |
StartedAt: 2024-05-06 16:01:50 -0400 (Mon, 06 May 2024) |
EndedAt: 2024-05-06 16:01:50 -0400 (Mon, 06 May 2024) |
EllapsedTime: 0.1 seconds |
RetCode: 1 |
Status: ERROR |
############################################################################## ############################################################################## ### ### Running command: ### ### /Library/Frameworks/R.framework/Resources/bin/R CMD INSTALL contiBAIT ### ############################################################################## ############################################################################## * installing to library ‘/Library/Frameworks/R.framework/Versions/4.4-arm64/Resources/library’ ERROR: dependency ‘exomeCopy’ is not available for package ‘contiBAIT’ * removing ‘/Library/Frameworks/R.framework/Versions/4.4-arm64/Resources/library/contiBAIT’