| Back to Build/check report for BioC 3.19 experimental data |
|
This page was generated on 2024-10-17 14:51 -0400 (Thu, 17 Oct 2024).
| Hostname | OS | Arch (*) | R version | Installed pkgs |
|---|---|---|---|---|
| nebbiolo1 | Linux (Ubuntu 22.04.3 LTS) | x86_64 | 4.4.1 (2024-06-14) -- "Race for Your Life" | 4763 |
| Click on any hostname to see more info about the system (e.g. compilers) (*) as reported by 'uname -p', except on Windows and Mac OS X | ||||
| Package 204/430 | Hostname | OS / Arch | INSTALL | BUILD | CHECK | ||||||||
| KEGGandMetacoreDzPathwaysGEO 1.24.0 (landing page) Gaurav Bhatti
| nebbiolo1 | Linux (Ubuntu 22.04.3 LTS) / x86_64 | OK | OK | OK | ||||||||
|
To the developers/maintainers of the KEGGandMetacoreDzPathwaysGEO package: - Use the following Renviron settings to reproduce errors and warnings. - If 'R CMD check' started to fail recently on the Linux builder(s) over a missing dependency, add the missing dependency to 'Suggests:' in your DESCRIPTION file. See Renviron.bioc for more information. |
| Package: KEGGandMetacoreDzPathwaysGEO |
| Version: 1.24.0 |
| Command: /home/biocbuild/bbs-3.19-bioc/R/bin/R CMD check --install=check:KEGGandMetacoreDzPathwaysGEO.install-out.txt --library=/home/biocbuild/bbs-3.19-bioc/R/site-library --timings KEGGandMetacoreDzPathwaysGEO_1.24.0.tar.gz |
| StartedAt: 2024-10-17 11:36:32 -0400 (Thu, 17 Oct 2024) |
| EndedAt: 2024-10-17 11:37:27 -0400 (Thu, 17 Oct 2024) |
| EllapsedTime: 54.7 seconds |
| RetCode: 0 |
| Status: OK |
| CheckDir: KEGGandMetacoreDzPathwaysGEO.Rcheck |
| Warnings: 0 |
##############################################################################
##############################################################################
###
### Running command:
###
### /home/biocbuild/bbs-3.19-bioc/R/bin/R CMD check --install=check:KEGGandMetacoreDzPathwaysGEO.install-out.txt --library=/home/biocbuild/bbs-3.19-bioc/R/site-library --timings KEGGandMetacoreDzPathwaysGEO_1.24.0.tar.gz
###
##############################################################################
##############################################################################
* using log directory ‘/home/biocbuild/bbs-3.19-data-experiment/meat/KEGGandMetacoreDzPathwaysGEO.Rcheck’
* using R version 4.4.1 (2024-06-14)
* using platform: x86_64-pc-linux-gnu
* R was compiled by
gcc (Ubuntu 11.4.0-1ubuntu1~22.04) 11.4.0
GNU Fortran (Ubuntu 11.4.0-1ubuntu1~22.04) 11.4.0
* running under: Ubuntu 22.04.5 LTS
* using session charset: UTF-8
* checking for file ‘KEGGandMetacoreDzPathwaysGEO/DESCRIPTION’ ... OK
* checking extension type ... Package
* this is package ‘KEGGandMetacoreDzPathwaysGEO’ version ‘1.24.0’
* checking package namespace information ... OK
* checking package dependencies ... OK
* checking if this is a source package ... OK
* checking if there is a namespace ... OK
* checking for hidden files and directories ... OK
* checking for portable file names ... OK
* checking for sufficient/correct file permissions ... OK
* checking whether package ‘KEGGandMetacoreDzPathwaysGEO’ can be installed ... OK
* checking installed package size ... NOTE
installed size is 98.8Mb
sub-directories of 1Mb or more:
data 98.7Mb
* checking package directory ... OK
* checking ‘build’ directory ... OK
* checking DESCRIPTION meta-information ... OK
* checking top-level files ... OK
* checking for left-over files ... OK
* checking index information ... OK
* checking package subdirectories ... OK
* checking whether the package can be loaded ... OK
* checking whether the package can be loaded with stated dependencies ... OK
* checking whether the package can be unloaded cleanly ... OK
* checking whether the namespace can be loaded with stated dependencies ... OK
* checking whether the namespace can be unloaded cleanly ... OK
* checking loading without being on the library search path ... OK
* checking Rd files ... OK
* checking Rd metadata ... OK
* checking Rd cross-references ... OK
* checking for missing documentation entries ... OK
* checking for code/documentation mismatches ... OK
* checking Rd \usage sections ... OK
* checking Rd contents ... OK
* checking for unstated dependencies in examples ... OK
* checking contents of ‘data’ directory ... OK
* checking data for non-ASCII characters ... OK
* checking data for ASCII and uncompressed saves ... OK
* checking files in ‘vignettes’ ... OK
* checking examples ... OK
* checking for unstated dependencies in vignettes ... OK
* checking package vignettes ... OK
* checking re-building of vignette outputs ... OK
* checking PDF version of manual ... OK
* DONE
Status: 1 NOTE
See
‘/home/biocbuild/bbs-3.19-data-experiment/meat/KEGGandMetacoreDzPathwaysGEO.Rcheck/00check.log’
for details.
KEGGandMetacoreDzPathwaysGEO.Rcheck/00install.out
############################################################################## ############################################################################## ### ### Running command: ### ### /home/biocbuild/bbs-3.19-bioc/R/bin/R CMD INSTALL KEGGandMetacoreDzPathwaysGEO ### ############################################################################## ############################################################################## * installing to library ‘/home/biocbuild/bbs-3.19-bioc/R/site-library’ * installing *source* package ‘KEGGandMetacoreDzPathwaysGEO’ ... ** using staged installation ** data ** help *** installing help indices ** building package indices ** installing vignettes ** testing if installed package can be loaded from temporary location ** testing if installed package can be loaded from final location ** testing if installed package keeps a record of temporary installation path * DONE (KEGGandMetacoreDzPathwaysGEO)
KEGGandMetacoreDzPathwaysGEO.Rcheck/KEGGandMetacoreDzPathwaysGEO-Ex.timings
| name | user | system | elapsed | |
| GSE1145 | 0.300 | 0.024 | 0.324 | |
| GSE11906 | 2.924 | 0.060 | 2.983 | |
| GSE14924_CD4 | 0.232 | 0.012 | 0.244 | |
| GSE14924_CD8 | 0.230 | 0.015 | 0.246 | |
| GSE16759 | 0.313 | 0.004 | 0.318 | |
| GSE19420 | 0.200 | 0.016 | 0.216 | |
| GSE20164 | 0.066 | 0.004 | 0.069 | |
| GSE22780 | 0.203 | 0.012 | 0.214 | |
| GSE23878 | 0.711 | 0.019 | 0.731 | |
| GSE24739_G0 | 0.427 | 0.007 | 0.436 | |
| GSE24739_G1 | 0.435 | 0.003 | 0.440 | |
| GSE30153 | 0.546 | 0.004 | 0.550 | |
| GSE32676 | 0.698 | 0.012 | 0.710 | |
| GSE38666_epithelia | 0.305 | 0.012 | 0.317 | |
| GSE38666_stroma | 0.202 | 0.000 | 0.201 | |
| GSE4183 | 0.233 | 0.012 | 0.245 | |
| GSE42057 | 0.938 | 0.012 | 0.950 | |
| GSE7305 | 0.660 | 0.028 | 0.688 | |
| KEGGandMetacoreDzPathwaysGEO-package | 0.598 | 0.020 | 0.619 | |