GenomicRanges 1.22.4 Bioconductor Package Maintainer
Snapshot Date: 2016-04-21 16:20:06 -0700 (Thu, 21 Apr 2016) | URL: https://hedgehog.fhcrc.org/bioconductor/branches/RELEASE_3_2/madman/Rpacks/GenomicRanges | Last Changed Rev: 113080 / Revision: 116677 | Last Changed Date: 2016-01-29 12:00:19 -0800 (Fri, 29 Jan 2016) |
| zin1 | Linux (Ubuntu 14.04.2 LTS) / x86_64 | OK | OK | WARNINGS | | |
moscato1 | Windows Server 2008 R2 Standard (64-bit) / x64 | OK | OK | WARNINGS | [ OK ] | |
oaxaca | Mac OS X Mavericks (10.9.5) / x86_64 | OK | OK | WARNINGS | OK | |
##############################################################################
##############################################################################
###
### Running command:
###
### cd GenomicRanges.buildbin-libdir/GenomicRanges && zip -r ../../GenomicRanges_1.22.4.zip . & cd ../..
###
##############################################################################
##############################################################################
Scanning files
adding: CITATION (188 bytes security) (deflated 56%)
adding: DESCRIPTION (188 bytes security) (deflated 54%)
adding: doc/ (208 bytes security) (stored 0%)
adding: doc/ExtendingGenomicRanges.pdf (188 bytes security) (deflated 9%)
adding: doc/ExtendingGenomicRanges.R (188 bytes security) (deflated 73%)
adding: doc/ExtendingGenomicRanges.Rnw (188 bytes security) (deflated 58%)
adding: doc/GenomicRangesHOWTOs.pdf (188 bytes security) (deflated 22%)
adding: doc/GenomicRangesHOWTOs.R (188 bytes security) (deflated 83%)
adding: doc/GenomicRangesHOWTOs.Rnw (188 bytes security) (deflated 71%)
adding: doc/GenomicRangesIntroduction.pdf (188 bytes security) (deflated 11%)
adding: doc/GenomicRangesIntroduction.R (188 bytes security) (deflated 83%)
adding: doc/GenomicRangesIntroduction.Rnw (188 bytes security) (deflated 66%)
adding: doc/GRanges_and_GRangesList_slides.pdf (188 bytes security) (deflated 52%)
adding: doc/GRanges_and_GRangesList_slides.R (188 bytes security) (deflated 84%)
adding: doc/GRanges_and_GRangesList_slides.Rnw (188 bytes security) (deflated 81%)
adding: doc/index.html (188 bytes security) (deflated 78%)
adding: extdata/ (208 bytes security) (stored 0%)
adding: extdata/feature_frags.txt (188 bytes security) (deflated 33%)
adding: help/ (208 bytes security) (stored 0%)
adding: help/aliases.rds (188 bytes security) (stored 0%)
adding: help/AnIndex (188 bytes security) (deflated 90%)
adding: help/GenomicRanges.rdb (188 bytes security) (deflated 1%)
adding: help/GenomicRanges.rdx (188 bytes security) (stored 0%)
adding: help/paths.rds (188 bytes security) (stored 0%)
adding: html/ (208 bytes security) (stored 0%)
adding: html/00Index.html (188 bytes security) (deflated 92%)
adding: html/R.css (188 bytes security) (deflated 75%)
adding: INDEX (188 bytes security) (deflated 69%)
adding: libs/ (208 bytes security) (stored 0%)
adding: libs/i386/ (208 bytes security) (stored 0%)
adding: libs/i386/GenomicRanges.dll (188 bytes security) (deflated 65%)
adding: libs/x64/ (208 bytes security) (stored 0%)
adding: libs/x64/GenomicRanges.dll (188 bytes security) (deflated 64%)
adding: MD5 (188 bytes security) (deflated 50%)
adding: Meta/ (208 bytes security) (stored 0%)
adding: Meta/hsearch.rds (188 bytes security) (stored 0%)
adding: Meta/links.rds (188 bytes security) (deflated 0%)
adding: Meta/nsInfo.rds (188 bytes security) (stored 0%)
adding: Meta/package.rds (188 bytes security) (stored 0%)
adding: Meta/Rd.rds (188 bytes security) (stored 0%)
adding: Meta/vignette.rds (188 bytes security) (stored 0%)
adding: NAMESPACE (188 bytes security) (deflated 67%)
adding: NEWS (188 bytes security) (deflated 70%)
adding: R/ (208 bytes security) (stored 0%)
adding: R/GenomicRanges (188 bytes security) (deflated 41%)
adding: R/GenomicRanges.rdb (188 bytes security) (deflated 33%)
adding: R/GenomicRanges.rdx (188 bytes security) (deflated 5%)
adding: scripts/ (208 bytes security) (stored 0%)
adding: scripts/timing_overlaps.R (188 bytes security) (deflated 79%)
adding: unitTests/ (208 bytes security) (stored 0%)
adding: unitTests/test_coverage-methods.R (188 bytes security) (deflated 82%)
adding: unitTests/test_findOverlaps-methods.R (188 bytes security) (deflated 86%)
adding: unitTests/test_GenomicRanges-comparison.R (188 bytes security) (deflated 64%)
adding: unitTests/test_GNCList-class.R (188 bytes security) (deflated 75%)
adding: unitTests/test_GRanges-class.R (188 bytes security) (deflated 82%)
adding: unitTests/test_GRangesList-class.R (188 bytes security) (deflated 79%)
adding: unitTests/test_inter-range-methods.R (188 bytes security) (deflated 75%)
adding: unitTests/test_intra-range-methods.R (188 bytes security) (deflated 82%)
adding: unitTests/test_makeGRangesFromDataFrame.R (188 bytes security) (deflated 91%)
adding: unitTests/test_nearest-methods.R (188 bytes security) (deflated 85%)
adding: unitTests/test_setops-methods.R (188 bytes security) (deflated 85%)
adding: unitTests/test_SummarizedExperiment-rowData-methods.R (188 bytes security) (deflated 67%)