| Back to Build/check report for BioC 3.20 experimental data | 
  | 
This page was generated on 2025-04-01 15:41 -0400 (Tue, 01 Apr 2025).
| Hostname | OS | Arch (*) | R version | Installed pkgs | 
|---|---|---|---|---|
| nebbiolo2 | Linux (Ubuntu 24.04.1 LTS) | x86_64 | 4.4.3 (2025-02-28) -- "Trophy Case" | 4764 | 
| Click on any hostname to see more info about the system (e.g. compilers) (*) as reported by 'uname -p', except on Windows and Mac OS X | ||||
| Package 246/431 | Hostname | OS / Arch | INSTALL | BUILD | CHECK | ||||||||
| minfiDataEPIC 1.32.0  (landing page) Kasper Daniel Hansen 
  | nebbiolo2 | Linux (Ubuntu 24.04.1 LTS) / x86_64 | OK | OK | WARNINGS | ||||||||
| 
To the developers/maintainers of the minfiDataEPIC package: - Use the following Renviron settings to reproduce errors and warnings. - If 'R CMD check' started to fail recently on the Linux builder(s) over a missing dependency, add the missing dependency to 'Suggests:' in your DESCRIPTION file. See Renviron.bioc for more information.  | 
| Package: minfiDataEPIC | 
| Version: 1.32.0 | 
| Command: /home/biocbuild/bbs-3.20-bioc/R/bin/R CMD build --keep-empty-dirs --no-resave-data minfiDataEPIC | 
| StartedAt: 2025-04-01 11:26:55 -0400 (Tue, 01 Apr 2025) | 
| EndedAt: 2025-04-01 11:27:06 -0400 (Tue, 01 Apr 2025) | 
| EllapsedTime: 11.4 seconds | 
| RetCode: 0 | 
| Status: OK | 
| PackageFile: minfiDataEPIC_1.32.0.tar.gz | 
| PackageFileSize: 69.26 MiB | 
##############################################################################
##############################################################################
###
### Running command:
###
###   /home/biocbuild/bbs-3.20-bioc/R/bin/R CMD build --keep-empty-dirs --no-resave-data minfiDataEPIC
###
##############################################################################
##############################################################################
* checking for file ‘minfiDataEPIC/DESCRIPTION’ ... OK
* preparing ‘minfiDataEPIC’:
* checking DESCRIPTION meta-information ... OK
* checking for LF line-endings in source and make files and shell scripts
* checking for empty or unneeded directories
  NB: this package now depends on R (>= 3.5.0)
  WARNING: Added dependency on R >= 3.5.0 because serialized objects in
  serialize/load version 3 cannot be read in older versions of R.
  File(s) containing such objects:
    ‘minfiDataEPIC/data/MsetEPIC.rda’ ‘minfiDataEPIC/data/RGsetEPIC.rda’
* building ‘minfiDataEPIC_1.32.0.tar.gz’