Back to Build/check report for BioC 3.21 experimental data |
|
This page was generated on 2025-07-10 15:01 -0400 (Thu, 10 Jul 2025).
Hostname | OS | Arch (*) | R version | Installed pkgs |
---|---|---|---|---|
nebbiolo1 | Linux (Ubuntu 24.04.1 LTS) | x86_64 | 4.5.1 (2025-06-13) -- "Great Square Root" | 4818 |
Click on any hostname to see more info about the system (e.g. compilers) (*) as reported by 'uname -p', except on Windows and Mac OS X |
Package 212/432 | Hostname | OS / Arch | INSTALL | BUILD | CHECK | ||||||||
LegATo 1.2.0 (landing page) Aubrey Odom
| nebbiolo1 | Linux (Ubuntu 24.04.1 LTS) / x86_64 | OK | OK | OK | ![]() | |||||||
To the developers/maintainers of the LegATo package: - Use the following Renviron settings to reproduce errors and warnings. - If 'R CMD check' started to fail recently on the Linux builder(s) over a missing dependency, add the missing dependency to 'Suggests:' in your DESCRIPTION file. See Renviron.bioc for more information. |
Package: LegATo |
Version: 1.2.0 |
Command: /home/biocbuild/bbs-3.21-bioc/R/bin/R CMD check --install=check:LegATo.install-out.txt --library=/home/biocbuild/bbs-3.21-bioc/R/site-library --timings LegATo_1.2.0.tar.gz |
StartedAt: 2025-07-10 12:30:05 -0400 (Thu, 10 Jul 2025) |
EndedAt: 2025-07-10 12:34:25 -0400 (Thu, 10 Jul 2025) |
EllapsedTime: 260.2 seconds |
RetCode: 0 |
Status: OK |
CheckDir: LegATo.Rcheck |
Warnings: 0 |
############################################################################## ############################################################################## ### ### Running command: ### ### /home/biocbuild/bbs-3.21-bioc/R/bin/R CMD check --install=check:LegATo.install-out.txt --library=/home/biocbuild/bbs-3.21-bioc/R/site-library --timings LegATo_1.2.0.tar.gz ### ############################################################################## ############################################################################## * using log directory ‘/home/biocbuild/bbs-3.21-data-experiment/meat/LegATo.Rcheck’ * using R version 4.5.1 (2025-06-13) * using platform: x86_64-pc-linux-gnu * R was compiled by gcc (Ubuntu 13.3.0-6ubuntu2~24.04) 13.3.0 GNU Fortran (Ubuntu 13.3.0-6ubuntu2~24.04) 13.3.0 * running under: Ubuntu 24.04.2 LTS * using session charset: UTF-8 * checking for file ‘LegATo/DESCRIPTION’ ... OK * this is package ‘LegATo’ version ‘1.2.0’ * package encoding: UTF-8 * checking package namespace information ... OK * checking package dependencies ... OK * checking if this is a source package ... OK * checking if there is a namespace ... OK * checking for hidden files and directories ... OK * checking for portable file names ... OK * checking for sufficient/correct file permissions ... OK * checking whether package ‘LegATo’ can be installed ... OK * checking installed package size ... OK * checking package directory ... OK * checking ‘build’ directory ... OK * checking DESCRIPTION meta-information ... OK * checking top-level files ... OK * checking for left-over files ... OK * checking index information ... OK * checking package subdirectories ... OK * checking code files for non-ASCII characters ... OK * checking R files for syntax errors ... OK * checking whether the package can be loaded ... OK * checking whether the package can be loaded with stated dependencies ... OK * checking whether the package can be unloaded cleanly ... OK * checking whether the namespace can be loaded with stated dependencies ... OK * checking whether the namespace can be unloaded cleanly ... OK * checking loading without being on the library search path ... OK * checking dependencies in R code ... OK * checking S3 generic/method consistency ... OK * checking replacement functions ... OK * checking foreign function calls ... OK * checking R code for possible problems ... OK * checking Rd files ... OK * checking Rd metadata ... OK * checking Rd cross-references ... OK * checking for missing documentation entries ... OK * checking for code/documentation mismatches ... OK * checking Rd \usage sections ... OK * checking Rd contents ... OK * checking for unstated dependencies in examples ... OK * checking files in ‘vignettes’ ... OK * checking examples ... OK * checking for unstated dependencies in ‘tests’ ... OK * checking tests ... Running ‘spelling.R’ Running ‘testthat.R’ OK * checking for unstated dependencies in vignettes ... OK * checking package vignettes ... OK * checking re-building of vignette outputs ... OK * checking PDF version of manual ... OK * DONE Status: OK
LegATo.Rcheck/00install.out
############################################################################## ############################################################################## ### ### Running command: ### ### /home/biocbuild/bbs-3.21-bioc/R/bin/R CMD INSTALL LegATo ### ############################################################################## ############################################################################## * installing to library ‘/home/biocbuild/bbs-3.21-bioc/R/site-library’ * installing *source* package ‘LegATo’ ... ** this is package ‘LegATo’ version ‘1.2.0’ ** using staged installation ** R ** inst ** byte-compile and prepare package for lazy loading ** help *** installing help indices ** building package indices ** installing vignettes ** testing if installed package can be loaded from temporary location ** testing if installed package can be loaded from final location ** testing if installed package keeps a record of temporary installation path * DONE (LegATo)
LegATo.Rcheck/tests/spelling.Rout
R version 4.5.1 (2025-06-13) -- "Great Square Root" Copyright (C) 2025 The R Foundation for Statistical Computing Platform: x86_64-pc-linux-gnu R is free software and comes with ABSOLUTELY NO WARRANTY. You are welcome to redistribute it under certain conditions. Type 'license()' or 'licence()' for distribution details. R is a collaborative project with many contributors. Type 'contributors()' for more information and 'citation()' on how to cite R or R packages in publications. Type 'demo()' for some demos, 'help()' for on-line help, or 'help.start()' for an HTML browser interface to help. Type 'q()' to quit R. > if(requireNamespace('spelling', quietly = TRUE)) + spelling::spell_check_test(vignettes = TRUE, error = FALSE, + skip_on_cran = TRUE) NULL > > proc.time() user system elapsed 0.134 0.042 0.163
LegATo.Rcheck/tests/testthat.Rout
R version 4.5.1 (2025-06-13) -- "Great Square Root" Copyright (C) 2025 The R Foundation for Statistical Computing Platform: x86_64-pc-linux-gnu R is free software and comes with ABSOLUTELY NO WARRANTY. You are welcome to redistribute it under certain conditions. Type 'license()' or 'licence()' for distribution details. R is a collaborative project with many contributors. Type 'contributors()' for more information and 'citation()' on how to cite R or R packages in publications. Type 'demo()' for some demos, 'help()' for on-line help, or 'help.start()' for an HTML browser interface to help. Type 'q()' to quit R. > # This file is part of the standard setup for testthat. > # It is recommended that you do not modify it. > # > # Where should you do additional test configuration? > # Learn more about the roles of various files in: > # * https://r-pkgs.org/testing-design.html#sec-tests-files-overview > # * https://testthat.r-lib.org/articles/special-files.html > > library(testthat) > library(LegATo) > > test_check("LegATo") The overall range of relative abundance counts between samples is (13218, 3016276) Number of OTUs that exhibit a relative abundance >0.05% in at least 5% of the total samples: 100/1690 The overall range of relative abundance counts between samples is (13218, 3016276) Number of OTUs that exhibit a relative abundance >0.05% in at least 5% of the total samples: 100/1690 The overall range of relative abundance counts between samples is (590, 238823) Number of OTUs that exhibit a relative abundance >0.01% in at least 5% of the total samples: 100/100 The overall range of relative abundance counts between samples is (590, 238823) Number of OTUs that exhibit a relative abundance >0.01% in at least 5% of the total samples: 100/100 [ FAIL 0 | WARN 9 | SKIP 0 | PASS 24 ] [ FAIL 0 | WARN 9 | SKIP 0 | PASS 24 ] > > proc.time() user system elapsed 27.593 1.077 28.663
LegATo.Rcheck/LegATo-Ex.timings
name | user | system | elapsed | |
NMIT | 2.446 | 0.150 | 2.598 | |
clean_MAE | 2.011 | 0.082 | 2.104 | |
create_formatted_MAE | 2.152 | 0.069 | 2.221 | |
distinctColors | 0.029 | 0.001 | 0.029 | |
filter_MAE | 0.173 | 0.001 | 0.174 | |
filter_animalcules_MAE | 0.172 | 0.001 | 0.173 | |
get_long_data | 0.185 | 0.006 | 0.192 | |
get_stacked_data | 0.054 | 0.007 | 0.063 | |
get_summary_table | 0.060 | 0.000 | 0.062 | |
get_top_taxa | 0.161 | 0.003 | 0.166 | |
parse_MAE_SE | 0.056 | 0.004 | 0.060 | |
plot_alluvial | 0.668 | 0.005 | 0.674 | |
plot_heatmap | 4.331 | 0.140 | 4.471 | |
plot_spaghetti | 0.596 | 0.006 | 0.602 | |
plot_stacked_area | 0.383 | 0.001 | 0.384 | |
plot_stacked_bar | 0.435 | 0.006 | 0.441 | |
run_gee_model | 0.994 | 0.024 | 1.018 | |
run_lm_model | 2.123 | 0.089 | 2.213 | |
run_lmm_model | 3.392 | 0.078 | 3.471 | |
test_hotelling_t2 | 1.845 | 0.061 | 1.906 | |
tscor | 0.162 | 0.053 | 0.215 | |