Back to Build/check report for BioC 3.21 experimental data
ABCDEF[G]HIJKLMNOPQRSTUVWXYZ

This page was generated on 2025-10-09 15:01 -0400 (Thu, 09 Oct 2025).

HostnameOSArch (*)R versionInstalled pkgs
nebbiolo1Linux (Ubuntu 24.04.3 LTS)x86_644.5.1 (2025-06-13) -- "Great Square Root" 4832
Click on any hostname to see more info about the system (e.g. compilers)      (*) as reported by 'uname -p', except on Windows and Mac OS X

Package 147/432HostnameOS / ArchINSTALLBUILDCHECK
geneLenDataBase 1.44.0  (landing page)
Federico Marini
Snapshot Date: 2025-10-09 07:30 -0400 (Thu, 09 Oct 2025)
git_url: https://git.bioconductor.org/packages/geneLenDataBase
git_branch: RELEASE_3_21
git_last_commit: ad5f383
git_last_commit_date: 2025-04-15 09:16:59 -0400 (Tue, 15 Apr 2025)
nebbiolo1Linux (Ubuntu 24.04.3 LTS) / x86_64  OK    OK    OK  UNNEEDED, same version is already published


CHECK results for geneLenDataBase on nebbiolo1

To the developers/maintainers of the geneLenDataBase package:
- Use the following Renviron settings to reproduce errors and warnings.
- If 'R CMD check' started to fail recently on the Linux builder(s) over a missing dependency, add the missing dependency to 'Suggests:' in your DESCRIPTION file. See Renviron.bioc for more information.

raw results


Summary

Package: geneLenDataBase
Version: 1.44.0
Command: /home/biocbuild/bbs-3.21-bioc/R/bin/R CMD check --install=check:geneLenDataBase.install-out.txt --library=/home/biocbuild/bbs-3.21-bioc/R/site-library --timings geneLenDataBase_1.44.0.tar.gz
StartedAt: 2025-10-09 12:20:45 -0400 (Thu, 09 Oct 2025)
EndedAt: 2025-10-09 12:29:50 -0400 (Thu, 09 Oct 2025)
EllapsedTime: 544.8 seconds
RetCode: 0
Status:   OK  
CheckDir: geneLenDataBase.Rcheck
Warnings: 0

Command output

##############################################################################
##############################################################################
###
### Running command:
###
###   /home/biocbuild/bbs-3.21-bioc/R/bin/R CMD check --install=check:geneLenDataBase.install-out.txt --library=/home/biocbuild/bbs-3.21-bioc/R/site-library --timings geneLenDataBase_1.44.0.tar.gz
###
##############################################################################
##############################################################################


* using log directory ‘/home/biocbuild/bbs-3.21-data-experiment/meat/geneLenDataBase.Rcheck’
* using R version 4.5.1 (2025-06-13)
* using platform: x86_64-pc-linux-gnu
* R was compiled by
    gcc (Ubuntu 13.3.0-6ubuntu2~24.04) 13.3.0
    GNU Fortran (Ubuntu 13.3.0-6ubuntu2~24.04) 13.3.0
* running under: Ubuntu 24.04.3 LTS
* using session charset: UTF-8
* checking for file ‘geneLenDataBase/DESCRIPTION’ ... OK
* this is package ‘geneLenDataBase’ version ‘1.44.0’
* package encoding: UTF-8
* checking package namespace information ... OK
* checking package dependencies ... OK
* checking if this is a source package ... OK
* checking if there is a namespace ... OK
* checking for hidden files and directories ... OK
* checking for portable file names ... OK
* checking for sufficient/correct file permissions ... OK
* checking whether package ‘geneLenDataBase’ can be installed ... OK
* checking installed package size ... INFO
  installed size is 100.0Mb
  sub-directories of 1Mb or more:
    data  99.5Mb
* checking package directory ... OK
* checking DESCRIPTION meta-information ... OK
* checking top-level files ... OK
* checking for left-over files ... OK
* checking index information ... OK
* checking package subdirectories ... OK
* checking code files for non-ASCII characters ... OK
* checking R files for syntax errors ... OK
* checking whether the package can be loaded ... OK
* checking whether the package can be loaded with stated dependencies ... OK
* checking whether the package can be unloaded cleanly ... OK
* checking whether the namespace can be loaded with stated dependencies ... OK
* checking whether the namespace can be unloaded cleanly ... OK
* checking loading without being on the library search path ... OK
* checking dependencies in R code ... NOTE
Unexported object imported by a ':::' call: ‘txdbmaker:::.UCSC_TXNAME2GENEID_MAPDEFS’
  See the note in ?`:::` about the use of this operator.
* checking S3 generic/method consistency ... OK
* checking replacement functions ... OK
* checking foreign function calls ... OK
* checking R code for possible problems ... OK
* checking Rd files ... OK
* checking Rd metadata ... OK
* checking Rd cross-references ... OK
* checking for missing documentation entries ... OK
* checking for code/documentation mismatches ... OK
* checking Rd \usage sections ... OK
* checking Rd contents ... OK
* checking for unstated dependencies in examples ... OK
* checking contents of ‘data’ directory ... OK
* checking data for non-ASCII characters ... OK
* checking data for ASCII and uncompressed saves ... OK
* checking examples ... OK
Examples with CPU (user + system) or elapsed time > 5s
                  user system elapsed
supportedGeneIDs 3.321  0.593   6.284
* checking PDF version of manual ... OK
* DONE

Status: 1 NOTE
See
  ‘/home/biocbuild/bbs-3.21-data-experiment/meat/geneLenDataBase.Rcheck/00check.log’
for details.


Installation output

geneLenDataBase.Rcheck/00install.out

##############################################################################
##############################################################################
###
### Running command:
###
###   /home/biocbuild/bbs-3.21-bioc/R/bin/R CMD INSTALL geneLenDataBase
###
##############################################################################
##############################################################################


* installing to library ‘/home/biocbuild/bbs-3.21-bioc/R/site-library’
* installing *source* package ‘geneLenDataBase’ ...
** this is package ‘geneLenDataBase’ version ‘1.44.0’
** using staged installation
** R
** data
** byte-compile and prepare package for lazy loading
** help
*** installing help indices
** building package indices
** testing if installed package can be loaded from temporary location
** testing if installed package can be loaded from final location
** testing if installed package keeps a record of temporary installation path
* DONE (geneLenDataBase)

Tests output


Example timings

geneLenDataBase.Rcheck/geneLenDataBase-Ex.timings

nameusersystemelapsed
anoCar1.ensGene.LENGTH0.0710.0040.076
anoCar1.genscan.LENGTH0.0440.0010.046
anoCar1.xenoRefGene.LENGTH1.4320.0071.439
anoGam1.ensGene.LENGTH0.0590.0010.058
anoGam1.geneid.LENGTH0.0400.0020.042
anoGam1.genscan.LENGTH0.0380.0020.040
apiMel1.genscan.LENGTH0.0350.0000.035
apiMel2.ensGene.LENGTH0.0850.0010.086
apiMel2.geneid.LENGTH0.0440.0000.044
apiMel2.genscan.LENGTH0.0310.0020.033
aplCal1.xenoRefGene.LENGTH0.4210.0020.423
bosTau2.geneSymbol.LENGTH0.0390.0020.042
bosTau2.geneid.LENGTH0.2980.0130.311
bosTau2.genscan.LENGTH0.0860.0020.089
bosTau2.refGene.LENGTH0.0440.0060.050
bosTau2.sgpGene.LENGTH0.0990.0020.101
bosTau3.ensGene.LENGTH0.0980.0050.104
bosTau3.geneSymbol.LENGTH0.0380.0000.038
bosTau3.geneid.LENGTH0.1210.0010.121
bosTau3.genscan.LENGTH0.0690.0020.072
bosTau3.refGene.LENGTH0.0320.0010.033
bosTau3.sgpGene.LENGTH0.0880.0010.089
bosTau4.ensGene.LENGTH0.0910.0050.096
bosTau4.geneSymbol.LENGTH0.0360.0000.036
bosTau4.genscan.LENGTH0.0670.0010.068
bosTau4.nscanGene.LENGTH0.0290.0010.031
bosTau4.refGene.LENGTH0.0340.0000.034
braFlo1.xenoRefGene.LENGTH0.3960.0020.398
caeJap1.xenoRefGene.LENGTH0.4010.0060.407
caePb1.xenoRefGene.LENGTH0.4360.0020.438
caePb2.xenoRefGene.LENGTH0.4080.0020.410
caeRem2.xenoRefGene.LENGTH0.3670.0100.377
caeRem3.xenoRefGene.LENGTH0.3350.0030.338
calJac1.genscan.LENGTH0.0780.0020.081
calJac1.nscanGene.LENGTH0.1020.0020.104
calJac1.xenoRefGene.LENGTH0.6460.0020.648
canFam1.ensGene.LENGTH0.1010.0010.102
canFam1.geneSymbol.LENGTH0.0060.0000.006
canFam1.genscan.LENGTH0.0590.0000.060
canFam1.nscanGene.LENGTH0.0570.0020.060
canFam1.refGene.LENGTH0.0030.0010.005
canFam1.xenoRefGene.LENGTH0.5710.0030.574
canFam2.ensGene.LENGTH0.0910.0010.093
canFam2.geneSymbol.LENGTH0.0060.0000.006
canFam2.genscan.LENGTH0.0560.0000.056
canFam2.nscanGene.LENGTH0.1310.0050.137
canFam2.refGene.LENGTH0.0040.0000.005
canFam2.xenoRefGene.LENGTH0.6170.0010.618
cavPor3.ensGene.LENGTH0.090.000.09
cavPor3.genscan.LENGTH0.0960.0020.099
cavPor3.nscanGene.LENGTH0.0640.0010.065
cavPor3.xenoRefGene.LENGTH0.5890.0000.590
cb1.xenoRefGene.LENGTH0.4140.0020.416
cb3.xenoRefGene.LENGTH0.3420.0030.346
ce2.geneSymbol.LENGTH0.0690.0000.070
ce2.geneid.LENGTH0.0610.0010.062
ce2.refGene.LENGTH0.0660.0010.067
ce4.geneSymbol.LENGTH0.0710.0020.071
ce4.refGene.LENGTH0.0610.0010.062
ce4.xenoRefGene.LENGTH0.0820.0010.083
ce6.ensGene.LENGTH0.0950.0020.097
ce6.geneSymbol.LENGTH0.0730.0010.074
ce6.refGene.LENGTH0.0640.0010.064
ce6.xenoRefGene.LENGTH0.0860.0010.087
ci1.geneSymbol.LENGTH0.0050.0010.006
ci1.refGene.LENGTH0.0040.0000.005
ci1.xenoRefGene.LENGTH0.1770.0020.177
ci2.ensGene.LENGTH0.1770.0090.187
ci2.geneSymbol.LENGTH0.0040.0000.005
ci2.refGene.LENGTH0.0030.0020.004
ci2.xenoRefGene.LENGTH0.2500.0020.251
danRer3.ensGene.LENGTH0.0950.0020.095
danRer3.geneSymbol.LENGTH0.0500.0020.051
danRer3.refGene.LENGTH0.0470.0000.047
danRer4.ensGene.LENGTH0.1090.0000.111
danRer4.geneSymbol.LENGTH0.0530.0000.053
danRer4.genscan.LENGTH0.0550.0010.056
danRer4.nscanGene.LENGTH0.0840.0020.085
danRer4.refGene.LENGTH0.0470.0010.047
danRer5.ensGene.LENGTH0.1090.0000.110
danRer5.geneSymbol.LENGTH0.0490.0000.049
danRer5.refGene.LENGTH0.0420.0010.044
danRer5.vegaGene.LENGTH0.0460.0020.047
danRer5.vegaPseudoGene.LENGTH0.0020.0000.003
danRer6.ensGene.LENGTH0.1080.0010.110
danRer6.geneSymbol.LENGTH0.0500.0000.052
danRer6.refGene.LENGTH0.0440.0020.047
danRer6.xenoRefGene.LENGTH0.4850.0000.486
dm1.geneSymbol.LENGTH0.0640.0000.065
dm1.genscan.LENGTH0.0240.0000.026
dm1.refGene.LENGTH0.0560.0010.058
dm2.geneSymbol.LENGTH0.0620.0010.063
dm2.geneid.LENGTH0.0350.0010.036
dm2.genscan.LENGTH0.0230.0010.024
dm2.nscanGene.LENGTH0.0500.0000.049
dm2.refGene.LENGTH0.0570.0000.058
dm3.geneSymbol.LENGTH0.0680.0000.070
dm3.nscanPasaGene.LENGTH0.0500.0020.052
dm3.refGene.LENGTH0.0630.0010.066
downloadLengthFromUCSC000
dp2.genscan.LENGTH0.0320.0000.032
dp2.xenoRefGene.LENGTH0.1910.0030.193
dp3.geneid.LENGTH0.0400.0000.041
dp3.genscan.LENGTH0.0250.0000.026
dp3.xenoRefGene.LENGTH0.1060.0020.107
droAna1.geneid.LENGTH0.0700.0020.072
droAna1.genscan.LENGTH0.0200.0020.022
droAna1.xenoRefGene.LENGTH0.1980.0020.199
droAna2.genscan.LENGTH0.0490.0010.051
droAna2.xenoRefGene.LENGTH0.2680.0010.269
droEre1.genscan.LENGTH0.0290.0000.030
droEre1.xenoRefGene.LENGTH0.3510.0060.357
droGri1.genscan.LENGTH0.0400.0010.041
droGri1.xenoRefGene.LENGTH0.2780.0030.280
droMoj1.geneid.LENGTH0.2460.0080.259
droMoj1.genscan.LENGTH0.0570.0000.057
droMoj1.xenoRefGene.LENGTH0.2250.0000.228
droMoj2.genscan.LENGTH0.0360.0010.038
droMoj2.xenoRefGene.LENGTH0.2880.0020.293
droPer1.genscan.LENGTH0.0390.0010.040
droPer1.xenoRefGene.LENGTH0.2580.0010.259
droSec1.genscan.LENGTH0.0280.0010.029
droSec1.xenoRefGene.LENGTH0.2580.0000.259
droSim1.geneid.LENGTH0.0370.0010.038
droSim1.genscan.LENGTH0.0240.0010.025
droSim1.xenoRefGene.LENGTH0.2130.0010.215
droVir1.geneid.LENGTH0.1570.0010.158
droVir1.genscan.LENGTH0.040.000.04
droVir1.xenoRefGene.LENGTH0.2190.0020.221
droVir2.genscan.LENGTH0.0310.0010.033
droVir2.xenoRefGene.LENGTH0.2480.0010.251
droYak1.geneid.LENGTH0.0440.0100.054
droYak1.genscan.LENGTH0.0310.0000.032
droYak1.xenoRefGene.LENGTH0.2080.0010.211
droYak2.genscan.LENGTH0.0280.0000.028
droYak2.xenoRefGene.LENGTH0.2540.0010.256
equCab1.geneSymbol.LENGTH0.0030.0010.005
equCab1.geneid.LENGTH0.0820.0010.084
equCab1.nscanGene.LENGTH0.0380.0010.039
equCab1.refGene.LENGTH0.0040.0000.005
equCab1.sgpGene.LENGTH0.0650.0000.066
equCab2.ensGene.LENGTH0.0890.0010.092
equCab2.geneSymbol.LENGTH0.0060.0000.007
equCab2.nscanGene.LENGTH0.0470.0020.049
equCab2.refGene.LENGTH0.0060.0010.007
equCab2.xenoRefGene.LENGTH0.8080.0060.814
felCat3.ensGene.LENGTH0.0990.0000.099
felCat3.geneSymbol.LENGTH0.0020.0000.004
felCat3.geneid.LENGTH0.4870.0020.489
felCat3.genscan.LENGTH0.1090.0040.114
felCat3.nscanGene.LENGTH1.0340.1191.153
felCat3.refGene.LENGTH0.0030.0010.004
felCat3.sgpGene.LENGTH0.1320.0080.140
felCat3.xenoRefGene.LENGTH0.9800.0080.990
fr1.ensGene.LENGTH0.0700.0000.071
fr1.genscan.LENGTH0.0520.0010.053
fr2.ensGene.LENGTH0.1210.0020.122
galGal2.ensGene.LENGTH0.0520.0010.053
galGal2.geneSymbol.LENGTH0.0150.0000.016
galGal2.geneid.LENGTH0.0360.0000.036
galGal2.genscan.LENGTH0.0450.0010.048
galGal2.refGene.LENGTH0.0140.0010.015
galGal2.sgpGene.LENGTH0.0400.0010.041
galGal3.ensGene.LENGTH0.0680.0020.071
galGal3.geneSymbol.LENGTH0.0120.0020.015
galGal3.genscan.LENGTH0.0450.0000.045
galGal3.nscanGene.LENGTH0.070.000.07
galGal3.refGene.LENGTH0.0130.0010.014
galGal3.xenoRefGene.LENGTH0.4190.0040.424
gasAcu1.ensGene.LENGTH0.0840.0020.086
gasAcu1.nscanGene.LENGTH0.0820.0040.087
hg16.acembly.LENGTH0.3280.0030.333
hg16.ensGene.LENGTH0.0680.0010.069
hg16.exoniphy.LENGTH0.2290.0060.234
hg16.geneSymbol.LENGTH0.1030.0010.103
hg16.geneid.LENGTH0.0480.0000.047
hg16.genscan.LENGTH0.0630.0010.064
hg16.knownGene.LENGTH0.1130.0020.117
hg16.refGene.LENGTH0.0970.0010.097
hg16.sgpGene.LENGTH0.0550.0010.055
hg17.acembly.LENGTH0.4140.0080.423
hg17.acescan.LENGTH0.0100.0000.011
hg17.ccdsGene.LENGTH0.0220.0010.025
hg17.ensGene.LENGTH0.1030.0020.106
hg17.exoniphy.LENGTH0.3710.0020.375
hg17.geneSymbol.LENGTH0.1010.0010.104
hg17.geneid.LENGTH0.0740.0000.074
hg17.genscan.LENGTH0.0560.0010.056
hg17.knownGene.LENGTH0.1030.0000.103
hg17.refGene.LENGTH0.0930.0010.096
hg17.sgpGene.LENGTH0.0670.0020.070
hg17.vegaGene.LENGTH1.0340.0031.036
hg17.vegaPseudoGene.LENGTH0.0150.0000.016
hg17.xenoRefGene.LENGTH0.1650.0010.166
hg18.acembly.LENGTH0.3890.0020.392
hg18.acescan.LENGTH0.0080.0000.010
hg18.ccdsGene.LENGTH0.0300.0000.031
hg18.ensGene.LENGTH0.1640.0000.166
hg18.exoniphy.LENGTH0.4230.0010.425
hg18.geneSymbol.LENGTH0.0940.0000.096
hg18.geneid.LENGTH0.0720.0010.073
hg18.genscan.LENGTH0.0600.0010.061
hg18.knownGene.LENGTH0.1410.0010.144
hg18.knownGeneOld3.LENGTH0.0630.0000.064
hg18.refGene.LENGTH0.0870.0020.089
hg18.sgpGene.LENGTH0.0680.0000.068
hg18.sibGene.LENGTH0.3130.0020.316
hg18.xenoRefGene.LENGTH0.3320.0010.333
hg19.ccdsGene.LENGTH0.0390.0000.040
hg19.ensGene.LENGTH0.2850.0000.286
hg19.exoniphy.LENGTH0.4130.0000.414
hg19.geneSymbol.LENGTH0.0960.0010.097
hg19.knownGene.LENGTH0.1700.0000.169
hg19.nscanGene.LENGTH0.1590.0000.160
hg19.refGene.LENGTH0.0990.0000.100
hg19.xenoRefGene.LENGTH0.3480.0020.350
loxAfr3.xenoRefGene.LENGTH0.7560.0020.759
mm7.ensGene.LENGTH0.1140.0020.116
mm7.geneSymbol.LENGTH0.0890.0010.090
mm7.geneid.LENGTH0.0760.0000.076
mm7.genscan.LENGTH0.2770.0010.279
mm7.knownGene.LENGTH0.0890.0000.091
mm7.refGene.LENGTH0.0790.0010.082
mm7.sgpGene.LENGTH0.0770.0020.078
mm7.xenoRefGene.LENGTH0.3000.0030.302
mm8.ccdsGene.LENGTH0.0300.0030.032
mm8.ensGene.LENGTH0.1070.0000.109
mm8.geneSymbol.LENGTH0.0870.0000.088
mm8.geneid.LENGTH0.0690.0040.073
mm8.genscan.LENGTH0.0570.0020.058
mm8.knownGene.LENGTH0.0870.0010.088
mm8.nscanGene.LENGTH0.0570.0010.059
mm8.refGene.LENGTH0.0770.0010.079
mm8.sgpGene.LENGTH0.0670.0020.070
mm8.sibGene.LENGTH0.4220.0100.431
mm8.xenoRefGene.LENGTH0.3270.0040.330
mm9.acembly.LENGTH0.2980.0040.303
mm9.ccdsGene.LENGTH0.0280.0000.029
mm9.ensGene.LENGTH0.1430.0000.143
mm9.exoniphy.LENGTH0.4100.0020.413
mm9.geneSymbol.LENGTH0.0830.0000.084
mm9.geneid.LENGTH0.0800.0000.082
mm9.genscan.LENGTH0.0610.0000.062
mm9.knownGene.LENGTH0.2290.0020.233
mm9.nscanGene.LENGTH0.0580.0000.058
mm9.refGene.LENGTH0.0780.0010.081
mm9.sgpGene.LENGTH0.0790.0000.080
mm9.xenoRefGene.LENGTH0.3400.0030.343
monDom1.genscan.LENGTH0.0570.0010.058
monDom4.ensGene.LENGTH0.0680.0030.070
monDom4.geneSymbol.LENGTH0.0040.0000.003
monDom4.genscan.LENGTH0.0490.0020.051
monDom4.nscanGene.LENGTH0.0480.0020.050
monDom4.refGene.LENGTH0.0030.0010.003
monDom4.xenoRefGene.LENGTH0.3200.0020.322
monDom5.ensGene.LENGTH0.0970.0000.097
monDom5.geneSymbol.LENGTH0.0030.0010.004
monDom5.genscan.LENGTH0.0480.0020.051
monDom5.nscanGene.LENGTH0.1040.0010.105
monDom5.refGene.LENGTH0.0020.0000.004
monDom5.xenoRefGene.LENGTH0.5420.0020.544
ornAna1.ensGene.LENGTH0.0880.0020.089
ornAna1.geneSymbol.LENGTH0.0010.0020.002
ornAna1.refGene.LENGTH0.0000.0030.002
ornAna1.xenoRefGene.LENGTH0.5290.0010.530
oryLat2.ensGene.LENGTH0.0720.0030.075
oryLat2.geneSymbol.LENGTH0.0040.0000.004
oryLat2.refGene.LENGTH0.0030.0000.004
oryLat2.xenoRefGene.LENGTH0.4500.0020.453
panTro1.ensGene.LENGTH0.5300.0180.548
panTro1.geneid.LENGTH0.0460.0010.047
panTro1.genscan.LENGTH0.0590.0010.060
panTro1.xenoRefGene.LENGTH0.1070.0000.108
panTro2.ensGene.LENGTH0.1070.0010.109
panTro2.geneSymbol.LENGTH0.0920.0000.092
panTro2.genscan.LENGTH0.0600.0000.061
panTro2.nscanGene.LENGTH0.0610.0000.060
panTro2.refGene.LENGTH0.0920.0020.094
panTro2.xenoRefGene.LENGTH0.4420.0040.446
petMar1.xenoRefGene.LENGTH0.2460.0020.247
ponAbe2.ensGene.LENGTH0.0790.0010.080
ponAbe2.geneSymbol.LENGTH0.0120.0000.012
ponAbe2.genscan.LENGTH0.060.000.06
ponAbe2.nscanGene.LENGTH0.0580.0010.060
ponAbe2.refGene.LENGTH0.0120.0000.011
ponAbe2.xenoRefGene.LENGTH0.5750.0030.578
priPac1.xenoRefGene.LENGTH0.3340.0020.336
rheMac2.ensGene.LENGTH0.1220.0020.123
rheMac2.geneSymbol.LENGTH0.0040.0010.005
rheMac2.geneid.LENGTH0.0680.0010.069
rheMac2.nscanGene.LENGTH0.0590.0010.060
rheMac2.refGene.LENGTH0.0040.0010.005
rheMac2.sgpGene.LENGTH0.0670.0010.068
rheMac2.xenoRefGene.LENGTH0.4310.0010.431
rn3.ensGene.LENGTH0.0930.0000.093
rn3.geneSymbol.LENGTH0.0490.0010.050
rn3.geneid.LENGTH0.0490.0010.050
rn3.genscan.LENGTH0.0590.0020.061
rn3.knownGene.LENGTH0.0200.0020.022
rn3.nscanGene.LENGTH0.2300.0010.231
rn3.refGene.LENGTH0.0470.0010.047
rn3.sgpGene.LENGTH0.0610.0000.060
rn3.xenoRefGene.LENGTH0.4990.0130.512
rn4.ensGene.LENGTH0.1170.0030.120
rn4.geneSymbol.LENGTH0.0480.0010.049
rn4.geneid.LENGTH0.0800.0020.082
rn4.genscan.LENGTH0.0590.0020.061
rn4.knownGene.LENGTH0.0230.0010.024
rn4.nscanGene.LENGTH0.0510.0000.051
rn4.refGene.LENGTH0.0450.0020.048
rn4.sgpGene.LENGTH0.0810.0010.082
rn4.xenoRefGene.LENGTH0.2940.0000.294
sacCer1.ensGene.LENGTH0.0170.0010.018
sacCer2.ensGene.LENGTH0.0140.0010.016
strPur1.geneSymbol.LENGTH0.0030.0010.004
strPur1.genscan.LENGTH0.0610.0010.062
strPur1.refGene.LENGTH0.0050.0000.005
strPur1.xenoRefGene.LENGTH0.4360.0020.439
strPur2.geneSymbol.LENGTH0.0040.0000.004
strPur2.genscan.LENGTH0.1010.0010.102
strPur2.refGene.LENGTH0.0040.0000.004
strPur2.xenoRefGene.LENGTH0.5800.0010.581
supportedGeneIDs3.3210.5936.284
supportedGenomes0.2120.0171.074
taeGut1.ensGene.LENGTH0.0580.0020.060
taeGut1.geneSymbol.LENGTH0.0020.0000.003
taeGut1.genscan.LENGTH0.0290.0010.030
taeGut1.nscanGene.LENGTH0.0230.0010.023
taeGut1.refGene.LENGTH0.0000.0020.002
taeGut1.xenoRefGene.LENGTH0.3880.0130.403
tetNig1.ensGene.LENGTH0.0770.0040.082
tetNig1.geneid.LENGTH0.0560.0030.059
tetNig1.genscan.LENGTH0.0460.0020.047
tetNig1.nscanGene.LENGTH0.0640.0090.073
tetNig2.ensGene.LENGTH0.0670.0010.069
unfactor0.0030.0030.007
xenTro1.genscan.LENGTH0.0780.0030.081
xenTro2.ensGene.LENGTH0.0800.0040.084
xenTro2.geneSymbol.LENGTH0.0280.0020.029
xenTro2.genscan.LENGTH0.0650.0020.067
xenTro2.refGene.LENGTH0.0280.0000.027