Back to Build/check report for BioC 3.21 experimental data
ABCDEFGHIJKLMNO[P]QRSTUVWXYZ

This page was generated on 2025-07-10 15:01 -0400 (Thu, 10 Jul 2025).

HostnameOSArch (*)R versionInstalled pkgs
nebbiolo1Linux (Ubuntu 24.04.1 LTS)x86_644.5.1 (2025-06-13) -- "Great Square Root" 4818
Click on any hostname to see more info about the system (e.g. compilers)      (*) as reported by 'uname -p', except on Windows and Mac OS X

Package 288/432HostnameOS / ArchINSTALLBUILDCHECK
pasillaBamSubset 0.46.0  (landing page)
Hervé Pagès
Snapshot Date: 2025-07-10 07:30 -0400 (Thu, 10 Jul 2025)
git_url: https://git.bioconductor.org/packages/pasillaBamSubset
git_branch: RELEASE_3_21
git_last_commit: ebf9eaf
git_last_commit_date: 2025-04-15 09:18:55 -0400 (Tue, 15 Apr 2025)
nebbiolo1Linux (Ubuntu 24.04.1 LTS) / x86_64  OK    OK    OK  UNNEEDED, same version is already published


BUILD results for pasillaBamSubset on nebbiolo1

To the developers/maintainers of the pasillaBamSubset package:
- Use the following Renviron settings to reproduce errors and warnings.
- If 'R CMD check' started to fail recently on the Linux builder(s) over a missing dependency, add the missing dependency to 'Suggests:' in your DESCRIPTION file. See Renviron.bioc for more information.

raw results


Summary

Package: pasillaBamSubset
Version: 0.46.0
Command: /home/biocbuild/bbs-3.21-bioc/R/bin/R CMD build --keep-empty-dirs --no-resave-data pasillaBamSubset
StartedAt: 2025-07-10 11:32:17 -0400 (Thu, 10 Jul 2025)
EndedAt: 2025-07-10 11:32:20 -0400 (Thu, 10 Jul 2025)
EllapsedTime: 3.3 seconds
RetCode: 0
Status:   OK  
PackageFile: pasillaBamSubset_0.46.0.tar.gz
PackageFileSize: 15.01 MiB

Command output

##############################################################################
##############################################################################
###
### Running command:
###
###   /home/biocbuild/bbs-3.21-bioc/R/bin/R CMD build --keep-empty-dirs --no-resave-data pasillaBamSubset
###
##############################################################################
##############################################################################


* checking for file ‘pasillaBamSubset/DESCRIPTION’ ... OK
* preparing ‘pasillaBamSubset’:
* checking DESCRIPTION meta-information ... OK
* checking for LF line-endings in source and make files and shell scripts
* checking for empty or unneeded directories
* building ‘pasillaBamSubset_0.46.0.tar.gz’