Back to Build/check report for BioC 3.21 experimental data
ABCDEFGHIJKLMNOPQRSTUVWX[Y]Z

This page was generated on 2025-07-15 15:01 -0400 (Tue, 15 Jul 2025).

HostnameOSArch (*)R versionInstalled pkgs
nebbiolo1Linux (Ubuntu 24.04.1 LTS)x86_644.5.1 (2025-06-13) -- "Great Square Root" 4820
Click on any hostname to see more info about the system (e.g. compilers)      (*) as reported by 'uname -p', except on Windows and Mac OS X

Package 429/432HostnameOS / ArchINSTALLBUILDCHECK
yeastGSData 0.46.0  (landing page)
R. Gentleman
Snapshot Date: 2025-07-15 07:30 -0400 (Tue, 15 Jul 2025)
git_url: https://git.bioconductor.org/packages/yeastGSData
git_branch: RELEASE_3_21
git_last_commit: 10ec2b7
git_last_commit_date: 2025-04-15 09:15:29 -0400 (Tue, 15 Apr 2025)
nebbiolo1Linux (Ubuntu 24.04.1 LTS) / x86_64  OK    OK    WARNINGS  UNNEEDED, same version is already published


BUILD results for yeastGSData on nebbiolo1

To the developers/maintainers of the yeastGSData package:
- Use the following Renviron settings to reproduce errors and warnings.
- If 'R CMD check' started to fail recently on the Linux builder(s) over a missing dependency, add the missing dependency to 'Suggests:' in your DESCRIPTION file. See Renviron.bioc for more information.

raw results


Summary

Package: yeastGSData
Version: 0.46.0
Command: /home/biocbuild/bbs-3.21-bioc/R/bin/R CMD build --keep-empty-dirs --no-resave-data yeastGSData
StartedAt: 2025-07-15 11:44:57 -0400 (Tue, 15 Jul 2025)
EndedAt: 2025-07-15 11:45:13 -0400 (Tue, 15 Jul 2025)
EllapsedTime: 15.5 seconds
RetCode: 0
Status:   OK  
PackageFile: yeastGSData_0.46.0.tar.gz
PackageFileSize: 8.124 MiB

Command output

##############################################################################
##############################################################################
###
### Running command:
###
###   /home/biocbuild/bbs-3.21-bioc/R/bin/R CMD build --keep-empty-dirs --no-resave-data yeastGSData
###
##############################################################################
##############################################################################


* checking for file ‘yeastGSData/DESCRIPTION’ ... OK
* preparing ‘yeastGSData’:
* checking DESCRIPTION meta-information ... OK
* checking for LF line-endings in source and make files and shell scripts
* checking for empty or unneeded directories
* looking to see if a ‘data/datalist’ file should be added
* building ‘yeastGSData_0.46.0.tar.gz’