| Back to Build/check report for BioC 3.22 experimental data |
|
This page was generated on 2025-10-21 15:41 -0400 (Tue, 21 Oct 2025).
| Hostname | OS | Arch (*) | R version | Installed pkgs |
|---|---|---|---|---|
| nebbiolo2 | Linux (Ubuntu 24.04.3 LTS) | x86_64 | 4.5.1 Patched (2025-08-23 r88802) -- "Great Square Root" | 4888 |
| Click on any hostname to see more info about the system (e.g. compilers) (*) as reported by 'uname -p', except on Windows and Mac OS X | ||||
| Package 240/435 | Hostname | OS / Arch | INSTALL | BUILD | CHECK | ||||||||
| MetaGxPancreas 1.29.0 (landing page) Benjamin Haibe-Kains
| nebbiolo2 | Linux (Ubuntu 24.04.3 LTS) / x86_64 | OK | OK | OK | ||||||||
|
To the developers/maintainers of the MetaGxPancreas package: - Use the following Renviron settings to reproduce errors and warnings. - If 'R CMD check' started to fail recently on the Linux builder(s) over a missing dependency, add the missing dependency to 'Suggests:' in your DESCRIPTION file. See Renviron.bioc for more information. |
| Package: MetaGxPancreas |
| Version: 1.29.0 |
| Command: /home/biocbuild/bbs-3.22-bioc/R/bin/R CMD INSTALL MetaGxPancreas |
| StartedAt: 2025-10-21 11:00:03 -0400 (Tue, 21 Oct 2025) |
| EndedAt: 2025-10-21 11:00:32 -0400 (Tue, 21 Oct 2025) |
| EllapsedTime: 29.0 seconds |
| RetCode: 0 |
| Status: OK |
############################################################################## ############################################################################## ### ### Running command: ### ### /home/biocbuild/bbs-3.22-bioc/R/bin/R CMD INSTALL MetaGxPancreas ### ############################################################################## ############################################################################## * installing to library ‘/home/biocbuild/bbs-3.22-bioc/R/site-library’ * installing *source* package ‘MetaGxPancreas’ ... ** this is package ‘MetaGxPancreas’ version ‘1.29.0’ ** using staged installation Warning in person1(given = given[[i]], family = family[[i]], middle = middle[[i]], : It is recommended to use ‘given’ instead of ‘middle’. ** R ** inst ** byte-compile and prepare package for lazy loading ** help *** installing help indices ** building package indices ** installing vignettes ** testing if installed package can be loaded from temporary location ** testing if installed package can be loaded from final location ** testing if installed package keeps a record of temporary installation path * DONE (MetaGxPancreas)