| Back to Build/check report for BioC 3.22 experimental data |
|
This page was generated on 2025-10-21 15:41 -0400 (Tue, 21 Oct 2025).
| Hostname | OS | Arch (*) | R version | Installed pkgs |
|---|---|---|---|---|
| nebbiolo2 | Linux (Ubuntu 24.04.3 LTS) | x86_64 | 4.5.1 Patched (2025-08-23 r88802) -- "Great Square Root" | 4888 |
| Click on any hostname to see more info about the system (e.g. compilers) (*) as reported by 'uname -p', except on Windows and Mac OS X | ||||
| Package 335/435 | Hostname | OS / Arch | INSTALL | BUILD | CHECK | ||||||||
| RnBeads.hg19 1.41.0 (landing page) RnBeadsAnnotationCreator
| nebbiolo2 | Linux (Ubuntu 24.04.3 LTS) / x86_64 | OK | OK | OK | ||||||||
|
To the developers/maintainers of the RnBeads.hg19 package: - Use the following Renviron settings to reproduce errors and warnings. - If 'R CMD check' started to fail recently on the Linux builder(s) over a missing dependency, add the missing dependency to 'Suggests:' in your DESCRIPTION file. See Renviron.bioc for more information. |
| Package: RnBeads.hg19 |
| Version: 1.41.0 |
| Command: /home/biocbuild/bbs-3.22-bioc/R/bin/R CMD build --keep-empty-dirs --no-resave-data RnBeads.hg19 |
| StartedAt: 2025-10-21 11:38:49 -0400 (Tue, 21 Oct 2025) |
| EndedAt: 2025-10-21 11:38:56 -0400 (Tue, 21 Oct 2025) |
| EllapsedTime: 7.0 seconds |
| RetCode: 0 |
| Status: OK |
| PackageFile: RnBeads.hg19_1.41.0.tar.gz |
| PackageFileSize: 100.1 MiB |
##############################################################################
##############################################################################
###
### Running command:
###
### /home/biocbuild/bbs-3.22-bioc/R/bin/R CMD build --keep-empty-dirs --no-resave-data RnBeads.hg19
###
##############################################################################
##############################################################################
* checking for file ‘RnBeads.hg19/DESCRIPTION’ ... OK
* preparing ‘RnBeads.hg19’:
* checking DESCRIPTION meta-information ... OK
* checking for LF line-endings in source and make files and shell scripts
* checking for empty or unneeded directories
* looking to see if a ‘data/datalist’ file should be added
NB: this package now depends on R (>= 3.5.0)
WARNING: Added dependency on R >= 3.5.0 because serialized objects in
serialize/load version 3 cannot be read in older versions of R.
File(s) containing such objects:
‘RnBeads.hg19/data/CpG.RData’ ‘RnBeads.hg19/data/probes27.RData’
‘RnBeads.hg19/data/probes450.RData’
‘RnBeads.hg19/data/probesEPIC.RData’
‘RnBeads.hg19/data/regions.RData’
* building ‘RnBeads.hg19_1.41.0.tar.gz’