Back to Build/check report for BioC 3.22 experimental data
A[B]CDEFGHIJKLMNOPQRSTUVWXYZ

This page was generated on 2025-07-10 15:41 -0400 (Thu, 10 Jul 2025).

HostnameOSArch (*)R versionInstalled pkgs
nebbiolo2Linux (Ubuntu 24.04.1 LTS)x86_644.5.1 (2025-06-13) -- "Great Square Root" 4781
Click on any hostname to see more info about the system (e.g. compilers)      (*) as reported by 'uname -p', except on Windows and Mac OS X

Package 43/429HostnameOS / ArchINSTALLBUILDCHECK
bugphyzz 1.3.0  (landing page)
Samuel Gamboa
Snapshot Date: 2025-07-10 07:30 -0400 (Thu, 10 Jul 2025)
git_url: https://git.bioconductor.org/packages/bugphyzz
git_branch: devel
git_last_commit: a400666
git_last_commit_date: 2025-04-15 10:24:32 -0400 (Tue, 15 Apr 2025)
nebbiolo2Linux (Ubuntu 24.04.1 LTS) / x86_64  OK    OK    ERROR  


CHECK results for bugphyzz on nebbiolo2

To the developers/maintainers of the bugphyzz package:
- Use the following Renviron settings to reproduce errors and warnings.
- If 'R CMD check' started to fail recently on the Linux builder(s) over a missing dependency, add the missing dependency to 'Suggests:' in your DESCRIPTION file. See Renviron.bioc for more information.

raw results


Summary

Package: bugphyzz
Version: 1.3.0
Command: /home/biocbuild/bbs-3.22-bioc/R/bin/R CMD check --install=check:bugphyzz.install-out.txt --library=/home/biocbuild/bbs-3.22-bioc/R/site-library --timings bugphyzz_1.3.0.tar.gz
StartedAt: 2025-07-10 12:04:13 -0400 (Thu, 10 Jul 2025)
EndedAt: 2025-07-10 12:15:04 -0400 (Thu, 10 Jul 2025)
EllapsedTime: 650.6 seconds
RetCode: 1
Status:   ERROR  
CheckDir: bugphyzz.Rcheck
Warnings: NA

Command output

##############################################################################
##############################################################################
###
### Running command:
###
###   /home/biocbuild/bbs-3.22-bioc/R/bin/R CMD check --install=check:bugphyzz.install-out.txt --library=/home/biocbuild/bbs-3.22-bioc/R/site-library --timings bugphyzz_1.3.0.tar.gz
###
##############################################################################
##############################################################################


* using log directory ‘/home/biocbuild/bbs-3.22-data-experiment/meat/bugphyzz.Rcheck’
* using R version 4.5.1 (2025-06-13)
* using platform: x86_64-pc-linux-gnu
* R was compiled by
    gcc (Ubuntu 13.3.0-6ubuntu2~24.04) 13.3.0
    GNU Fortran (Ubuntu 13.3.0-6ubuntu2~24.04) 13.3.0
* running under: Ubuntu 24.04.2 LTS
* using session charset: UTF-8
* checking for file ‘bugphyzz/DESCRIPTION’ ... OK
* this is package ‘bugphyzz’ version ‘1.3.0’
* package encoding: UTF-8
* checking package namespace information ... OK
* checking package dependencies ... OK
* checking if this is a source package ... OK
* checking if there is a namespace ... OK
* checking for hidden files and directories ... OK
* checking for portable file names ... OK
* checking for sufficient/correct file permissions ... OK
* checking whether package ‘bugphyzz’ can be installed ... OK
* checking installed package size ... OK
* checking package directory ... OK
* checking ‘build’ directory ... OK
* checking DESCRIPTION meta-information ... OK
* checking top-level files ... OK
* checking for left-over files ... OK
* checking index information ... OK
* checking package subdirectories ... OK
* checking code files for non-ASCII characters ... OK
* checking R files for syntax errors ... OK
* checking whether the package can be loaded ... OK
* checking whether the package can be loaded with stated dependencies ... OK
* checking whether the package can be unloaded cleanly ... OK
* checking whether the namespace can be loaded with stated dependencies ... OK
* checking whether the namespace can be unloaded cleanly ... OK
* checking loading without being on the library search path ... OK
* checking dependencies in R code ... OK
* checking S3 generic/method consistency ... OK
* checking replacement functions ... OK
* checking foreign function calls ... OK
* checking R code for possible problems ... OK
* checking Rd files ... OK
* checking Rd metadata ... OK
* checking Rd cross-references ... OK
* checking for missing documentation entries ... OK
* checking for code/documentation mismatches ... OK
* checking Rd \usage sections ... OK
* checking Rd contents ... OK
* checking for unstated dependencies in examples ... OK
* checking R/sysdata.rda ... OK
* checking files in ‘vignettes’ ... OK
* checking examples ... OK
Examples with CPU (user + system) or elapsed time > 5s
                     user system elapsed
physiologies       54.715  2.320 118.394
getTaxonSignatures 15.750  0.790  17.089
makeSignatures     12.248  0.495  13.922
importBugphyzz     11.975  0.506  12.857
* checking for unstated dependencies in ‘tests’ ... OK
* checking tests ...
  Running ‘testthat.R’
 ERROR
Running the tests in ‘tests/testthat.R’ failed.
Last 13 lines of output:
       ▆
    1. ├─base::suppressWarnings(physiologies()) at test-physiologies.R:3:1
    2. │ └─base::withCallingHandlers(...)
    3. └─bugphyzz::physiologies()
    4.   └─bugphyzz:::.importSpreadsheets(keyword = keyword)
    5.     └─base::lapply(...)
    6.       └─bugphyzz (local) FUN(X[[i]], ...)
    7.         ├─dplyr::distinct(utils::read.csv(url))
    8.         └─utils::read.csv(url)
    9.           └─utils::read.table(...)
   10.             └─base::file(file, "rt")
  
  [ FAIL 1 | WARN 0 | SKIP 0 | PASS 30 ]
  Error: Test failures
  Execution halted
* checking for unstated dependencies in vignettes ... OK
* checking package vignettes ... OK
* checking re-building of vignette outputs ... OK
* checking PDF version of manual ... OK
* DONE

Status: 1 ERROR
See
  ‘/home/biocbuild/bbs-3.22-data-experiment/meat/bugphyzz.Rcheck/00check.log’
for details.


Installation output

bugphyzz.Rcheck/00install.out

##############################################################################
##############################################################################
###
### Running command:
###
###   /home/biocbuild/bbs-3.22-bioc/R/bin/R CMD INSTALL bugphyzz
###
##############################################################################
##############################################################################


* installing to library ‘/home/biocbuild/bbs-3.22-bioc/R/site-library’
* installing *source* package ‘bugphyzz’ ...
** this is package ‘bugphyzz’ version ‘1.3.0’
** using staged installation
** R
** inst
** byte-compile and prepare package for lazy loading
** help
*** installing help indices
*** copying figures
** building package indices
** installing vignettes
** testing if installed package can be loaded from temporary location
** testing if installed package can be loaded from final location
** testing if installed package keeps a record of temporary installation path
* DONE (bugphyzz)

Tests output

bugphyzz.Rcheck/tests/testthat.Rout.fail


R version 4.5.1 (2025-06-13) -- "Great Square Root"
Copyright (C) 2025 The R Foundation for Statistical Computing
Platform: x86_64-pc-linux-gnu

R is free software and comes with ABSOLUTELY NO WARRANTY.
You are welcome to redistribute it under certain conditions.
Type 'license()' or 'licence()' for distribution details.

R is a collaborative project with many contributors.
Type 'contributors()' for more information and
'citation()' on how to cite R or R packages in publications.

Type 'demo()' for some demos, 'help()' for on-line help, or
'help.start()' for an HTML browser interface to help.
Type 'q()' to quit R.

> library(testthat)
> library(bugphyzz)
> 
> test_check("bugphyzz")
Using data downloaded on 2025-07-08 16:07:02.

Attaching package: 'purrr'

The following object is masked from 'package:testthat':

    is_null

Importing binary data...
Replacing previous version downloaded on 2025-07-08 16:06:47.

Using data downloaded on 2025-07-10 16:07:29.
Importing multistate data...
Replacing previous version downloaded on 2025-07-08 16:06:49.

Using data downloaded on 2025-07-10 16:07:31.
Importing numeric data...
Replacing previous version downloaded on 2025-07-08 16:06:58.

Using data downloaded on 2025-07-10 16:07:40.
Importing binary data...
Replacing previous version downloaded on 2025-07-10 16:07:29.

Using data downloaded on 2025-07-10 16:07:44.
Importing multistate data...
Replacing previous version downloaded on 2025-07-10 16:07:31.

Using data downloaded on 2025-07-10 16:07:47.
Importing numeric data...
Replacing previous version downloaded on 2025-07-10 16:07:40.

Using data downloaded on 2025-07-10 16:07:56.
Replacing previous version downloaded on 2025-07-08 16:07:02.

Using data downloaded on 2025-07-10 16:08:00.
Loading required package: stats4
Loading required package: BiocGenerics
Loading required package: generics

Attaching package: 'generics'

The following objects are masked from 'package:base':

    as.difftime, as.factor, as.ordered, intersect, is.element, setdiff,
    setequal, union


Attaching package: 'BiocGenerics'

The following objects are masked from 'package:stats':

    IQR, mad, sd, var, xtabs

The following objects are masked from 'package:base':

    Filter, Find, Map, Position, Reduce, anyDuplicated, aperm, append,
    as.data.frame, basename, cbind, colnames, dirname, do.call,
    duplicated, eval, evalq, get, grep, grepl, is.unsorted, lapply,
    mapply, match, mget, order, paste, pmax, pmax.int, pmin, pmin.int,
    rank, rbind, rownames, sapply, saveRDS, table, tapply, unique,
    unsplit, which.max, which.min


Attaching package: 'S4Vectors'

The following object is masked from 'package:utils':

    findMatches

The following objects are masked from 'package:base':

    I, expand.grid, unname

Using data downloaded on 2025-07-10 16:08:00.
Using data downloaded on 2025-07-10 16:08:00.
All physiologies will be imported.
[ FAIL 1 | WARN 0 | SKIP 0 | PASS 30 ]

══ Failed tests ════════════════════════════════════════════════════════════════
── Error ('test-physiologies.R:3:1'): (code run outside of `test_that()`) ──────
Error in `file(file, "rt")`: cannot open the connection to 'https://docs.google.com/spreadsheets/d/e/2PACX-1vRxQOO7O7oJDJrFbY3s1Y_rbouUSR3rM_a3kGlXgcVMys5pFLqmd00VjJh1adJBmh3xA3aM8r3Am2oC/pub?output=csv'
Backtrace:
     ▆
  1. ├─base::suppressWarnings(physiologies()) at test-physiologies.R:3:1
  2. │ └─base::withCallingHandlers(...)
  3. └─bugphyzz::physiologies()
  4.   └─bugphyzz:::.importSpreadsheets(keyword = keyword)
  5.     └─base::lapply(...)
  6.       └─bugphyzz (local) FUN(X[[i]], ...)
  7.         ├─dplyr::distinct(utils::read.csv(url))
  8.         └─utils::read.csv(url)
  9.           └─utils::read.table(...)
 10.             └─base::file(file, "rt")

[ FAIL 1 | WARN 0 | SKIP 0 | PASS 30 ]
Error: Test failures
Execution halted

Example timings

bugphyzz.Rcheck/bugphyzz-Ex.timings

nameusersystemelapsed
getTaxonSignatures15.750 0.79017.089
importBugphyzz11.975 0.50612.857
makeSignatures12.248 0.49513.922
physiologies 54.715 2.320118.394
showPhys0.0050.0000.006