| Back to Build/check report for BioC 3.22 experimental data |
|
This page was generated on 2025-10-21 15:41 -0400 (Tue, 21 Oct 2025).
| Hostname | OS | Arch (*) | R version | Installed pkgs |
|---|---|---|---|---|
| nebbiolo2 | Linux (Ubuntu 24.04.3 LTS) | x86_64 | 4.5.1 Patched (2025-08-23 r88802) -- "Great Square Root" | 4888 |
| Click on any hostname to see more info about the system (e.g. compilers) (*) as reported by 'uname -p', except on Windows and Mac OS X | ||||
| Package 83/435 | Hostname | OS / Arch | INSTALL | BUILD | CHECK | ||||||||
| curatedBreastData 2.37.0 (landing page) Katie Planey
| nebbiolo2 | Linux (Ubuntu 24.04.3 LTS) / x86_64 | OK | OK | OK | ||||||||
|
To the developers/maintainers of the curatedBreastData package: - Use the following Renviron settings to reproduce errors and warnings. - If 'R CMD check' started to fail recently on the Linux builder(s) over a missing dependency, add the missing dependency to 'Suggests:' in your DESCRIPTION file. See Renviron.bioc for more information. |
| Package: curatedBreastData |
| Version: 2.37.0 |
| Command: /home/biocbuild/bbs-3.22-bioc/R/bin/R CMD check --install=check:curatedBreastData.install-out.txt --library=/home/biocbuild/bbs-3.22-bioc/R/site-library --timings curatedBreastData_2.37.0.tar.gz |
| StartedAt: 2025-10-21 12:11:28 -0400 (Tue, 21 Oct 2025) |
| EndedAt: 2025-10-21 12:18:38 -0400 (Tue, 21 Oct 2025) |
| EllapsedTime: 430.0 seconds |
| RetCode: 0 |
| Status: OK |
| CheckDir: curatedBreastData.Rcheck |
| Warnings: 0 |
##############################################################################
##############################################################################
###
### Running command:
###
### /home/biocbuild/bbs-3.22-bioc/R/bin/R CMD check --install=check:curatedBreastData.install-out.txt --library=/home/biocbuild/bbs-3.22-bioc/R/site-library --timings curatedBreastData_2.37.0.tar.gz
###
##############################################################################
##############################################################################
* using log directory ‘/home/biocbuild/bbs-3.22-data-experiment/meat/curatedBreastData.Rcheck’
* using R version 4.5.1 Patched (2025-08-23 r88802)
* using platform: x86_64-pc-linux-gnu
* R was compiled by
gcc (Ubuntu 13.3.0-6ubuntu2~24.04) 13.3.0
GNU Fortran (Ubuntu 13.3.0-6ubuntu2~24.04) 13.3.0
* running under: Ubuntu 24.04.3 LTS
* using session charset: UTF-8
* checking for file ‘curatedBreastData/DESCRIPTION’ ... OK
* checking extension type ... Package
* this is package ‘curatedBreastData’ version ‘2.37.0’
* checking package namespace information ... OK
* checking package dependencies ... OK
* checking if this is a source package ... OK
* checking if there is a namespace ... OK
* checking for hidden files and directories ... OK
* checking for portable file names ... OK
* checking for sufficient/correct file permissions ... OK
* checking whether package ‘curatedBreastData’ can be installed ... OK
* checking installed package size ... INFO
installed size is 282.8Mb
sub-directories of 1Mb or more:
data 282.7Mb
* checking package directory ... OK
* checking ‘build’ directory ... OK
* checking DESCRIPTION meta-information ... OK
* checking top-level files ... OK
* checking for left-over files ... OK
* checking index information ... OK
* checking package subdirectories ... OK
* checking code files for non-ASCII characters ... OK
* checking R files for syntax errors ... OK
* checking whether the package can be loaded ... OK
* checking whether the package can be loaded with stated dependencies ... OK
* checking whether the package can be unloaded cleanly ... OK
* checking whether the namespace can be loaded with stated dependencies ... OK
* checking whether the namespace can be unloaded cleanly ... OK
* checking loading without being on the library search path ... OK
* checking dependencies in R code ... OK
* checking S3 generic/method consistency ... OK
* checking replacement functions ... OK
* checking foreign function calls ... OK
* checking R code for possible problems ... OK
* checking Rd files ... OK
* checking Rd metadata ... OK
* checking Rd cross-references ... OK
* checking for missing documentation entries ... OK
* checking for code/documentation mismatches ... OK
* checking Rd \usage sections ... OK
* checking Rd contents ... OK
* checking for unstated dependencies in examples ... OK
* checking contents of ‘data’ directory ... OK
* checking data for non-ASCII characters ... OK
* checking data for ASCII and uncompressed saves ... OK
* checking files in ‘vignettes’ ... OK
* checking examples ... OK
Examples with CPU (user + system) or elapsed time > 5s
user system elapsed
collapseDupProbes 63.583 1.142 64.730
processExpressionSet 35.020 0.431 35.455
filterAndImputeSamples 33.668 0.938 34.606
filterGenesByVariance 30.779 0.310 31.092
curatedBreastDataExprSetList 30.547 0.499 31.046
removeDuplicatedPatients 30.411 0.369 30.780
* checking for unstated dependencies in vignettes ... OK
* checking package vignettes ... OK
* checking re-building of vignette outputs ... OK
* checking PDF version of manual ... OK
* DONE
Status: OK
curatedBreastData.Rcheck/00install.out
############################################################################## ############################################################################## ### ### Running command: ### ### /home/biocbuild/bbs-3.22-bioc/R/bin/R CMD INSTALL curatedBreastData ### ############################################################################## ############################################################################## * installing to library ‘/home/biocbuild/bbs-3.22-bioc/R/site-library’ * installing *source* package ‘curatedBreastData’ ... ** this is package ‘curatedBreastData’ version ‘2.37.0’ ** using staged installation ** R ** data ** inst ** byte-compile and prepare package for lazy loading ** help *** installing help indices ** building package indices ** installing vignettes ** testing if installed package can be loaded from temporary location ** testing if installed package can be loaded from final location ** testing if installed package keeps a record of temporary installation path * DONE (curatedBreastData)
curatedBreastData.Rcheck/curatedBreastData-Ex.timings
| name | user | system | elapsed | |
| clinicalData | 0.044 | 0.007 | 0.051 | |
| collapseDupProbes | 63.583 | 1.142 | 64.730 | |
| curatedBreastData-package | 0 | 0 | 0 | |
| curatedBreastDataExprSetList | 30.547 | 0.499 | 31.046 | |
| filterAndImputeSamples | 33.668 | 0.938 | 34.606 | |
| filterGenesByVariance | 30.779 | 0.310 | 31.092 | |
| processExpressionSet | 35.020 | 0.431 | 35.455 | |
| processExpressionSetList | 0 | 0 | 0 | |
| removeDuplicatedPatients | 30.411 | 0.369 | 30.780 | |