Back to Build/check report for BioC 3.22 experimental data
ABCDEF[G]HIJKLMNOPQRSTUVWXYZ

This page was generated on 2025-11-13 15:41 -0500 (Thu, 13 Nov 2025).

HostnameOSArch (*)R versionInstalled pkgs
nebbiolo2Linux (Ubuntu 24.04.3 LTS)x86_644.5.1 Patched (2025-08-23 r88802) -- "Great Square Root" 4903
Click on any hostname to see more info about the system (e.g. compilers)      (*) as reported by 'uname -p', except on Windows and Mac OS X

Package 150/435HostnameOS / ArchINSTALLBUILDCHECK
geneLenDataBase 1.46.0  (landing page)
Federico Marini
Snapshot Date: 2025-11-13 07:30 -0500 (Thu, 13 Nov 2025)
git_url: https://git.bioconductor.org/packages/geneLenDataBase
git_branch: RELEASE_3_22
git_last_commit: 0bae7f6
git_last_commit_date: 2025-10-29 09:31:54 -0500 (Wed, 29 Oct 2025)
nebbiolo2Linux (Ubuntu 24.04.3 LTS) / x86_64  OK    OK    OK  UNNEEDED, same version is already published


CHECK results for geneLenDataBase on nebbiolo2

To the developers/maintainers of the geneLenDataBase package:
- Use the following Renviron settings to reproduce errors and warnings.
- If 'R CMD check' started to fail recently on the Linux builder(s) over a missing dependency, add the missing dependency to 'Suggests:' in your DESCRIPTION file. See Renviron.bioc for more information.

raw results


Summary

Package: geneLenDataBase
Version: 1.46.0
Command: /home/biocbuild/bbs-3.22-bioc/R/bin/R CMD check --install=check:geneLenDataBase.install-out.txt --library=/home/biocbuild/bbs-3.22-bioc/R/site-library --timings geneLenDataBase_1.46.0.tar.gz
StartedAt: 2025-11-13 12:28:11 -0500 (Thu, 13 Nov 2025)
EndedAt: 2025-11-13 12:37:42 -0500 (Thu, 13 Nov 2025)
EllapsedTime: 571.0 seconds
RetCode: 0
Status:   OK  
CheckDir: geneLenDataBase.Rcheck
Warnings: 0

Command output

##############################################################################
##############################################################################
###
### Running command:
###
###   /home/biocbuild/bbs-3.22-bioc/R/bin/R CMD check --install=check:geneLenDataBase.install-out.txt --library=/home/biocbuild/bbs-3.22-bioc/R/site-library --timings geneLenDataBase_1.46.0.tar.gz
###
##############################################################################
##############################################################################


* using log directory ‘/home/biocbuild/bbs-3.22-data-experiment/meat/geneLenDataBase.Rcheck’
* using R version 4.5.1 Patched (2025-08-23 r88802)
* using platform: x86_64-pc-linux-gnu
* R was compiled by
    gcc (Ubuntu 13.3.0-6ubuntu2~24.04) 13.3.0
    GNU Fortran (Ubuntu 13.3.0-6ubuntu2~24.04) 13.3.0
* running under: Ubuntu 24.04.3 LTS
* using session charset: UTF-8
* checking for file ‘geneLenDataBase/DESCRIPTION’ ... OK
* this is package ‘geneLenDataBase’ version ‘1.46.0’
* package encoding: UTF-8
* checking package namespace information ... OK
* checking package dependencies ... OK
* checking if this is a source package ... OK
* checking if there is a namespace ... OK
* checking for hidden files and directories ... OK
* checking for portable file names ... OK
* checking for sufficient/correct file permissions ... OK
* checking whether package ‘geneLenDataBase’ can be installed ... OK
* checking installed package size ... INFO
  installed size is 100.3Mb
  sub-directories of 1Mb or more:
    data  99.7Mb
* checking package directory ... OK
* checking DESCRIPTION meta-information ... OK
* checking top-level files ... OK
* checking for left-over files ... OK
* checking index information ... OK
* checking package subdirectories ... OK
* checking code files for non-ASCII characters ... OK
* checking R files for syntax errors ... OK
* checking whether the package can be loaded ... OK
* checking whether the package can be loaded with stated dependencies ... OK
* checking whether the package can be unloaded cleanly ... OK
* checking whether the namespace can be loaded with stated dependencies ... OK
* checking whether the namespace can be unloaded cleanly ... OK
* checking loading without being on the library search path ... OK
* checking dependencies in R code ... NOTE
Unexported object imported by a ':::' call: ‘txdbmaker:::.UCSC_TXNAME2GENEID_MAPDEFS’
  See the note in ?`:::` about the use of this operator.
* checking S3 generic/method consistency ... OK
* checking replacement functions ... OK
* checking foreign function calls ... OK
* checking R code for possible problems ... OK
* checking Rd files ... OK
* checking Rd metadata ... OK
* checking Rd cross-references ... OK
* checking for missing documentation entries ... OK
* checking for code/documentation mismatches ... OK
* checking Rd \usage sections ... OK
* checking Rd contents ... OK
* checking for unstated dependencies in examples ... OK
* checking contents of ‘data’ directory ... OK
* checking data for non-ASCII characters ... OK
* checking data for ASCII and uncompressed saves ... OK
* checking examples ... OK
Examples with CPU (user + system) or elapsed time > 5s
                 user system elapsed
supportedGeneIDs 3.75  0.407   6.445
* checking PDF version of manual ... OK
* DONE

Status: 1 NOTE
See
  ‘/home/biocbuild/bbs-3.22-data-experiment/meat/geneLenDataBase.Rcheck/00check.log’
for details.


Installation output

geneLenDataBase.Rcheck/00install.out

##############################################################################
##############################################################################
###
### Running command:
###
###   /home/biocbuild/bbs-3.22-bioc/R/bin/R CMD INSTALL geneLenDataBase
###
##############################################################################
##############################################################################


* installing to library ‘/home/biocbuild/bbs-3.22-bioc/R/site-library’
* installing *source* package ‘geneLenDataBase’ ...
** this is package ‘geneLenDataBase’ version ‘1.46.0’
** using staged installation
** R
** data
** byte-compile and prepare package for lazy loading
** help
*** installing help indices
** building package indices
** testing if installed package can be loaded from temporary location
** testing if installed package can be loaded from final location
** testing if installed package keeps a record of temporary installation path
* DONE (geneLenDataBase)

Tests output


Example timings

geneLenDataBase.Rcheck/geneLenDataBase-Ex.timings

nameusersystemelapsed
anoCar1.ensGene.LENGTH0.0730.0060.079
anoCar1.genscan.LENGTH0.0450.0040.049
anoCar1.xenoRefGene.LENGTH0.8020.0030.806
anoGam1.ensGene.LENGTH0.0590.0080.067
anoGam1.geneid.LENGTH0.0430.0030.046
anoGam1.genscan.LENGTH0.0410.0000.041
apiMel1.genscan.LENGTH0.0360.0020.038
apiMel2.ensGene.LENGTH0.0900.0020.092
apiMel2.geneid.LENGTH0.1170.0060.122
apiMel2.genscan.LENGTH0.0300.0010.030
aplCal1.xenoRefGene.LENGTH0.4230.0030.426
bosTau2.geneSymbol.LENGTH0.0390.0000.039
bosTau2.geneid.LENGTH0.2330.0080.241
bosTau2.genscan.LENGTH0.0850.0020.087
bosTau2.refGene.LENGTH0.0410.0000.041
bosTau2.sgpGene.LENGTH0.1000.0010.100
bosTau3.ensGene.LENGTH0.1050.0020.106
bosTau3.geneSymbol.LENGTH0.0360.0010.038
bosTau3.geneid.LENGTH0.1550.0100.165
bosTau3.genscan.LENGTH0.0650.0000.066
bosTau3.refGene.LENGTH0.0320.0000.033
bosTau3.sgpGene.LENGTH0.0860.0000.086
bosTau4.ensGene.LENGTH0.0950.0010.096
bosTau4.geneSymbol.LENGTH0.0320.0000.032
bosTau4.genscan.LENGTH0.0630.0000.064
bosTau4.nscanGene.LENGTH0.0260.0010.027
bosTau4.refGene.LENGTH0.0290.0010.030
braFlo1.xenoRefGene.LENGTH0.3720.0080.381
caeJap1.xenoRefGene.LENGTH0.3300.0010.331
caePb1.xenoRefGene.LENGTH0.4260.0020.428
caePb2.xenoRefGene.LENGTH0.4100.0010.410
caeRem2.xenoRefGene.LENGTH0.3690.0030.371
caeRem3.xenoRefGene.LENGTH0.3440.0030.348
calJac1.genscan.LENGTH0.0870.0090.096
calJac1.nscanGene.LENGTH0.1100.0020.112
calJac1.xenoRefGene.LENGTH0.7580.0040.762
canFam1.ensGene.LENGTH0.1080.0000.108
canFam1.geneSymbol.LENGTH0.0050.0000.005
canFam1.genscan.LENGTH0.0610.0010.063
canFam1.nscanGene.LENGTH0.0630.0000.064
canFam1.refGene.LENGTH0.0050.0000.005
canFam1.xenoRefGene.LENGTH0.5350.0040.539
canFam2.ensGene.LENGTH0.0930.0020.094
canFam2.geneSymbol.LENGTH0.0030.0020.005
canFam2.genscan.LENGTH0.0540.0010.054
canFam2.nscanGene.LENGTH0.0590.0010.059
canFam2.refGene.LENGTH0.0040.0010.005
canFam2.xenoRefGene.LENGTH0.5610.0020.563
cavPor3.ensGene.LENGTH0.2860.0050.290
cavPor3.genscan.LENGTH0.0920.0000.093
cavPor3.nscanGene.LENGTH0.0610.0000.061
cavPor3.xenoRefGene.LENGTH0.5500.0010.550
cb1.xenoRefGene.LENGTH0.3700.0010.371
cb3.xenoRefGene.LENGTH0.3070.0020.309
ce2.geneSymbol.LENGTH0.0640.0000.064
ce2.geneid.LENGTH0.0530.0000.053
ce2.refGene.LENGTH0.0610.0010.062
ce4.geneSymbol.LENGTH0.0630.0010.065
ce4.refGene.LENGTH0.0580.0000.058
ce4.xenoRefGene.LENGTH0.0770.0020.079
ce6.ensGene.LENGTH0.0870.0010.088
ce6.geneSymbol.LENGTH0.0650.0010.066
ce6.refGene.LENGTH0.0620.0000.061
ce6.xenoRefGene.LENGTH0.0790.0000.078
ci1.geneSymbol.LENGTH0.0040.0000.005
ci1.refGene.LENGTH0.0040.0010.004
ci1.xenoRefGene.LENGTH0.1810.0000.182
ci2.ensGene.LENGTH0.0750.0000.076
ci2.geneSymbol.LENGTH0.0040.0020.006
ci2.refGene.LENGTH0.0050.0000.005
ci2.xenoRefGene.LENGTH1.1750.2471.423
danRer3.ensGene.LENGTH0.0920.0010.094
danRer3.geneSymbol.LENGTH0.0510.0000.051
danRer3.refGene.LENGTH0.0460.0010.048
danRer4.ensGene.LENGTH0.110.000.11
danRer4.geneSymbol.LENGTH0.050.000.05
danRer4.genscan.LENGTH0.0570.0000.057
danRer4.nscanGene.LENGTH0.0810.0010.081
danRer4.refGene.LENGTH0.0460.0010.046
danRer5.ensGene.LENGTH0.1050.0000.105
danRer5.geneSymbol.LENGTH0.0460.0000.047
danRer5.refGene.LENGTH0.0430.0000.043
danRer5.vegaGene.LENGTH0.0430.0010.044
danRer5.vegaPseudoGene.LENGTH0.0020.0000.003
danRer6.ensGene.LENGTH0.1030.0000.103
danRer6.geneSymbol.LENGTH0.0470.0000.048
danRer6.refGene.LENGTH0.0430.0000.044
danRer6.xenoRefGene.LENGTH0.4770.0000.478
dm1.geneSymbol.LENGTH0.060.000.06
dm1.genscan.LENGTH0.0210.0010.023
dm1.refGene.LENGTH0.0570.0000.057
dm2.geneSymbol.LENGTH0.0620.0000.061
dm2.geneid.LENGTH0.0350.0000.035
dm2.genscan.LENGTH0.0220.0000.023
dm2.nscanGene.LENGTH0.0490.0000.048
dm2.refGene.LENGTH0.0570.0010.057
dm3.geneSymbol.LENGTH0.0660.0010.067
dm3.nscanPasaGene.LENGTH0.0490.0010.050
dm3.refGene.LENGTH0.0660.0070.074
downloadLengthFromUCSC000
dp2.genscan.LENGTH0.0290.0010.030
dp2.xenoRefGene.LENGTH0.1940.0000.195
dp3.geneid.LENGTH0.0340.0020.036
dp3.genscan.LENGTH0.0230.0010.023
dp3.xenoRefGene.LENGTH0.1030.0000.103
droAna1.geneid.LENGTH0.0670.0010.068
droAna1.genscan.LENGTH0.0220.0000.022
droAna1.xenoRefGene.LENGTH0.1970.0080.205
droAna2.genscan.LENGTH0.0460.0020.047
droAna2.xenoRefGene.LENGTH0.2570.0020.259
droEre1.genscan.LENGTH0.0290.0000.029
droEre1.xenoRefGene.LENGTH0.2420.0010.243
droGri1.genscan.LENGTH0.0370.0010.037
droGri1.xenoRefGene.LENGTH0.2580.0120.270
droMoj1.geneid.LENGTH0.1150.0060.122
droMoj1.genscan.LENGTH0.0550.0000.055
droMoj1.xenoRefGene.LENGTH0.1960.0020.198
droMoj2.genscan.LENGTH0.0330.0010.033
droMoj2.xenoRefGene.LENGTH0.2500.0160.267
droPer1.genscan.LENGTH0.0370.0060.043
droPer1.xenoRefGene.LENGTH0.2460.0060.253
droSec1.genscan.LENGTH0.0280.0000.028
droSec1.xenoRefGene.LENGTH0.2460.0060.252
droSim1.geneid.LENGTH0.0340.0010.035
droSim1.genscan.LENGTH0.0240.0010.025
droSim1.xenoRefGene.LENGTH0.3340.0190.353
droVir1.geneid.LENGTH0.0940.0020.096
droVir1.genscan.LENGTH0.0380.0010.039
droVir1.xenoRefGene.LENGTH0.2220.0020.224
droVir2.genscan.LENGTH0.0330.0000.032
droVir2.xenoRefGene.LENGTH0.2420.0010.244
droYak1.geneid.LENGTH0.0410.0000.041
droYak1.genscan.LENGTH0.0260.0010.027
droYak1.xenoRefGene.LENGTH0.1980.0010.200
droYak2.genscan.LENGTH0.0260.0000.026
droYak2.xenoRefGene.LENGTH0.2390.0020.241
equCab1.geneSymbol.LENGTH0.0030.0010.005
equCab1.geneid.LENGTH0.0810.0020.083
equCab1.nscanGene.LENGTH0.0380.0010.038
equCab1.refGene.LENGTH0.0040.0000.004
equCab1.sgpGene.LENGTH0.0650.0010.065
equCab2.ensGene.LENGTH0.0920.0010.093
equCab2.geneSymbol.LENGTH0.0050.0010.006
equCab2.nscanGene.LENGTH0.0480.0000.048
equCab2.refGene.LENGTH0.0050.0010.006
equCab2.xenoRefGene.LENGTH0.5380.0030.540
felCat3.ensGene.LENGTH0.0930.0020.095
felCat3.geneSymbol.LENGTH0.0030.0010.004
felCat3.geneid.LENGTH0.4840.0180.502
felCat3.genscan.LENGTH0.1070.0050.112
felCat3.nscanGene.LENGTH0.2570.0090.266
felCat3.refGene.LENGTH0.0020.0010.003
felCat3.sgpGene.LENGTH0.1340.0010.135
felCat3.xenoRefGene.LENGTH1.0920.0401.131
fr1.ensGene.LENGTH0.0770.0020.079
fr1.genscan.LENGTH0.0580.0010.060
fr2.ensGene.LENGTH0.6530.0140.666
galGal2.ensGene.LENGTH0.0490.0030.052
galGal2.geneSymbol.LENGTH0.0150.0010.016
galGal2.geneid.LENGTH0.0340.0010.035
galGal2.genscan.LENGTH0.0470.0010.048
galGal2.refGene.LENGTH0.0140.0010.015
galGal2.sgpGene.LENGTH0.0420.0010.043
galGal3.ensGene.LENGTH0.0660.0020.067
galGal3.geneSymbol.LENGTH0.0130.0020.015
galGal3.genscan.LENGTH0.0460.0010.047
galGal3.nscanGene.LENGTH0.0670.0000.068
galGal3.refGene.LENGTH0.0140.0000.014
galGal3.xenoRefGene.LENGTH0.4330.0010.433
gasAcu1.ensGene.LENGTH0.080.000.08
gasAcu1.nscanGene.LENGTH0.0820.0000.082
hg16.acembly.LENGTH0.3200.0020.321
hg16.ensGene.LENGTH0.0650.0000.066
hg16.exoniphy.LENGTH0.2230.0000.223
hg16.geneSymbol.LENGTH0.0990.0010.100
hg16.geneid.LENGTH0.0470.0000.047
hg16.genscan.LENGTH0.0560.0030.059
hg16.knownGene.LENGTH0.1100.0010.111
hg16.refGene.LENGTH0.0920.0000.092
hg16.sgpGene.LENGTH0.0530.0010.053
hg17.acembly.LENGTH0.3870.0020.390
hg17.acescan.LENGTH0.010.000.01
hg17.ccdsGene.LENGTH0.0210.0010.023
hg17.ensGene.LENGTH0.1000.0010.102
hg17.exoniphy.LENGTH0.3740.0020.377
hg17.geneSymbol.LENGTH0.1020.0010.103
hg17.geneid.LENGTH0.0710.0010.072
hg17.genscan.LENGTH0.0550.0000.055
hg17.knownGene.LENGTH0.1000.0010.101
hg17.refGene.LENGTH0.0900.0010.092
hg17.sgpGene.LENGTH0.070.000.07
hg17.vegaGene.LENGTH0.0390.0000.040
hg17.vegaPseudoGene.LENGTH0.0170.0000.017
hg17.xenoRefGene.LENGTH0.4340.0000.433
hg18.acembly.LENGTH0.4110.0040.415
hg18.acescan.LENGTH0.0080.0010.010
hg18.ccdsGene.LENGTH0.0310.0000.031
hg18.ensGene.LENGTH0.1730.0010.174
hg18.exoniphy.LENGTH0.4200.0010.422
hg18.geneSymbol.LENGTH0.1000.0020.103
hg18.geneid.LENGTH0.0750.0000.074
hg18.genscan.LENGTH0.0560.0010.056
hg18.knownGene.LENGTH0.1390.0000.140
hg18.knownGeneOld3.LENGTH0.0620.0000.063
hg18.refGene.LENGTH0.0880.0010.089
hg18.sgpGene.LENGTH0.0700.0010.072
hg18.sibGene.LENGTH0.6380.0220.660
hg18.xenoRefGene.LENGTH0.3000.0020.302
hg19.ccdsGene.LENGTH0.0380.0000.037
hg19.ensGene.LENGTH0.2700.0010.272
hg19.exoniphy.LENGTH0.4150.0000.415
hg19.geneSymbol.LENGTH0.0950.0030.099
hg19.knownGene.LENGTH0.1600.0000.161
hg19.nscanGene.LENGTH0.1400.0010.141
hg19.refGene.LENGTH0.0920.0010.092
hg19.xenoRefGene.LENGTH0.3260.0000.325
loxAfr3.xenoRefGene.LENGTH0.6760.0070.682
mm7.ensGene.LENGTH0.0990.0020.102
mm7.geneSymbol.LENGTH0.0810.0010.083
mm7.geneid.LENGTH0.0750.0000.076
mm7.genscan.LENGTH0.0600.0020.062
mm7.knownGene.LENGTH0.0880.0010.088
mm7.refGene.LENGTH0.0780.0020.079
mm7.sgpGene.LENGTH0.0710.0010.072
mm7.xenoRefGene.LENGTH0.2720.0020.275
mm8.ccdsGene.LENGTH0.0210.0000.021
mm8.ensGene.LENGTH0.0720.0000.071
mm8.geneSymbol.LENGTH0.0820.0010.083
mm8.geneid.LENGTH0.0730.0000.073
mm8.genscan.LENGTH0.0570.0020.058
mm8.knownGene.LENGTH0.0870.0010.087
mm8.nscanGene.LENGTH0.0590.0000.059
mm8.refGene.LENGTH0.3060.0380.344
mm8.sgpGene.LENGTH0.0740.0000.074
mm8.sibGene.LENGTH0.2330.0040.237
mm8.xenoRefGene.LENGTH0.3310.0010.331
mm9.acembly.LENGTH0.2950.0010.295
mm9.ccdsGene.LENGTH0.0300.0000.029
mm9.ensGene.LENGTH0.1400.0010.140
mm9.exoniphy.LENGTH0.4010.0030.405
mm9.geneSymbol.LENGTH0.0830.0010.084
mm9.geneid.LENGTH0.0800.0020.081
mm9.genscan.LENGTH0.0630.0010.064
mm9.knownGene.LENGTH0.1040.0000.104
mm9.nscanGene.LENGTH0.0590.0010.059
mm9.refGene.LENGTH0.0820.0010.083
mm9.sgpGene.LENGTH0.0820.0020.084
mm9.xenoRefGene.LENGTH0.6930.0090.701
monDom1.genscan.LENGTH0.0590.0010.059
monDom4.ensGene.LENGTH0.0650.0010.065
monDom4.geneSymbol.LENGTH0.0030.0010.003
monDom4.genscan.LENGTH0.0510.0000.051
monDom4.nscanGene.LENGTH0.0500.0010.050
monDom4.refGene.LENGTH0.0030.0010.003
monDom4.xenoRefGene.LENGTH0.3020.0010.303
monDom5.ensGene.LENGTH0.0960.0020.098
monDom5.geneSymbol.LENGTH0.0030.0010.003
monDom5.genscan.LENGTH0.0530.0000.054
monDom5.nscanGene.LENGTH0.1080.0000.108
monDom5.refGene.LENGTH0.0040.0000.003
monDom5.xenoRefGene.LENGTH0.5130.0020.515
ornAna1.ensGene.LENGTH0.0840.0010.086
ornAna1.geneSymbol.LENGTH0.0020.0000.003
ornAna1.refGene.LENGTH0.0020.0000.002
ornAna1.xenoRefGene.LENGTH0.5010.0030.504
oryLat2.ensGene.LENGTH1.0450.2741.320
oryLat2.geneSymbol.LENGTH0.0030.0000.004
oryLat2.refGene.LENGTH0.0020.0010.003
oryLat2.xenoRefGene.LENGTH0.4380.0010.439
panTro1.ensGene.LENGTH0.0880.0000.088
panTro1.geneid.LENGTH0.0430.0000.043
panTro1.genscan.LENGTH0.0520.0010.053
panTro1.xenoRefGene.LENGTH0.1010.0010.103
panTro2.ensGene.LENGTH0.0970.0000.098
panTro2.geneSymbol.LENGTH0.0920.0000.092
panTro2.genscan.LENGTH0.0540.0000.054
panTro2.nscanGene.LENGTH0.0540.0010.055
panTro2.refGene.LENGTH0.0920.0000.092
panTro2.xenoRefGene.LENGTH0.4330.0000.433
petMar1.xenoRefGene.LENGTH0.2390.0000.240
ponAbe2.ensGene.LENGTH0.0770.0000.076
ponAbe2.geneSymbol.LENGTH0.0120.0000.012
ponAbe2.genscan.LENGTH0.0580.0000.058
ponAbe2.nscanGene.LENGTH0.0540.0000.055
ponAbe2.refGene.LENGTH0.0100.0000.011
ponAbe2.xenoRefGene.LENGTH0.5470.0030.551
priPac1.xenoRefGene.LENGTH0.3110.0010.313
rheMac2.ensGene.LENGTH0.1090.0010.109
rheMac2.geneSymbol.LENGTH0.0040.0010.004
rheMac2.geneid.LENGTH0.0630.0030.065
rheMac2.nscanGene.LENGTH0.0550.0010.055
rheMac2.refGene.LENGTH0.0030.0010.004
rheMac2.sgpGene.LENGTH0.0630.0000.064
rheMac2.xenoRefGene.LENGTH0.4070.0030.410
rn3.ensGene.LENGTH0.0880.0010.089
rn3.geneSymbol.LENGTH0.0480.0010.049
rn3.geneid.LENGTH0.0470.0000.048
rn3.genscan.LENGTH0.0570.0010.059
rn3.knownGene.LENGTH0.0200.0010.022
rn3.nscanGene.LENGTH0.0550.0010.057
rn3.refGene.LENGTH0.0460.0000.047
rn3.sgpGene.LENGTH0.0530.0000.052
rn3.xenoRefGene.LENGTH0.4860.0020.487
rn4.ensGene.LENGTH0.1160.0010.117
rn4.geneSymbol.LENGTH0.0490.0010.050
rn4.geneid.LENGTH0.0770.0010.077
rn4.genscan.LENGTH0.0580.0000.058
rn4.knownGene.LENGTH0.0220.0020.023
rn4.nscanGene.LENGTH0.0490.0000.049
rn4.refGene.LENGTH0.0450.0000.046
rn4.sgpGene.LENGTH0.0710.0020.074
rn4.xenoRefGene.LENGTH0.2880.0010.289
sacCer1.ensGene.LENGTH0.0170.0000.017
sacCer2.ensGene.LENGTH0.0160.0000.015
strPur1.geneSymbol.LENGTH0.0040.0000.004
strPur1.genscan.LENGTH0.0590.0020.061
strPur1.refGene.LENGTH0.0030.0010.004
strPur1.xenoRefGene.LENGTH0.4430.0040.446
strPur2.geneSymbol.LENGTH0.0040.0000.004
strPur2.genscan.LENGTH0.0990.0010.099
strPur2.refGene.LENGTH0.0030.0010.003
strPur2.xenoRefGene.LENGTH0.6250.0030.628
supportedGeneIDs3.7500.4076.445
supportedGenomes0.2790.0851.238
taeGut1.ensGene.LENGTH0.0630.0020.067
taeGut1.geneSymbol.LENGTH0.0020.0010.003
taeGut1.genscan.LENGTH0.0310.0010.032
taeGut1.nscanGene.LENGTH0.0250.0010.026
taeGut1.refGene.LENGTH0.0020.0010.003
taeGut1.xenoRefGene.LENGTH0.4610.0450.506
tetNig1.ensGene.LENGTH0.0800.0180.099
tetNig1.geneid.LENGTH0.0630.0160.079
tetNig1.genscan.LENGTH0.0440.0070.052
tetNig1.nscanGene.LENGTH0.0680.0030.071
tetNig2.ensGene.LENGTH0.0680.0040.071
unfactor0.0030.0010.004
xenTro1.genscan.LENGTH0.0790.0160.095
xenTro2.ensGene.LENGTH0.0840.0070.091
xenTro2.geneSymbol.LENGTH0.0300.0010.031
xenTro2.genscan.LENGTH0.0670.0020.069
xenTro2.refGene.LENGTH0.0280.0010.029