Back to Build/check report for BioC 3.22 experimental data
ABCDEFGHIJKL[M]NOPQRSTUVWXYZ

This page was generated on 2025-07-15 15:41 -0400 (Tue, 15 Jul 2025).

HostnameOSArch (*)R versionInstalled pkgs
nebbiolo2Linux (Ubuntu 24.04.1 LTS)x86_644.5.1 (2025-06-13) -- "Great Square Root" 4785
Click on any hostname to see more info about the system (e.g. compilers)      (*) as reported by 'uname -p', except on Windows and Mac OS X

Package 248/429HostnameOS / ArchINSTALLBUILDCHECK
miRNATarget 1.47.0  (landing page)
Y-h. Taguchi
Snapshot Date: 2025-07-15 07:30 -0400 (Tue, 15 Jul 2025)
git_url: https://git.bioconductor.org/packages/miRNATarget
git_branch: devel
git_last_commit: 832a005
git_last_commit_date: 2025-04-15 09:19:04 -0400 (Tue, 15 Apr 2025)
nebbiolo2Linux (Ubuntu 24.04.1 LTS) / x86_64  OK    OK    OK  UNNEEDED, same version is already published


CHECK results for miRNATarget on nebbiolo2

To the developers/maintainers of the miRNATarget package:
- Use the following Renviron settings to reproduce errors and warnings.
- If 'R CMD check' started to fail recently on the Linux builder(s) over a missing dependency, add the missing dependency to 'Suggests:' in your DESCRIPTION file. See Renviron.bioc for more information.

raw results


Summary

Package: miRNATarget
Version: 1.47.0
Command: /home/biocbuild/bbs-3.22-bioc/R/bin/R CMD check --install=check:miRNATarget.install-out.txt --library=/home/biocbuild/bbs-3.22-bioc/R/site-library --timings miRNATarget_1.47.0.tar.gz
StartedAt: 2025-07-15 12:40:01 -0400 (Tue, 15 Jul 2025)
EndedAt: 2025-07-15 12:41:27 -0400 (Tue, 15 Jul 2025)
EllapsedTime: 86.4 seconds
RetCode: 0
Status:   OK  
CheckDir: miRNATarget.Rcheck
Warnings: 0

Command output

##############################################################################
##############################################################################
###
### Running command:
###
###   /home/biocbuild/bbs-3.22-bioc/R/bin/R CMD check --install=check:miRNATarget.install-out.txt --library=/home/biocbuild/bbs-3.22-bioc/R/site-library --timings miRNATarget_1.47.0.tar.gz
###
##############################################################################
##############################################################################


* using log directory ‘/home/biocbuild/bbs-3.22-data-experiment/meat/miRNATarget.Rcheck’
* using R version 4.5.1 (2025-06-13)
* using platform: x86_64-pc-linux-gnu
* R was compiled by
    gcc (Ubuntu 13.3.0-6ubuntu2~24.04) 13.3.0
    GNU Fortran (Ubuntu 13.3.0-6ubuntu2~24.04) 13.3.0
* running under: Ubuntu 24.04.2 LTS
* using session charset: UTF-8
* checking for file ‘miRNATarget/DESCRIPTION’ ... OK
* this is package ‘miRNATarget’ version ‘1.47.0’
* checking package namespace information ... OK
* checking package dependencies ... OK
* checking if this is a source package ... OK
* checking if there is a namespace ... OK
* checking for hidden files and directories ... NOTE
Found the following hidden files and directories:
  vignettes/.goutputstream-8N717W
These were most likely included in error. See section ‘Package
structure’ in the ‘Writing R Extensions’ manual.
* checking for portable file names ... OK
* checking for sufficient/correct file permissions ... OK
* checking whether package ‘miRNATarget’ can be installed ... OK
* checking installed package size ... INFO
  installed size is 59.6Mb
  sub-directories of 1Mb or more:
    data  59.3Mb
* checking package directory ... OK
* checking ‘build’ directory ... OK
* checking DESCRIPTION meta-information ... NOTE
Malformed Description field: should contain one or more complete sentences.
* checking top-level files ... OK
* checking for left-over files ... OK
* checking index information ... OK
* checking package subdirectories ... OK
* checking whether the package can be loaded ... OK
* checking whether the package can be loaded with stated dependencies ... OK
* checking whether the package can be unloaded cleanly ... OK
* checking whether the namespace can be loaded with stated dependencies ... OK
* checking whether the namespace can be unloaded cleanly ... OK
* checking loading without being on the library search path ... OK
* checking Rd files ... OK
* checking Rd metadata ... OK
* checking Rd cross-references ... OK
* checking for missing documentation entries ... OK
* checking for code/documentation mismatches ... OK
* checking Rd \usage sections ... OK
* checking Rd contents ... OK
* checking for unstated dependencies in examples ... OK
* checking contents of ‘data’ directory ... OK
* checking data for non-ASCII characters ... OK
* checking data for ASCII and uncompressed saves ... OK
* checking files in ‘vignettes’ ... OK
* checking examples ... OK
* checking for unstated dependencies in vignettes ... OK
* checking package vignettes ... OK
* checking re-building of vignette outputs ... OK
* checking PDF version of manual ... OK
* DONE

Status: 2 NOTEs
See
  ‘/home/biocbuild/bbs-3.22-data-experiment/meat/miRNATarget.Rcheck/00check.log’
for details.


Installation output

miRNATarget.Rcheck/00install.out

##############################################################################
##############################################################################
###
### Running command:
###
###   /home/biocbuild/bbs-3.22-bioc/R/bin/R CMD INSTALL miRNATarget
###
##############################################################################
##############################################################################


* installing to library ‘/home/biocbuild/bbs-3.22-bioc/R/site-library’
* installing *source* package ‘miRNATarget’ ...
** this is package ‘miRNATarget’ version ‘1.47.0’
** using staged installation
** data
** help
*** installing help indices
** building package indices
** installing vignettes
** testing if installed package can be loaded from temporary location
** testing if installed package can be loaded from final location
** testing if installed package keeps a record of temporary installation path
* DONE (miRNATarget)

Tests output


Example timings

miRNATarget.Rcheck/miRNATarget-Ex.timings

nameusersystemelapsed
HS_conv_id0.0180.0020.020
HS_refseq_to_affy_hc_g1100.0040.0000.005
HS_refseq_to_affy_hg_focus0.0170.0000.017
HS_refseq_to_affy_hg_u133_plus_20.0610.0000.060
HS_refseq_to_affy_hg_u133a0.0380.0000.037
HS_refseq_to_affy_hg_u133a_20.0380.0010.039
HS_refseq_to_affy_hg_u133b0.0190.0000.019
HS_refseq_to_affy_hg_u95a0.0250.0000.024
HS_refseq_to_affy_hg_u95av20.0230.0000.023
HS_refseq_to_affy_hg_u95b0.0140.0010.014
HS_refseq_to_affy_hg_u95c0.0110.0000.011
HS_refseq_to_affy_hg_u95d0.0060.0010.006
HS_refseq_to_affy_hg_u95e0.0100.0010.011
HS_refseq_to_affy_huex_1_0_st_v20.8310.0360.866
HS_refseq_to_affy_hugene_1_0_st_v10.0560.0000.056
HS_refseq_to_affy_hugenefl0.0150.0000.015
HS_refseq_to_affy_u133_x3p0.1530.0040.157
HS_refseq_to_agilent_cgh_44b0.0130.0000.013
HS_refseq_to_agilent_wholegenome0.0660.0000.068
HS_refseq_to_canonical_transcript_stable_id0.0660.0000.067
HS_refseq_to_ccds0.0380.0000.040
HS_refseq_to_codelink0.0380.0000.038
HS_refseq_to_efg_agilent_sureprint_g3_ge_8x60k0.0000.0010.001
HS_refseq_to_efg_agilent_wholegenome_4x44k_v10.0000.0010.001
HS_refseq_to_efg_agilent_wholegenome_4x44k_v20.0000.0000.001
HS_refseq_to_embl0.6870.0200.707
HS_refseq_to_ensembl_exon_id0.0010.0000.001
HS_refseq_to_ensembl_gene_id0.1570.0000.158
HS_refseq_to_ensembl_peptide_id0.0460.0000.046
HS_refseq_to_ensembl_transcript_id0.0560.0000.056
HS_refseq_to_entrezgene0.0510.0000.053
HS_refseq_to_hgnc_id0.0490.0000.050
HS_refseq_to_hgnc_symbol0.1210.0030.124
HS_refseq_to_hgnc_transcript_name0.0480.0000.047
HS_refseq_to_illumina_humanht_120.0480.0000.048
HS_refseq_to_illumina_humanwg_6_v10.0450.0000.045
HS_refseq_to_illumina_humanwg_6_v20.0370.0000.038
HS_refseq_to_illumina_humanwg_6_v30.0460.0000.046
HS_refseq_to_interpro0.1190.0000.120
HS_refseq_to_ipi0.1080.0010.111
HS_refseq_to_merops0.0040.0000.005
HS_refseq_to_pdb0.0920.0030.095
HS_refseq_to_pfam0.0710.0010.072
HS_refseq_to_phalanx_onearray0.040.000.04
HS_refseq_to_protein_id1.0110.0071.020
HS_refseq_to_refseq_dna0.0590.0020.061
HS_refseq_to_refseq_genomic0.0010.0000.001
HS_refseq_to_refseq_peptide0.0930.0010.096
HS_refseq_to_rfam0.0010.0000.003
HS_refseq_to_rfam_gene_name0.0010.0000.001
HS_refseq_to_rfam_transcript_name0.0010.0000.001
HS_refseq_to_smart0.0360.0000.036
HS_refseq_to_tigrfam0.0050.0000.006
HS_refseq_to_ucsc0.0510.0000.053
HS_refseq_to_unigene0.0680.0000.069
HS_refseq_to_uniprot_genename0.0430.0010.044
HS_refseq_to_uniprot_genename_transcript_name0.0010.0000.001
HS_refseq_to_uniprot_sptrembl0.0010.0000.001
HS_refseq_to_uniprot_swissprot0.0000.0000.001
HS_refseq_to_uniprot_swissprot_accession0.0010.0000.001
HS_refseq_to_wikigene_id0.0010.0000.001
HS_refseq_to_wikigene_name0.0460.0000.048
MM_conv_id0.0020.0010.003
MM_refseq_to_affy_mg_u74a0.0160.0000.017
MM_refseq_to_affy_mg_u74av20.0120.0020.014
MM_refseq_to_affy_mg_u74b0.0120.0000.012
MM_refseq_to_affy_mg_u74bv20.0120.0000.012
MM_refseq_to_affy_mg_u74c0.0050.0000.004
MM_refseq_to_affy_mg_u74cv20.0060.0010.006
MM_refseq_to_affy_moe430a0.0310.0030.033
MM_refseq_to_affy_moe430b0.0160.0000.015
MM_refseq_to_affy_moex_1_0_st_v10.7170.0060.723
MM_refseq_to_affy_mogene_1_0_st_v10.0380.0000.039
MM_refseq_to_affy_mouse430_20.0440.0000.046
MM_refseq_to_affy_mouse430a_20.0290.0000.029
MM_refseq_to_affy_mu11ksuba0.0090.0000.010
MM_refseq_to_affy_mu11ksubb0.0070.0000.008
MM_refseq_to_agilent_wholegenome0.0570.0000.058
MM_refseq_to_canonical_transcript_stable_id0.0530.0000.054
MM_refseq_to_ccds0.0290.0000.029
MM_refseq_to_codelink0.0300.0000.029
MM_refseq_to_efg_agilent_sureprint_g3_ge_8x60k0.0010.0000.001
MM_refseq_to_efg_agilent_wholegenome_4x44k_v10.0010.0000.001
MM_refseq_to_efg_agilent_wholegenome_4x44k_v20.0000.0010.001
MM_refseq_to_embl0.2810.0000.281
MM_refseq_to_ensembl_exon_id0.0010.0000.002
MM_refseq_to_ensembl_gene_id0.0350.0010.036
MM_refseq_to_ensembl_peptide_id0.0360.0000.035
MM_refseq_to_ensembl_transcript_id0.0410.0000.040
MM_refseq_to_entrezgene0.0350.0000.035
MM_refseq_to_fantom0.0940.0000.095
MM_refseq_to_illumina_mousewg_6_v10.0470.0010.048
MM_refseq_to_illumina_mousewg_6_v20.0520.0000.053
MM_refseq_to_interpro0.1060.0000.107
MM_refseq_to_ipi0.0010.0000.001
MM_refseq_to_merops0.0040.0000.004
MM_refseq_to_mgi_id0.0400.0010.040
MM_refseq_to_mgi_symbol0.0400.0000.041
MM_refseq_to_mgi_transcript_name0.0410.0000.041
MM_refseq_to_pdb0.0090.0000.010
MM_refseq_to_pfam0.0590.0000.061
MM_refseq_to_phalanx_onearray0.0370.0000.038
MM_refseq_to_protein_id0.4090.0000.411
MM_refseq_to_refseq_dna0.0470.0000.048
MM_refseq_to_refseq_peptide0.0720.0000.074
MM_refseq_to_rfam0.0020.0000.001
MM_refseq_to_rfam_gene_name0.0010.0000.001
MM_refseq_to_rfam_transcript_name0.0000.0000.001
MM_refseq_to_smart0.0280.0020.030
MM_refseq_to_tigrfam0.0050.0000.004
MM_refseq_to_ucsc0.0400.0010.040
MM_refseq_to_unigene0.0500.0000.051
MM_refseq_to_uniprot_genename0.2790.0000.280
MM_refseq_to_uniprot_genename_transcript_name0.0010.0000.002
MM_refseq_to_uniprot_sptrembl0.0010.0000.001
MM_refseq_to_uniprot_swissprot0.0010.0000.001
MM_refseq_to_uniprot_swissprot_accession0.0000.0010.001
MM_refseq_to_wikigene_id0.0010.0000.001
MM_refseq_to_wikigene_name0.0370.0000.039
TBL20.8810.1020.984
TBL2_HS1.2370.1871.424
TBL2_MM0.6970.1120.808
conv_id0.0020.0010.002
id_conv0.0310.0000.030